Workbook
Name DataRange: #REF!
Name DataRange: #REF!
Name DataRange: #REF!

Sheet TOC0
A1: Real Statistics Using Excel - Time Series Examples Workbook
A2: Charles Zaiontz, 4 March 2022
A4: Copyright © 2013 - 2022 Charles Zaiontz
A6: Concise Table of Contents
A8: Forecast Accuracy
A9: Basic Forecasting Methods
A10: Stochastic Processes
A11: Autoregressive Processes
A12: Moving Average Processes
A13: ARMA Processes
A14: ARIMA Processes
A15: SARIMA Processes
... A18: Statistical tables

Sheet TOC
A1: Real Statistics Using Excel - Time Series Examples Workbook
A2: Charles Zaiontz, 4 March 2022
A4: Copyright © 2013 - 2022 Charles Zaiontz
A6: Table of Contents
A8: Forecast Accuracy
A10: Error Statistics
B11: Error statistics
A13: Diebold-Mariano Test
B14: Diebold-Mariano Test and Comparison of Forecasts
B15: HLN Test
A17: Pesaran-Timmermann Test
B18: Pesaran-Timmermann Test
A20: Basic Forecasting Methods
A22: Simple Moving Average
B23: Moving Average Forecast (Example 1)
B24: Excel's Moving Average data analysis tool
B25: Real Statistics Moving Average data analysis tool
A27: Weighted Moving Average
B28: Weighted Moving Average (Example 1)
B29: Optimization of Weighted Moving Average using Solver (Example 2)
A31: Simple Exponential Smoothing
B32: Simple Exponential Smoothing (Example 1)
B33: Excel's Exponential Smoothing data analysis tool
B34: Real Statistics Single Exponential Smoothing data analysis tool
B35: Optimization of Simple Exponential Smoothing using Solver (Example 2)
B36: Real Statistics Simple Exponrntial Smoothing data analysis tool with optimization
A38: Holt's Linear Trend
B39: Holt's Linear Trend (Example 1)
B40: Optimization of Holt's Method using Solver (Example 2)
B41: Optimization of Holt's Method using Solver (minimize MSE)
B42: Forecasting using Holt's Linear Trend (Example 3)
B43: Real Statistics Holt's Linear Trend data analysis tool
B44: Real Statistics Holt's Linear Trend data analysis tool with optimization
A46: Holt-Winters Seasonal Model
B47: Holt-Winters Multiplicative (Example 1)
B48: Holt-Winters Multiplicative (Example 2)
B49: Optimization of Holt-Winters Multiplicative using Solver
B50: Holt-Winters Additive
B51: Holt-Winters Additive data analysis tool
A53: Real Statistics Data Analysis Tools
...

Sheet Error
A1: Error Statistics
A3: data | B3: forecast1 | C3: forecast2 | E3: Error Statistics
A4: 1.2288378 | B4: 0.90283699 | C4: 0.89454344
A5: 2.6684006 | B5: 2.4492678 | C5: 2.3213521 | E5: #NAME? | F5: #NAME? | G5: #NAME? | I5: #NAME? | K5: #NAME?
A6: 3.4177281 | B6: 3.2075581 | C6: 2.5208157 | E6: #NAME? | F6: #NAME? | G6: #NAME? | I6: #NAME? | K6: #NAME?
A7: 2.2391972 | B7: 2.4383221 | C7: 1.908075 | E7: #NAME? | F7: #NAME? | G7: #NAME? | I7: #NAME? | K7: #NAME?
A8: 2.1225599 | B8: 2.7751086 | C8: 0.95078208 | E8: #NAME? | F8: #NAME? | G8: #NAME? | I8: #NAME? | K8: #NAME?
A9: 0.46379872 | B9: 0.59316171 | C9: -0.61066483 | E9: #NAME? | F9: #NAME? | G9: #NAME? | I9: #NAME? | K9: #NAME?
A10: -0.55080545 | B10: 0.1085186 | C10: -1.1154503 | E10: #NAME? | F10: #NAME? | G10: #NAME? | I10: #NAME? | K10: #NAME?
A11: 1.1829462 | B11: 0.87851773 | C11: 1.1116309 | E11: #NAME? | F11: #NAME? | G11: #NAME? | I11: #NAME? | K11: #NAME?
A12: -2.4132987 | B12: -1.1653132 | C12: -2.7776482 | E12: #NAME? | F12: #NAME? | G12: #NAME? | I12: #NAME? | K12: #NAME?
A13: 0.97947061 | B13: 0.59371931 | C13: 1.51728 | E13: #NAME? | F13: #NAME? | G13: #NAME? | I13: #NAME? | K13: #NAME?
A14: 0.55088233 | B14: -0.0036272862 | C14: 0.48976791
A15: 1.2279214 | B15: 0.99431526 | C15: 1.047002
A16: -0.92350668 | B16: 0.51942479 | C16: -1.3447918
A17: -0.090278956 | B17: 0.28509902 | C17: 0.0019235426
A18: 1.6837933 | B18: 0.57137859 | C18: 1.7465681
A19: -0.61077145 | B19: 0.2233359 | C19: -1.0631678
A20: 1.2810447 | B20: 0.32758098 | C20: 1.2719837
A21: -0.92224583 | B21: 0.084688854 | C21: -1.2893345
A22: -0.57811004 | B22: -0.083990871 | C22: -0.4644213
A23: 0.76869728 | B23: -0.073103735 | C23: 0.97853138
A25: n | B25: =COUNT(A4:A23) -> 20

Sheet DM
A1: Diebold-Mariano Test | P1: Real Statistics Analysis
A3: data | B3: forecast1 | C3: forecast2 | E3: i | F3: error 1 | G3: error 2 | H3: d | I3: gamma | J3: s.e. | K3: dm | M3: Diebold-Mariano Test | P3: Diebold-Mariano Test | T3: gamma
A4: 1.2288378 | B4: 0.90283699 | C4: 0.89454344 | E4: 1 | F4: =A4-B4 -> 0.32600083 | G4: =A4-C4 -> 0.33429438 | H4: =F4^2-G4^2 -> -0.0054761924 | I4: {=SUMPRODUCT(H5:H$23-H$25,OFFSET(H$4:H$23,0,0,E$23-E4)-H$25)/E$23} -> 0.12014278 | J4: =SQRT(K25/E23) -> 0.16627482 | K4: =H$25/J4 -> 1.5834537 | T4: #NAME?
A5: 2.6684006 | B5: 2.4492678 | C5: 2.3213521 | E5: =E4+1 -> 2 | F5: =A5-B5 -> 0.21913276 | G5: =A5-C5 -> 0.3470485 | H5: =F5^2-G5^2 -> -0.072423491 | I5: {=SUMPRODUCT(H6:H$23-H$25,OFFSET(H$4:H$23,0,0,E$23-E5)-H$25)/E$23} -> 0.26078226 | J5: =SQRT((K$25+2*SUMPRODUCT(I$4:I4))/E$23) -> 0.19915218 | K5: =H$25/J5 -> 1.3220466 | M5: Squared errors | P5: Sqr errors | Q5: 0 | T5: #NAME?
A6: 3.4177281 | B6: 3.2075581 | C6: 2.5208157 | E6: =E5+1 -> 3 | F6: =A6-B6 -> 0.21016998 | G6: =A6-C6 -> 0.89691232 | H6: =F6^2-G6^2 -> -0.76028029 | I6: {=SUMPRODUCT(H7:H$23-H$25,OFFSET(H$4:H$23,0,0,E$23-E6)-H$25)/E$23} -> 0.028657538 | J6: =SQRT((K$25+2*SUMPRODUCT(I$4:I5))/E$23) -> 0.25639777 | K6: =H$25/J6 -> 1.026875 | M6: Order | N6: 4 | P6: Order | Q6: 4 | T6: #NAME?
A7: 2.2391972 | B7: 2.4383221 | C7: 1.908075 | E7: =E6+1 -> 4 | F7: =A7-B7 -> -0.19912499 | G7: =A7-C7 -> 0.3311222 | H7: =F7^2-G7^2 -> -0.069991151 | I7: {=SUMPRODUCT(H8:H$23-H$25,OFFSET(H$4:H$23,0,0,E$23-E7)-H$25)/E$23} -> 0.15920507 | J7: =SQRT((K$25+2*SUMPRODUCT(I$4:I6))/E$23) -> 0.26192665 | K7: =H$25/J7 -> 1.0051992 | T7: #NAME?
A8: 2.1225599 | B8: 2.7751086 | C8: 0.95078208 | E8: =E7+1 -> 5 | F8: =A8-B8 -> -0.65254868 | G8: =A8-C8 -> 1.1717778 | H8: =F8^2-G8^2 -> -0.94724351 | I8: {=SUMPRODUCT(H9:H$23-H$25,OFFSET(H$4:H$23,0,0,E$23-E8)-H$25)/E$23} -> 0.055601269 | J8: =SQRT((K$25+2*SUMPRODUCT(I$4:I7))/E$23) -> 0.29073369 | K8: =H$25/J8 -> 0.90560014 | M8: DM Stat | N8: =K7 -> 1.0051992 | P8: DM Stat | Q8: #NAME? | T8: #NAME?
A9: 0.46379872 | B9: 0.59316171 | C9: -0.61066483 | E9: =E8+1 -> 6 | F9: =A9-B9 -> -0.129363 | G9: =A9-C9 -> 1.0744635 | H9: =F9^2-G9^2 -> -1.1377371 | I9: {=SUMPRODUCT(H10:H$23-H$25,OFFSET(H$4:H$23,0,0,E$23-E9)-H$25)/E$23} -> -0.0039052711 | J9: =SQRT((K$25+2*SUMPRODUCT(I$4:I8))/E$23) -> 0.30014364 | K9: =H$25/J9 -> 0.87720822 | M9: p-value | N9: =2*(1-NORMSDIST(N8)) -> 0.31480093 | P9: p-value | Q9: #NAME? | T9: #NAME?
A10: -0.55080545 | B10: 0.1085186 | C10: -1.1154503 | E10: =E9+1 -> 7 | F10: =A10-B10 -> -0.65932405 | G10: =A10-C10 -> 0.56464488 | H10: =F10^2-G10^2 -> 0.11588436 | I10: {=SUMPRODUCT(H11:H$23-H$25,OFFSET(H$4:H$23,0,0,E$23-E10)-H$25)/E$23} -> -0.070305969 | J10: =SQRT((K$25+2*SUMPRODUCT(I$4:I9))/E$23) -> 0.29949237 | K10: =H$25/J10 -> 0.87911579 | T10: #NAME?
A11: 1.1829462 | B11: 0.87851773 | C11: 1.1116309 | E11: =E10+1 -> 8 | F11: =A11-B11 -> 0.30442852 | G11: =A11-C11 -> 0.07131538 | H11: =F11^2-G11^2 -> 0.087590842 | I11: {=SUMPRODUCT(H12:H$23-H$25,OFFSET(H$4:H$23,0,0,E$23-E11)-H$25)/E$23} -> -0.08604634 | J11: =SQRT((K$25+2*SUMPRODUCT(I$4:I10))/E$23) -> 0.28751536 | K11: =H$25/J11 -> 0.91573706 | M11: HLN Test | P11: HLN Test | T11: #NAME?
A12: -2.4132987 | B12: -1.1653132 | C12: -2.7776482 | E12: =E11+1 -> 9 | F12: =A12-B12 -> -1.2479855 | G12: =A12-C12 -> 0.3643495 | H12: =F12^2-G12^2 -> 1.4247174 | I12: {=SUMPRODUCT(H13:H$23-H$25,OFFSET(H$4:H$23,0,0,E$23-E12)-H$25)/E$23} -> -0.040419389 | J12: =SQRT((K$25+2*SUMPRODUCT(I$4:I11))/E$23) -> 0.27214049 | K12: =H$25/J12 -> 0.9674726 | T12: #NAME?
A13: 0.97947061 | B13: 0.59371931 | C13: 1.51728 | E13: =E12+1 -> 10 | F13: =A13-B13 -> 0.3857513 | G13: =A13-C13 -> -0.53780938 | H13: =F13^2-G13^2 -> -0.14043486 | I13: {=SUMPRODUCT(H14:H$23-H$25,OFFSET(H$4:H$23,0,0,E$23-E13)-H$25)/E$23} -> -0.17312197 | J13: =SQRT((K$25+2*SUMPRODUCT(I$4:I12))/E$23) -> 0.26461011 | K13: =H$25/J13 -> 0.99500534 | M13: HLN Stat | N13: =N8*SQRT((E23+1-2*N6+N6*(N6-1))/E23) -> 1.1238469 | P13: HLN Stat | Q13: #NAME? | T13: #NAME?
A14: 0.55088233 | B14: -0.0036272862 | C14: 0.48976791 | E14: =E13+1 -> 11 | F14: =A14-B14 -> 0.55450962 | G14: =A14-C14 -> 0.06111442 | H14: =F14^2-G14^2 -> 0.30374594 | I14: {=SUMPRODUCT(H15:H$23-H$25,OFFSET(H$4:H$23,0,0,E$23-E14)-H$25)/E$23} -> -0.073748486 | J14: =SQRT((K$25+2*SUMPRODUCT(I$4:I13))/E$23) -> 0.22957855 | K14: =H$25/J14 -> 1.1468339 | M14: p-value | N14: =TDIST(N13,E23-1,2) -> 0.27507739 | P14: p-value | Q14: #NAME? | T14: #NAME?
A15: 1.2279214 | B15: 0.99431526 | C15: 1.047002 | E15: =E14+1 -> 12 | F15: =A15-B15 -> 0.23360616 | G15: =A15-C15 -> 0.18091937 | H15: =F15^2-G15^2 -> 0.021840019 | I15: {=SUMPRODUCT(H16:H$23-H$25,OFFSET(H$4:H$23,0,0,E$23-E15)-H$25)/E$23} -> -0.15882542 | J15: =SQRT((K$25+2*SUMPRODUCT(I$4:I14))/E$23) -> 0.21291187 | K15: =H$25/J15 -> 1.2366078 | T15: #NAME?
A16: -0.92350668 | B16: 0.51942479 | C16: -1.3447918 | E16: =E15+1 -> 13 | F16: =A16-B16 -> -1.4429315 | G16: =A16-C16 -> 0.42128511 | H16: =F16^2-G16^2 -> 1.9045701 | I16: {=SUMPRODUCT(H17:H$23-H$25,OFFSET(H$4:H$23,0,0,E$23-E16)-H$25)/E$23} -> -0.074933869 | J16: =SQRT((K$25+2*SUMPRODUCT(I$4:I15))/E$23) -> 0.17160688 | K16: =H$25/J16 -> 1.5342536 | T16: #NAME?
A17: -0.090278956 | B17: 0.28509902 | C17: 0.0019235426 | E17: =E16+1 -> 14 | F17: =A17-B17 -> -0.37537798 | G17: =A17-C17 -> -0.092202498 | H17: =F17^2-G17^2 -> 0.13240733 | I17: {=SUMPRODUCT(H18:H$23-H$25,OFFSET(H$4:H$23,0,0,E$23-E17)-H$25)/E$23} -> -0.086343579 | J17: =SQRT((K$25+2*SUMPRODUCT(I$4:I16))/E$23) -> 0.148174 | K17: =H$25/J17 -> 1.7768871 | T17: #NAME?
A18: 1.6837933 | B18: 0.57137859 | C18: 1.7465681 | E18: =E17+1 -> 15 | F18: =A18-B18 -> 1.1124148 | G18: =A18-C18 -> -0.062774751 | H18: =F18^2-G18^2 -> 1.2335259 | I18: {=SUMPRODUCT(H19:H$23-H$25,OFFSET(H$4:H$23,0,0,E$23-E18)-H$25)/E$23} -> -0.069175064 | J18: =SQRT((K$25+2*SUMPRODUCT(I$4:I17))/E$23) -> 0.1154174 | K18: =H$25/J18 -> 2.2811852 | T18: #NAME?
A19: -0.61077145 | B19: 0.2233359 | C19: -1.0631678 | E19: =E18+1 -> 16 | F19: =A19-B19 -> -0.83410735 | G19: =A19-C19 -> 0.45239631 | H19: =F19^2-G19^2 -> 0.49107265 | I19: {=SUMPRODUCT(H20:H$23-H$25,OFFSET(H$4:H$23,0,0,E$23-E19)-H$25)/E$23} -> -0.024061849 | J19: =SQRT((K$25+2*SUMPRODUCT(I$4:I18))/E$23) -> 0.080022937 | K19: =H$25/J19 -> 3.2901625 | T19: #NAME?
A20: 1.2810447 | B20: 0.32758098 | C20: 1.2719837 | E20: =E19+1 -> 17 | F20: =A20-B20 -> 0.95346368 | G20: =A20-C20 -> 0.0090609256 | H20: =F20^2-G20^2 -> 0.90901089 | I20: {=SUMPRODUCT(H21:H$23-H$25,OFFSET(H$4:H$23,0,0,E$23-E20)-H$25)/E$23} -> -0.028276553 | J20: =SQRT((K$25+2*SUMPRODUCT(I$4:I19))/E$23) -> 0.063225671 | K20: =H$25/J20 -> 4.1642653 | T20: #NAME?
A21: -0.92224583 | B21: 0.084688854 | C21: -1.2893345 | E21: =E20+1 -> 18 | F21: =A21-B21 -> -1.0069347 | G21: =A21-C21 -> 0.36708862 | H21: =F21^2-G21^2 -> 0.8791634 | I21: {=SUMPRODUCT(H22:H$23-H$25,OFFSET(H$4:H$23,0,0,E$23-E21)-H$25)/E$23} -> -0.0063054029 | J21: =SQRT((K$25+2*SUMPRODUCT(I$4:I20))/E$23) -> 0.034202781 | K21: =H$25/J21 -> 7.6978674 | T21: #NAME?
A22: -0.57811004 | B22: -0.083990871 | C22: -0.4644213 | E22: =E21+1 -> 19 | F22: =A22-B22 -> -0.49411917 | G22: =A22-C22 -> -0.11368874 | H22: =F22^2-G22^2 -> 0.23122862 | I22: {=SUMPRODUCT(H23:H$23-H$25,OFFSET(H$4:H$23,0,0,E$23-E22)-H$25)/E$23} -> -0.0053928992 | J22: =SQRT((K$25+2*SUMPRODUCT(I$4:I21))/E$23) -> 0.023222617 | K22: =H$25/J22 -> 11.337588 | T22: #NAME?
A23: 0.76869728 | B23: -0.073103735 | C23: 0.97853138 | E23: =E22+1 -> 20 | F23: =A23-B23 -> 0.84180102 | G23: =A23-C23 -> -0.20983409 | H23: =F23^2-G23^2 -> 0.66459861
A25: n | B25: =COUNT(A4:A23) -> 20 | G25: d-mean | H25: =AVERAGE(H4:H23) -> 0.26328847 | J25: d-var | K25: =VARP(H4:H23) -> 0.55294628

Sheet PT
A1: Pesaran-Timmermann Test
A3: data | B3: forecast | D3: Size | E3: =COUNT(A4:A18) -> 15 | G3: #NAME?
A4: 23 | B4: 14 | D4: Pyz | E4: =(_xlfn.COUNTIFS(A4:A18,">0",B4:B18,">0")+_xlfn.COUNTIFS(A4:A18,"<0",B4:B18,"<0"))/E3 -> 0.73333333 | G4: #NAME?
A5: -2 | B5: 3 | D5: Py | E5: =COUNTIF(A4:A18,">0")/E3 -> 0.46666667 | G5: #NAME?
A6: 56 | B6: 45 | D6: Pz | E6: =COUNTIF(B4:B18,">0")/E3 -> 0.6 | G6: #NAME?
A7: 51 | B7: 23 | D7: P* | E7: =(E6*E5)+((1-E6)*(1-E5)) -> 0.49333333 | G7: #NAME?
A8: 4 | B8: -5 | D8: V | E8: =E7*(1-E7)/E3 -> 0.016663704 | G8: #NAME?
A9: -45 | B9: -56 | D9: W | E9: =(((2*E6-1)^2*E5*(1-E5))/E3)+(((2*E5-1)^2*E6*(1-E6))/E3)+((4*E5*E6*(1-E5)*(1-E6))/(E3^2)) -> 0.0017967407 | G9: #NAME?
A10: -12 | B10: 4
A11: -24 | B11: -11 | D11: PT | E11: =(E4-E7)/SQRT(E8-E9) -> 1.96834 | G11: #NAME?
A12: -51 | B12: -34 | D12: p-value | E12: =1-NORMSDIST(E11) -> 0.024514467 | G12: =1-NORM.S.DIST(E11,TRUE)
A13: 78 | B13: 29 | D13: alpha | E13: 0.05
A14: -6 | B14: 3 | D14: sig | E14: =IF(E12<E13,"yes","no") -> yes | G14: #NAME?
A15: -7 | B15: -11
A16: -39 | B16: -12
A17: 31 | B17: 24
A18: 35 | B18: 3
D20: PT | E20: #NAME?
D21: p-value | E21: #NAME?

Sheet Moving
A1: Simple Moving Average | Q1: Excel data analysis tool
A3: t | B3: y | C3: pred | D3: |e| | E3: e^2 | N3: t | O3: y | Q3: pred | R3: s.e.
A4: 1 | B4: 3 | N4: 1 | O4: 3 | Q4: #N/A | R4: #N/A
A5: =A4+1 -> 2 | B5: 5 | N5: =N4+1 -> 2 | O5: 5 | Q5: #N/A | R5: #N/A
A6: =A5+1 -> 3 | B6: 9 | N6: =N5+1 -> 3 | O6: 9 | Q6: =AVERAGE(B4:B6) -> 5.6666667 | R6: #N/A
A7: =A6+1 -> 4 | B7: 20 | C7: =AVERAGE(B4:B6) -> 5.6666667 | D7: =ABS(B7-C7) -> 14.333333 | E7: =(B7-C7)^2 -> 205.44444 | N7: =N6+1 -> 4 | O7: 20 | Q7: =AVERAGE(B5:B7) -> 11.333333 | R7: #N/A
A8: =A7+1 -> 5 | B8: 12 | C8: =AVERAGE(B5:B7) -> 11.333333 | D8: =ABS(B8-C8) -> 0.66666667 | E8: =(B8-C8)^2 -> 0.44444444 | N8: =N7+1 -> 5 | O8: 12 | Q8: =AVERAGE(B6:B8) -> 13.666667 | R8: =SQRT(SUMXMY2(B6:B8,Q6:Q8)/3) -> 5.4467115
A9: =A8+1 -> 6 | B9: 17 | C9: =AVERAGE(B6:B8) -> 13.666667 | D9: =ABS(B9-C9) -> 3.3333333 | E9: =(B9-C9)^2 -> 11.111111 | N9: =N8+1 -> 6 | O9: 17 | Q9: =AVERAGE(B7:B9) -> 16.333333 | R9: =SQRT(SUMXMY2(B7:B9,Q7:Q9)/3) -> 5.1099032
A10: =A9+1 -> 7 | B10: 22 | C10: =AVERAGE(B7:B9) -> 16.333333 | D10: =ABS(B10-C10) -> 5.6666667 | E10: =(B10-C10)^2 -> 32.111111 | N10: =N9+1 -> 7 | O10: 22 | Q10: =AVERAGE(B8:B10) -> 17 | R10: =SQRT(SUMXMY2(B8:B10,Q8:Q10)/3) -> 3.0671497
A11: =A10+1 -> 8 | B11: 23 | C11: =AVERAGE(B8:B10) -> 17 | D11: =ABS(B11-C11) -> 6 | E11: =(B11-C11)^2 -> 36 | N11: =N10+1 -> 8 | O11: 23 | Q11: =AVERAGE(B9:B11) -> 20.666667 | R11: =SQRT(SUMXMY2(B9:B11,Q9:Q11)/3) -> 3.2087842
A12: =A11+1 -> 9 | B12: 51 | C12: =AVERAGE(B9:B11) -> 20.666667 | D12: =ABS(B12-C12) -> 30.333333 | E12: =(B12-C12)^2 -> 920.11111 | N12: =N11+1 -> 9 | O12: 51 | Q12: =AVERAGE(B10:B12) -> 32 | R12: =SQRT(SUMXMY2(B10:B12,Q10:Q12)/3) -> 11.422849
A13: =A12+1 -> 10 | B13: 41 | C13: =AVERAGE(B10:B12) -> 32 | D13: =ABS(B13-C13) -> 9 | E13: =(B13-C13)^2 -> 81 | N13: =N12+1 -> 10 | O13: 41 | Q13: =AVERAGE(B11:B13) -> 38.333333 | R13: =SQRT(SUMXMY2(B11:B13,Q11:Q13)/3) -> 11.158787
A14: =A13+1 -> 11 | B14: 56 | C14: =AVERAGE(B11:B13) -> 38.333333 | D14: =ABS(B14-C14) -> 17.666667 | E14: =(B14-C14)^2 -> 312.11111 | N14: =N13+1 -> 11 | O14: 56 | Q14: =AVERAGE(B12:B14) -> 49.333333 | R14: =SQRT(SUMXMY2(B12:B14,Q12:Q14)/3) -> 11.726829
A15: =A14+1 -> 12 | B15: 75 | C15: =AVERAGE(B12:B14) -> 49.333333 | D15: =ABS(B15-C15) -> 25.666667 | E15: =(B15-C15)^2 -> 658.77778 | N15: =N14+1 -> 12 | O15: 75 | Q15: =AVERAGE(B13:B15) -> 57.333333 | R15: =SQRT(SUMXMY2(B13:B15,Q13:Q15)/3) -> 11.010096
A16: =A15+1 -> 13 | B16: 60 | C16: =AVERAGE(B13:B15) -> 57.333333 | D16: =ABS(B16-C16) -> 2.6666667 | E16: =(B16-C16)^2 -> 7.1111111 | N16: =N15+1 -> 13 | O16: 60 | Q16: =AVERAGE(B14:B16) -> 63.666667 | R16: =SQRT(SUMXMY2(B14:B16,Q14:Q16)/3) -> 11.105554
A17: =A16+1 -> 14 | B17: 75 | C17: =AVERAGE(B14:B16) -> 63.666667 | D17: =ABS(B17-C17) -> 11.333333 | E17: =(B17-C17)^2 -> 128.44444 | N17: =N16+1 -> 14 | O17: 75 | Q17: =AVERAGE(B15:B17) -> 70 | R17: =SQRT(SUMXMY2(B15:B17,Q15:Q17)/3) -> 10.809804
A18: =A17+1 -> 15 | B18: 88 | C18: =AVERAGE(B15:B17) -> 70 | D18: =ABS(B18-C18) -> 18 | E18: =(B18-C18)^2 -> 324 | N18: =N17+1 -> 15 | O18: 88 | Q18: =AVERAGE(B16:B18) -> 74.333333 | R18: =SQRT(SUMXMY2(B16:B18,Q16:Q18)/3) -> 8.6645297
A19: pred | C19: =AVERAGE(B16:B18) -> 74.333333
D21: MAE | E21: MSE
D22: =AVERAGE(D4:D18) -> 12.055556 | E22: =AVERAGE(E4:E18) -> 226.38889
D24: =SUMPRODUCT(ABS(B7:B18-C7:C18))/COUNT(B7:B18) -> 12.055556 | E24: =SUMPRODUCT((B7:B18-C7:C18)^2)/COUNT(B7:B18) -> 226.38889
E25: =SUMXMY2(B7:B18,C7:C18)/COUNT(B7:B18) -> 226.38889

Sheet Moving 1
A1: Moving Average (Excel data analysis tool)
A3: t | B3: y
A4: 1 | B4: 3 | D4: #N/A | E4: #N/A
A5: =A4+1 -> 2 | B5: 5 | D5: #N/A | E5: #N/A
A6: =A5+1 -> 3 | B6: 9 | D6: =AVERAGE(B4:B6) -> 5.6666667 | E6: #N/A
A7: =A6+1 -> 4 | B7: 20 | D7: =AVERAGE(B5:B7) -> 11.333333 | E7: #N/A
A8: =A7+1 -> 5 | B8: 12 | D8: =AVERAGE(B6:B8) -> 13.666667 | E8: =SQRT(SUMXMY2(B6:B8,D6:D8)/3) -> 5.4467115
A9: =A8+1 -> 6 | B9: 17 | D9: =AVERAGE(B7:B9) -> 16.333333 | E9: =SQRT(SUMXMY2(B7:B9,D7:D9)/3) -> 5.1099032
A10: =A9+1 -> 7 | B10: 22 | D10: =AVERAGE(B8:B10) -> 17 | E10: =SQRT(SUMXMY2(B8:B10,D8:D10)/3) -> 3.0671497
A11: =A10+1 -> 8 | B11: 23 | D11: =AVERAGE(B9:B11) -> 20.666667 | E11: =SQRT(SUMXMY2(B9:B11,D9:D11)/3) -> 3.2087842
A12: =A11+1 -> 9 | B12: 51 | D12: =AVERAGE(B10:B12) -> 32 | E12: =SQRT(SUMXMY2(B10:B12,D10:D12)/3) -> 11.422849
A13: =A12+1 -> 10 | B13: 41 | D13: =AVERAGE(B11:B13) -> 38.333333 | E13: =SQRT(SUMXMY2(B11:B13,D11:D13)/3) -> 11.158787
A14: =A13+1 -> 11 | B14: 56 | D14: =AVERAGE(B12:B14) -> 49.333333 | E14: =SQRT(SUMXMY2(B12:B14,D12:D14)/3) -> 11.726829
A15: =A14+1 -> 12 | B15: 75 | D15: =AVERAGE(B13:B15) -> 57.333333 | E15: =SQRT(SUMXMY2(B13:B15,D13:D15)/3) -> 11.010096
A16: =A15+1 -> 13 | B16: 60 | D16: =AVERAGE(B14:B16) -> 63.666667 | E16: =SQRT(SUMXMY2(B14:B16,D14:D16)/3) -> 11.105554
A17: =A16+1 -> 14 | B17: 75 | D17: =AVERAGE(B15:B17) -> 70 | E17: =SQRT(SUMXMY2(B15:B17,D15:D17)/3) -> 10.809804
A18: =A17+1 -> 15 | B18: 88 | D18: =AVERAGE(B16:B18) -> 74.333333 | E18: =SQRT(SUMXMY2(B16:B18,D16:D18)/3) -> 8.6645297

Sheet Moving 1a
A1: Simple Moving Average (Real Statistics)
A3: t | B3: y | D3: Simple Moving Average | G3: alpha | H3: 0.05
A4: 1 | B4: 3
A5: =A4+1 -> 2 | B5: 5 | D5: =A3 -> t | E5: =B3 -> y | F5: forecast | G5: s.e. | H5: lower | I5: upper
A6: =A5+1 -> 3 | B6: 9 | D6: =A4 -> 1 | E6: =B4 -> 3
A7: =A6+1 -> 4 | B7: 20 | D7: =A5 -> 2 | E7: =B5 -> 5
A8: =A7+1 -> 5 | B8: 12 | D8: =A6 -> 3 | E8: =B6 -> 9
A9: =A8+1 -> 6 | B9: 17 | D9: =A7 -> 4 | E9: =B7 -> 20 | F9: =AVERAGE(E6:E8) -> 5.6666667
A10: =A9+1 -> 7 | B10: 22 | D10: =A8 -> 5 | E10: =B8 -> 12 | F10: =AVERAGE(E7:E9) -> 11.333333
A11: =A10+1 -> 8 | B11: 23 | D11: =A9 -> 6 | E11: =B9 -> 17 | F11: =AVERAGE(E8:E10) -> 13.666667 | G11: =SQRT(SUMXMY2(E8:E10,F9:F11)/3) -> 5.4467115 | H11: =F11-G11*_xlfn.NORM.S.INV(1-H$3/2) -> 2.9913087 | I11: =F11+G11*_xlfn.NORM.S.INV(1-H$3/2) -> 24.342025
A12: =A11+1 -> 9 | B12: 51 | D12: =A10 -> 7 | E12: =B10 -> 22 | F12: =AVERAGE(E9:E11) -> 16.333333 | G12: =SQRT(SUMXMY2(E9:E11,F10:F12)/3) -> 5.1099032 | H12: =F12-G12*_xlfn.NORM.S.INV(1-H$3/2) -> 6.3181075 | I12: =F12+G12*_xlfn.NORM.S.INV(1-H$3/2) -> 26.348559
A13: =A12+1 -> 10 | B13: 41 | D13: =A11 -> 8 | E13: =B11 -> 23 | F13: =AVERAGE(E10:E12) -> 17 | G13: =SQRT(SUMXMY2(E10:E12,F11:F13)/3) -> 3.0671497 | H13: =F13-G13*_xlfn.NORM.S.INV(1-H$3/2) -> 10.988497 | I13: =F13+G13*_xlfn.NORM.S.INV(1-H$3/2) -> 23.011503
A14: =A13+1 -> 11 | B14: 56 | D14: =A12 -> 9 | E14: =B12 -> 51 | F14: =AVERAGE(E11:E13) -> 20.666667 | G14: =SQRT(SUMXMY2(E11:E13,F12:F14)/3) -> 3.2087842 | H14: =F14-G14*_xlfn.NORM.S.INV(1-H$3/2) -> 14.377565 | I14: =F14+G14*_xlfn.NORM.S.INV(1-H$3/2) -> 26.955768
A15: =A14+1 -> 12 | B15: 75 | D15: =A13 -> 10 | E15: =B13 -> 41 | F15: =AVERAGE(E12:E14) -> 32 | G15: =SQRT(SUMXMY2(E12:E14,F13:F15)/3) -> 11.422849 | H15: =F15-G15*_xlfn.NORM.S.INV(1-H$3/2) -> 9.6116283 | I15: =F15+G15*_xlfn.NORM.S.INV(1-H$3/2) -> 54.388372
A16: =A15+1 -> 13 | B16: 60 | D16: =A14 -> 11 | E16: =B14 -> 56 | F16: =AVERAGE(E13:E15) -> 38.333333 | G16: =SQRT(SUMXMY2(E13:E15,F14:F16)/3) -> 11.158787 | H16: =F16-G16*_xlfn.NORM.S.INV(1-H$3/2) -> 16.462515 | I16: =F16+G16*_xlfn.NORM.S.INV(1-H$3/2) -> 60.204152
A17: =A16+1 -> 14 | B17: 75 | D17: =A15 -> 12 | E17: =B15 -> 75 | F17: =AVERAGE(E14:E16) -> 49.333333 | G17: =SQRT(SUMXMY2(E14:E16,F15:F17)/3) -> 11.726829 | H17: =F17-G17*_xlfn.NORM.S.INV(1-H$3/2) -> 26.349172 | I17: =F17+G17*_xlfn.NORM.S.INV(1-H$3/2) -> 72.317495
A18: =A17+1 -> 15 | B18: 88 | D18: =A16 -> 13 | E18: =B16 -> 60 | F18: =AVERAGE(E15:E17) -> 57.333333 | G18: =SQRT(SUMXMY2(E15:E17,F16:F18)/3) -> 11.010096 | H18: =F18-G18*_xlfn.NORM.S.INV(1-H$3/2) -> 35.753942 | I18: =F18+G18*_xlfn.NORM.S.INV(1-H$3/2) -> 78.912725
D19: =A17 -> 14 | E19: =B17 -> 75 | F19: =AVERAGE(E16:E18) -> 63.666667 | G19: =SQRT(SUMXMY2(E16:E18,F17:F19)/3) -> 11.105554 | H19: =F19-G19*_xlfn.NORM.S.INV(1-H$3/2) -> 41.900182 | I19: =F19+G19*_xlfn.NORM.S.INV(1-H$3/2) -> 85.433152
D20: =A18 -> 15 | E20: =B18 -> 88 | F20: =AVERAGE(E17:E19) -> 70 | G20: =SQRT(SUMXMY2(E17:E19,F18:F20)/3) -> 10.809804 | H20: =F20-G20*_xlfn.NORM.S.INV(1-H$3/2) -> 48.813175 | I20: =F20+G20*_xlfn.NORM.S.INV(1-H$3/2) -> 91.186825
D21: > | F21: =AVERAGE(E18:E20) -> 74.333333 | G21: =SQRT(SUMXMY2(E18:E20,F19:F21)/3) -> 8.6645297 | H21: =F21-G21*_xlfn.NORM.S.INV(1-H$3/2) -> 57.351168 | I21: =F21+G21*_xlfn.NORM.S.INV(1-H$3/2) -> 91.315499
E23: MAE | F23: MSE | G23: MAPE
E24: =SUMPRODUCT(ABS(E9:E20-F9:F20))/COUNT(F9:F20) -> 12.055556 | F24: =SUMXMY2(E9:E20,F9:F20)/COUNT(F9:F20) -> 226.38889 | G24: =SUMPRODUCT(ABS(1-F9:F20/E9:E20))/COUNT(F9:F20) -> 0.2799024

Sheet Weighted
A1: Weighted Moving Average
A3: t | B3: y | C3: pred | D3: |e| | E3: e^2 | G3: w | Q3: Weighted Moving Average | T3: alpha | U3: 0.05
A4: 1 | B4: 3 | G4: 0.1
A5: =A4+1 -> 2 | B5: 5 | G5: 0.3 | Q5: =A3 -> t | R5: =B3 -> y | S5: forecast | T5: s.e. | U5: lower | V5: upper
A6: =A5+1 -> 3 | B6: 9 | G6: 0.6 | Q6: =A4 -> 1 | R6: =B4 -> 3
A7: =A6+1 -> 4 | B7: 20 | C7: =SUMPRODUCT(B4:B6,G$4:G$6) -> 7.2 | D7: =ABS(B7-C7) -> 12.8 | E7: =(B7-C7)^2 -> 163.84 | G7: =SUM(G4:G6) -> 1 | Q7: =A5 -> 2 | R7: =B5 -> 5
A8: =A7+1 -> 5 | B8: 12 | C8: =SUMPRODUCT(B5:B7,G$4:G$6) -> 15.2 | D8: =ABS(B8-C8) -> 3.2 | E8: =(B8-C8)^2 -> 10.24 | Q8: =A6 -> 3 | R8: =B6 -> 9
A9: =A8+1 -> 6 | B9: 17 | C9: =SUMPRODUCT(B6:B8,G$4:G$6) -> 14.1 | D9: =ABS(B9-C9) -> 2.9 | E9: =(B9-C9)^2 -> 8.41 | Q9: =A7 -> 4 | R9: =B7 -> 20 | S9: =SUMPRODUCT(R6:R8,$G$4:$G$6)/SUM($G$4:$G$6) -> 7.2
A10: =A9+1 -> 7 | B10: 22 | C10: =SUMPRODUCT(B7:B9,G$4:G$6) -> 15.8 | D10: =ABS(B10-C10) -> 6.2 | E10: =(B10-C10)^2 -> 38.44 | Q10: =A8 -> 5 | R10: =B8 -> 12 | S10: =SUMPRODUCT(R7:R9,$G$4:$G$6)/SUM($G$4:$G$6) -> 15.2
A11: =A10+1 -> 8 | B11: 23 | C11: =SUMPRODUCT(B8:B10,G$4:G$6) -> 19.5 | D11: =ABS(B11-C11) -> 3.5 | E11: =(B11-C11)^2 -> 12.25 | Q11: =A9 -> 6 | R11: =B9 -> 17 | S11: =SUMPRODUCT(R8:R10,$G$4:$G$6)/SUM($G$4:$G$6) -> 14.1 | T11: =SQRT(SUMXMY2(R8:R10,S9:S11)/3) -> 3.1984371 | U11: =S11-T11*_xlfn.NORM.S.INV(1-U$3/2) -> 7.8311788 | V11: =S11+T11*_xlfn.NORM.S.INV(1-U$3/2) -> 20.368821
A12: =A11+1 -> 9 | B12: 51 | C12: =SUMPRODUCT(B9:B11,G$4:G$6) -> 22.1 | D12: =ABS(B12-C12) -> 28.9 | E12: =(B12-C12)^2 -> 835.21 | Q12: =A10 -> 7 | R12: =B10 -> 22 | S12: =SUMPRODUCT(R9:R11,$G$4:$G$6)/SUM($G$4:$G$6) -> 15.8 | T12: =SQRT(SUMXMY2(R9:R11,S10:S12)/3) -> 3.1032241 | U12: =S12-T12*_xlfn.NORM.S.INV(1-U$3/2) -> 9.7177928 | V12: =S12+T12*_xlfn.NORM.S.INV(1-U$3/2) -> 21.882207
A13: =A12+1 -> 10 | B13: 41 | C13: =SUMPRODUCT(B10:B12,G$4:G$6) -> 39.7 | D13: =ABS(B13-C13) -> 1.3 | E13: =(B13-C13)^2 -> 1.69 | Q13: =A11 -> 8 | R13: =B11 -> 23 | S13: =SUMPRODUCT(R10:R12,$G$4:$G$6)/SUM($G$4:$G$6) -> 19.5 | T13: =SQRT(SUMXMY2(R10:R12,S11:S13)/3) -> 2.008316 | U13: =S13-T13*_xlfn.NORM.S.INV(1-U$3/2) -> 15.563773 | V13: =S13+T13*_xlfn.NORM.S.INV(1-U$3/2) -> 23.436227
A14: =A13+1 -> 11 | B14: 56 | C14: =SUMPRODUCT(B11:B13,G$4:G$6) -> 42.2 | D14: =ABS(B14-C14) -> 13.8 | E14: =(B14-C14)^2 -> 190.44 | Q14: =A12 -> 9 | R14: =B12 -> 51 | S14: =SUMPRODUCT(R11:R13,$G$4:$G$6)/SUM($G$4:$G$6) -> 22.1 | T14: =SQRT(SUMXMY2(R11:R13,S12:S14)/3) -> 1.6832508 | U14: =S14-T14*_xlfn.NORM.S.INV(1-U$3/2) -> 18.800889 | V14: =S14+T14*_xlfn.NORM.S.INV(1-U$3/2) -> 25.399111
A15: =A14+1 -> 12 | B15: 75 | C15: =SUMPRODUCT(B12:B14,G$4:G$6) -> 51 | D15: =ABS(B15-C15) -> 24 | E15: =(B15-C15)^2 -> 576 | Q15: =A13 -> 10 | R15: =B13 -> 41 | S15: =SUMPRODUCT(R12:R14,$G$4:$G$6)/SUM($G$4:$G$6) -> 39.7 | T15: =SQRT(SUMXMY2(R12:R14,S13:S15)/3) -> 6.7019898 | U15: =S15-T15*_xlfn.NORM.S.INV(1-U$3/2) -> 26.564342 | V15: =S15+T15*_xlfn.NORM.S.INV(1-U$3/2) -> 52.835658
A16: =A15+1 -> 13 | B16: 60 | C16: =SUMPRODUCT(B13:B15,G$4:G$6) -> 65.9 | D16: =ABS(B16-C16) -> 5.9 | E16: =(B16-C16)^2 -> 34.81 | Q16: =A14 -> 11 | R16: =B14 -> 56 | S16: =SUMPRODUCT(R13:R15,$G$4:$G$6)/SUM($G$4:$G$6) -> 42.2 | T16: =SQRT(SUMXMY2(R13:R15,S14:S16)/3) -> 6.5812866 | U16: =S16-T16*_xlfn.NORM.S.INV(1-U$3/2) -> 29.300916 | V16: =S16+T16*_xlfn.NORM.S.INV(1-U$3/2) -> 55.099084
A17: =A16+1 -> 14 | B17: 75 | C17: =SUMPRODUCT(B14:B16,G$4:G$6) -> 64.1 | D17: =ABS(B17-C17) -> 10.9 | E17: =(B17-C17)^2 -> 118.81 | Q17: =A15 -> 12 | R17: =B15 -> 75 | S17: =SUMPRODUCT(R14:R16,$G$4:$G$6)/SUM($G$4:$G$6) -> 51 | T17: =SQRT(SUMXMY2(R14:R16,S15:S17)/3) -> 7.1677519 | U17: =S17-T17*_xlfn.NORM.S.INV(1-U$3/2) -> 36.951465 | V17: =S17+T17*_xlfn.NORM.S.INV(1-U$3/2) -> 65.048535
A18: =A17+1 -> 15 | B18: 88 | C18: =SUMPRODUCT(B15:B17,G$4:G$6) -> 70.5 | D18: =ABS(B18-C18) -> 17.5 | E18: =(B18-C18)^2 -> 306.25 | Q18: =A16 -> 13 | R18: =B16 -> 60 | S18: =SUMPRODUCT(R15:R17,$G$4:$G$6)/SUM($G$4:$G$6) -> 65.9 | T18: =SQRT(SUMXMY2(R15:R17,S16:S18)/3) -> 6.0346223 | U18: =S18-T18*_xlfn.NORM.S.INV(1-U$3/2) -> 54.072358 | V18: =S18+T18*_xlfn.NORM.S.INV(1-U$3/2) -> 77.727642
A19: pred | C19: =SUMPRODUCT(B16:B18,G$4:G$6) -> 81.3 | Q19: =A17 -> 14 | R19: =B17 -> 75 | S19: =SUMPRODUCT(R16:R18,$G$4:$G$6)/SUM($G$4:$G$6) -> 64.1 | T19: =SQRT(SUMXMY2(R16:R18,S17:S19)/3) -> 6.4451532 | U19: =S19-T19*_xlfn.NORM.S.INV(1-U$3/2) -> 51.467732 | V19: =S19+T19*_xlfn.NORM.S.INV(1-U$3/2) -> 76.732268
Q20: =A18 -> 15 | R20: =B18 -> 88 | S20: =SUMPRODUCT(R17:R19,$G$4:$G$6)/SUM($G$4:$G$6) -> 70.5 | T20: =SQRT(SUMXMY2(R17:R19,S18:S20)/3) -> 6.3211286 | U20: =S20-T20*_xlfn.NORM.S.INV(1-U$3/2) -> 58.110816 | V20: =S20+T20*_xlfn.NORM.S.INV(1-U$3/2) -> 82.889184
D21: MAE | E21: MSE | Q21: > | S21: =SUMPRODUCT(R18:R20,$G$4:$G$6)/SUM($G$4:$G$6) -> 81.3 | T21: =SQRT(SUMXMY2(R18:R20,S19:S21)/3) -> 5.2265349 | U21: =S21-T21*_xlfn.NORM.S.INV(1-U$3/2) -> 71.05618 | V21: =S21+T21*_xlfn.NORM.S.INV(1-U$3/2) -> 91.54382
D22: =AVERAGE(D4:D18) -> 10.908333 | E22: =AVERAGE(E4:E18) -> 191.36583
R23: MAE | S23: MSE | T23: MAPE
D24: =SUMPRODUCT(ABS(B7:B18-C7:C18))/COUNT(B7:B18) -> 10.908333 | E24: =SUMPRODUCT((B7:B18-C7:C18)^2)/COUNT(B7:B18) -> 191.36583 | R24: =SUMPRODUCT(ABS(R9:R20-S9:S20))/COUNT(S9:S20) -> 10.908333 | S24: =SUMXMY2(R9:R20,S9:S20)/COUNT(S9:S20) -> 191.36583 | T24: =SUMPRODUCT(ABS(1-S9:S20/R9:R20))/COUNT(S9:S20) -> 0.25988165
E25: =SUMXMY2(B7:B18,C7:C18)/COUNT(B7:B18) -> 191.36583

Sheet Weighted 2
A1: Weighted Moving Average
A3: t | B3: y | C3: pred | D3: |e| | E3: e^2 | G3: w
A4: 1 | B4: 3 | G4: 0
A5: =A4+1 -> 2 | B5: 5 | G5: 0.22375691
A6: =A5+1 -> 3 | B6: 9 | G6: 0.77624309
A7: =A6+1 -> 4 | B7: 20 | C7: =SUMPRODUCT(B4:B6,G$4:G$6) -> 8.1049724 | D7: =ABS(B7-C7) -> 11.895028 | E7: =(B7-C7)^2 -> 141.49168 | G7: =SUM(G4:G6) -> 1
A8: =A7+1 -> 5 | B8: 12 | C8: =SUMPRODUCT(B5:B7,G$4:G$6) -> 17.538674 | D8: =ABS(B8-C8) -> 5.538674 | E8: =(B8-C8)^2 -> 30.67691
A9: =A8+1 -> 6 | B9: 17 | C9: =SUMPRODUCT(B6:B8,G$4:G$6) -> 13.790055 | D9: =ABS(B9-C9) -> 3.2099448 | E9: =(B9-C9)^2 -> 10.303745
A10: =A9+1 -> 7 | B10: 22 | C10: =SUMPRODUCT(B7:B9,G$4:G$6) -> 15.881215 | D10: =ABS(B10-C10) -> 6.1187845 | E10: =(B10-C10)^2 -> 37.439524
A11: =A10+1 -> 8 | B11: 23 | C11: =SUMPRODUCT(B8:B10,G$4:G$6) -> 20.881215 | D11: =ABS(B11-C11) -> 2.1187845 | E11: =(B11-C11)^2 -> 4.4892479
A12: =A11+1 -> 9 | B12: 51 | C12: =SUMPRODUCT(B9:B11,G$4:G$6) -> 22.776243 | D12: =ABS(B12-C12) -> 28.223757 | E12: =(B12-C12)^2 -> 796.58045
A13: =A12+1 -> 10 | B13: 41 | C13: =SUMPRODUCT(B10:B12,G$4:G$6) -> 44.734807 | D13: =ABS(B13-C13) -> 3.7348066 | E13: =(B13-C13)^2 -> 13.948781
A14: =A13+1 -> 11 | B14: 56 | C14: =SUMPRODUCT(B11:B13,G$4:G$6) -> 43.237569 | D14: =ABS(B14-C14) -> 12.762431 | E14: =(B14-C14)^2 -> 162.87964
A15: =A14+1 -> 12 | B15: 75 | C15: =SUMPRODUCT(B12:B14,G$4:G$6) -> 52.643646 | D15: =ABS(B15-C15) -> 22.356354 | E15: =(B15-C15)^2 -> 499.80655
A16: =A15+1 -> 13 | B16: 60 | C16: =SUMPRODUCT(B13:B15,G$4:G$6) -> 70.748619 | D16: =ABS(B16-C16) -> 10.748619 | E16: =(B16-C16)^2 -> 115.53281
A17: =A16+1 -> 14 | B17: 75 | C17: =SUMPRODUCT(B14:B16,G$4:G$6) -> 63.356354 | D17: =ABS(B17-C17) -> 11.643646 | E17: =(B17-C17)^2 -> 135.5745
A18: =A17+1 -> 15 | B18: 88 | C18: =SUMPRODUCT(B15:B17,G$4:G$6) -> 71.643646 | D18: =ABS(B18-C18) -> 16.356354 | E18: =(B18-C18)^2 -> 267.5303
D20: MAE | E20: MSE
D21: =AVERAGE(D4:D18) -> 11.225599 | E21: =AVERAGE(E4:E18) -> 184.68785

Sheet Exp
A1: Single Exponential Smoothing
A3: t | B3: y | C3: pred | D3: |e| | E3: e^2
A4: 1 | B4: 3 | C4: =B4 -> 3
A5: =A4+1 -> 2 | B5: 5 | C5: =C4+B$21*(B4-C4) -> 3 | D5: =ABS(B5-C5) -> 2 | E5: =(B5-C5)^2 -> 4
A6: =A5+1 -> 3 | B6: 9 | C6: =C5+B$21*(B5-C5) -> 3.8 | D6: =ABS(B6-C6) -> 5.2 | E6: =(B6-C6)^2 -> 27.04
A7: =A6+1 -> 4 | B7: 20 | C7: =C6+B$21*(B6-C6) -> 5.88 | D7: =ABS(B7-C7) -> 14.12 | E7: =(B7-C7)^2 -> 199.3744
A8: =A7+1 -> 5 | B8: 12 | C8: =C7+B$21*(B7-C7) -> 11.528 | D8: =ABS(B8-C8) -> 0.472 | E8: =(B8-C8)^2 -> 0.222784
A9: =A8+1 -> 6 | B9: 17 | C9: =C8+B$21*(B8-C8) -> 11.7168 | D9: =ABS(B9-C9) -> 5.2832 | E9: =(B9-C9)^2 -> 27.912202
A10: =A9+1 -> 7 | B10: 22 | C10: =C9+B$21*(B9-C9) -> 13.83008 | D10: =ABS(B10-C10) -> 8.16992 | E10: =(B10-C10)^2 -> 66.747593
A11: =A10+1 -> 8 | B11: 23 | C11: =C10+B$21*(B10-C10) -> 17.098048 | D11: =ABS(B11-C11) -> 5.901952 | E11: =(B11-C11)^2 -> 34.833037
A12: =A11+1 -> 9 | B12: 51 | C12: =C11+B$21*(B11-C11) -> 19.458829 | D12: =ABS(B12-C12) -> 31.541171 | E12: =(B12-C12)^2 -> 994.84548
A13: =A12+1 -> 10 | B13: 41 | C13: =C12+B$21*(B12-C12) -> 32.075297 | D13: =ABS(B13-C13) -> 8.9247027 | E13: =(B13-C13)^2 -> 79.650319
A14: =A13+1 -> 11 | B14: 56 | C14: =C13+B$21*(B13-C13) -> 35.645178 | D14: =ABS(B14-C14) -> 20.354822 | E14: =(B14-C14)^2 -> 414.31876
A15: =A14+1 -> 12 | B15: 75 | C15: =C14+B$21*(B14-C14) -> 43.787107 | D15: =ABS(B15-C15) -> 31.212893 | E15: =(B15-C15)^2 -> 974.24469
A16: =A15+1 -> 13 | B16: 60 | C16: =C15+B$21*(B15-C15) -> 56.272264 | D16: =ABS(B16-C16) -> 3.7277358 | E16: =(B16-C16)^2 -> 13.896014
... A18: =A17+1 -> 15 | B18: 88 | C18: =C17+B$21*(B17-C17) -> 64.658015 | D18: =ABS(B18-C18) -> 23.341985 | E18: =(B18-C18)^2 -> 544.84826
A19: 16 | C19: =C18+B$21*(B18-C18) -> 73.994809
B20: alpha | D20: MAE | E20: MSE
B21: 0.4 | D21: =AVERAGE(D4:D18) -> 12.677644 | E21: =AVERAGE(E4:E18) -> 262.78824

Sheet Exp 1
A1: Exponential Smoothing (Excel data analysis tool)
A3: t | B3: y
A4: 1 | B4: 3 | D4: #N/A | E4: #N/A | N4: #N/A | O4: #N/A
A5: =A4+1 -> 2 | B5: 5 | D5: =B4 -> 3 | E5: #N/A | N5: =B4 -> 3 | O5: #N/A
A6: =A5+1 -> 3 | B6: 9 | D6: =0.4*B5+0.6*D5 -> 3.8 | E6: #N/A | N6: =0.7*B5+0.3*N5 -> 4.4 | O6: #N/A
A7: =A6+1 -> 4 | B7: 20 | D7: =0.4*B6+0.6*D6 -> 5.88 | E7: #N/A | N7: =0.7*B6+0.3*N6 -> 7.62 | O7: #N/A
A8: =A7+1 -> 5 | B8: 12 | D8: =0.4*B7+0.6*D7 -> 11.528 | E8: =SQRT(SUMXMY2(B5:B7,D5:D7)/3) -> 8.7638348 | N8: =0.7*B7+0.3*N7 -> 16.286 | O8: =SQRT(SUMXMY2(B5:B7,N5:N7)/3) -> 7.7119907
A9: =A8+1 -> 6 | B9: 17 | D9: =0.4*B8+0.6*D8 -> 11.7168 | E9: =SQRT(SUMXMY2(B6:B8,D6:D8)/3) -> 8.6917046 | N9: =0.7*B8+0.3*N8 -> 13.2858 | O9: =SQRT(SUMXMY2(B6:B8,N6:N8)/3) -> 8.0165287
A10: =A9+1 -> 7 | B10: 22 | D10: =0.4*B9+0.6*D9 -> 13.83008 | E10: =SQRT(SUMXMY2(B7:B9,D7:D9)/3) -> 8.7084133 | N10: =0.7*B9+0.3*N9 -> 15.88574 | O10: =SQRT(SUMXMY2(B7:B9,N7:N9)/3) -> 7.8619225
A11: =A10+1 -> 8 | B11: 23 | D11: =0.4*B10+0.6*D10 -> 17.098048 | E11: =SQRT(SUMXMY2(B8:B10,D8:D10)/3) -> 5.6238356 | N11: =0.7*B10+0.3*N10 -> 20.165722 | O11: =SQRT(SUMXMY2(B8:B10,N8:N10)/3) -> 4.8148815
A12: =A11+1 -> 9 | B12: 51 | D12: =0.4*B11+0.6*D11 -> 19.458829 | E12: =SQRT(SUMXMY2(B9:B11,D9:D11)/3) -> 6.5699526 | N12: =0.7*B11+0.3*N11 -> 22.149717 | O12: =SQRT(SUMXMY2(B9:B11,N9:N11)/3) -> 4.442694
A13: =A12+1 -> 10 | B13: 41 | D13: =0.4*B12+0.6*D12 -> 32.075297 | E13: =SQRT(SUMXMY2(B10:B12,D10:D12)/3) -> 19.11741 | N13: =0.7*B12+0.3*N12 -> 42.344915 | O13: =SQRT(SUMXMY2(B10:B12,N10:N12)/3) -> 17.105127
A14: =A13+1 -> 11 | B14: 56 | D14: =0.4*B13+0.6*D13 -> 35.645178 | E14: =SQRT(SUMXMY2(B11:B13,D11:D13)/3) -> 19.229568 | N14: =0.7*B13+0.3*N13 -> 41.403474 | O14: =SQRT(SUMXMY2(B11:B13,N11:N13)/3) -> 16.754908
A15: =A14+1 -> 12 | B15: 75 | D15: =0.4*B14+0.6*D14 -> 43.787107 | E15: =SQRT(SUMXMY2(B12:B14,D12:D14)/3) -> 22.277152 | N15: =0.7*B14+0.3*N14 -> 51.621042 | O15: =SQRT(SUMXMY2(B12:B14,N12:N14)/3) -> 18.683381
A16: =A15+1 -> 13 | B16: 60 | D16: =0.4*B15+0.6*D15 -> 56.272264 | E16: =SQRT(SUMXMY2(B13:B15,D13:D15)/3) -> 22.122491 | N16: =0.7*B15+0.3*N15 -> 67.986313 | O16: =SQRT(SUMXMY2(B13:B15,N13:N15)/3) -> 15.931552
A17: =A16+1 -> 14 | B17: 75 | D17: =0.4*B16+0.6*D16 -> 57.763359 | E17: =SQRT(SUMXMY2(B14:B16,D14:D16)/3) -> 21.621436 | N17: =0.7*B16+0.3*N16 -> 62.395894 | O17: =SQRT(SUMXMY2(B14:B16,N14:N16)/3) -> 16.567191
A18: =A17+1 -> 15 | B18: 88 | D18: =0.4*B17+0.6*D17 -> 64.658015 | E18: =SQRT(SUMXMY2(B15:B17,D15:D17)/3) -> 20.698168 | N18: =0.7*B17+0.3*N17 -> 71.218768 | O18: =SQRT(SUMXMY2(B15:B17,N15:N17)/3) -> 16.012707
D20: alpha | E20: 0.4 | N20: alpha | O20: 0.3
N21: (default)
D22: damping factor = 1 - alpha

Sheet Exp 1a
A1: Exponential Smoothing (Real Statistics data analysis tool)
A3: t | B3: y | D3: Exponential Smoothing
A4: 1 | B4: 3
A5: =A4+1 -> 2 | B5: 5 | D5: alpha | E5: 0.4
A6: =A5+1 -> 3 | B6: 9
A7: =A6+1 -> 4 | B7: 20 | D7: =A3 -> t | E7: =B3 -> y | F7: forecast
A8: =A7+1 -> 5 | B8: 12 | D8: =A4 -> 1 | E8: =B4 -> 3 | F8: =E8 -> 3
A9: =A8+1 -> 6 | B9: 17 | D9: =A5 -> 2 | E9: =B5 -> 5 | F9: =F8+$E$5*(E8-F8) -> 3
A10: =A9+1 -> 7 | B10: 22 | D10: =A6 -> 3 | E10: =B6 -> 9 | F10: =F9+$E$5*(E9-F9) -> 3.8
A11: =A10+1 -> 8 | B11: 23 | D11: =A7 -> 4 | E11: =B7 -> 20 | F11: =F10+$E$5*(E10-F10) -> 5.88
A12: =A11+1 -> 9 | B12: 51 | D12: =A8 -> 5 | E12: =B8 -> 12 | F12: =F11+$E$5*(E11-F11) -> 11.528
A13: =A12+1 -> 10 | B13: 41 | D13: =A9 -> 6 | E13: =B9 -> 17 | F13: =F12+$E$5*(E12-F12) -> 11.7168
A14: =A13+1 -> 11 | B14: 56 | D14: =A10 -> 7 | E14: =B10 -> 22 | F14: =F13+$E$5*(E13-F13) -> 13.83008
A15: =A14+1 -> 12 | B15: 75 | D15: =A11 -> 8 | E15: =B11 -> 23 | F15: =F14+$E$5*(E14-F14) -> 17.098048
A16: =A15+1 -> 13 | B16: 60 | D16: =A12 -> 9 | E16: =B12 -> 51 | F16: =F15+$E$5*(E15-F15) -> 19.458829
A17: =A16+1 -> 14 | B17: 75 | D17: =A13 -> 10 | E17: =B13 -> 41 | F17: =F16+$E$5*(E16-F16) -> 32.075297
A18: =A17+1 -> 15 | B18: 88 | D18: =A14 -> 11 | E18: =B14 -> 56 | F18: =F17+$E$5*(E17-F17) -> 35.645178
D19: =A15 -> 12 | E19: =B15 -> 75 | F19: =F18+$E$5*(E18-F18) -> 43.787107
D20: =A16 -> 13 | E20: =B16 -> 60 | F20: =F19+$E$5*(E19-F19) -> 56.272264
D21: =A17 -> 14 | E21: =B17 -> 75 | F21: =F20+$E$5*(E20-F20) -> 57.763359
D22: =A18 -> 15 | E22: =B18 -> 88 | F22: =F21+$E$5*(E21-F21) -> 64.658015
D23: > | F23: =F22+$E$5*(E22-F22) -> 73.994809
E25: MAE | F25: MSE | G25: MAPE
E26: =SUMPRODUCT(ABS(E9:E22-F9:F22))/COUNT(F9:F22) -> 12.677644 | F26: =SUMXMY2(E9:E22,F9:F22)/COUNT(F9:F22) -> 262.78824 | G26: =SUMPRODUCT(ABS(1-F9:F22/E9:E22))/COUNT(F9:F22) -> 0.34534541

Sheet Exp 2
A1: Single Exponential Smoothing | G1: Single Exponential Smoothing (MAE) | V1: Single Exponential Smoothing
A3: t | B3: y | C3: pred | D3: |e| | E3: e^2 | G3: t | H3: y | I3: pred | J3: |e| | K3: e^2 | V3: t | W3: y | X3: yhat | Y3: |e| | Z3: e^2
A4: 1 | B4: 3 | C4: =B4 -> 3 | G4: 1 | H4: 3 | I4: =H4 -> 3 | V4: 1 | W4: 3 | X4: =W4 -> 3
A5: =A4+1 -> 2 | B5: 5 | C5: =A$21*B4+(1-A$21)*C4 -> 3 | D5: =ABS(B5-C5) -> 2 | E5: =(B5-C5)^2 -> 4 | G5: =G4+1 -> 2 | H5: 5 | I5: =I4+G$21*(H4-I4) -> 3 | J5: =ABS(H5-I5) -> 2 | K5: =(H5-I5)^2 -> 4 | V5: =V4+1 -> 2 | W5: 5 | X5: =X4+V$21*(W4-X4) -> 3 | Y5: =ABS(W5-X5) -> 2 | Z5: =(W5-X5)^2 -> 4
A6: =A5+1 -> 3 | B6: 9 | C6: =A$21*B5+(1-A$21)*C5 -> 3.8 | D6: =ABS(B6-C6) -> 5.2 | E6: =(B6-C6)^2 -> 27.04 | G6: =G5+1 -> 3 | H6: 9 | I6: =I5+G$21*(H5-I5) -> 4.3124106 | J6: =ABS(H6-I6) -> 4.6875894 | K6: =(H6-I6)^2 -> 21.973494 | V6: =V5+1 -> 3 | W6: 9 | X6: =X5+V$21*(W5-X5) -> 4.6878142 | Y6: =ABS(W6-X6) -> 4.3121858 | Z6: =(W6-X6)^2 -> 18.594947
A7: =A6+1 -> 4 | B7: 20 | C7: =A$21*B6+(1-A$21)*C6 -> 5.88 | D7: =ABS(B7-C7) -> 14.12 | E7: =(B7-C7)^2 -> 199.3744 | G7: =G6+1 -> 4 | H7: 20 | I7: =I6+G$21*(H6-I6) -> 7.3884317 | J7: =ABS(H7-I7) -> 12.611568 | K7: =(H7-I7)^2 -> 159.05165 | V7: =V6+1 -> 4 | W7: 20 | X7: =X6+V$21*(W6-X6) -> 8.3268984 | Y7: =ABS(W7-X7) -> 11.673102 | Z7: =(W7-X7)^2 -> 136.2613
A8: =A7+1 -> 5 | B8: 12 | C8: =A$21*B7+(1-A$21)*C7 -> 11.528 | D8: =ABS(B8-C8) -> 0.472 | E8: =(B8-C8)^2 -> 0.222784 | G8: =G7+1 -> 5 | H8: 12 | I8: =I7+G$21*(H7-I7) -> 15.66421 | J8: =ABS(H8-I8) -> 3.66421 | K8: =(H8-I8)^2 -> 13.426435 | V8: =V7+1 -> 5 | W8: 12 | X8: =X7+V$21*(W7-X7) -> 18.177912 | Y8: =ABS(W8-X8) -> 6.1779116 | Z8: =(W8-X8)^2 -> 38.166592
A9: =A8+1 -> 6 | B9: 17 | C9: =A$21*B8+(1-A$21)*C8 -> 11.7168 | D9: =ABS(B9-C9) -> 5.2832 | E9: =(B9-C9)^2 -> 27.912202 | G9: =G8+1 -> 6 | H9: 17 | I9: =I8+G$21*(H8-I8) -> 13.259736 | J9: =ABS(H9-I9) -> 3.7402641 | K9: =(H9-I9)^2 -> 13.989576 | V9: =V8+1 -> 6 | W9: 17 | X9: =X8+V$21*(W8-X8) -> 12.964328 | Y9: =ABS(W9-X9) -> 4.0356718 | Z9: =(W9-X9)^2 -> 16.286647
A10: =A9+1 -> 7 | B10: 22 | C10: =A$21*B9+(1-A$21)*C9 -> 13.83008 | D10: =ABS(B10-C10) -> 8.16992 | E10: =(B10-C10)^2 -> 66.747593 | G10: =G9+1 -> 7 | H10: 22 | I10: =I9+G$21*(H9-I9) -> 15.714117 | J10: =ABS(H10-I10) -> 6.2858829 | K10: =(H10-I10)^2 -> 39.512324 | V10: =V9+1 -> 7 | W10: 22 | X10: =X9+V$21*(W9-X9) -> 16.37006 | Y10: =ABS(W10-X10) -> 5.6299398 | Z10: =(W10-X10)^2 -> 31.696222
A11: =A10+1 -> 8 | B11: 23 | C11: =A$21*B10+(1-A$21)*C10 -> 17.098048 | D11: =ABS(B11-C11) -> 5.901952 | E11: =(B11-C11)^2 -> 34.833037 | G11: =G10+1 -> 8 | H11: 23 | I11: =I10+G$21*(H10-I10) -> 19.838947 | J11: =ABS(H11-I11) -> 3.1610531 | K11: =(H11-I11)^2 -> 9.9922565 | V11: =V10+1 -> 8 | W11: 23 | X11: =X10+V$21*(W10-X10) -> 21.121206 | Y11: =ABS(W11-X11) -> 1.8787937 | Z11: =(W11-X11)^2 -> 3.5298657
A12: =A11+1 -> 9 | B12: 51 | C12: =A$21*B11+(1-A$21)*C11 -> 19.458829 | D12: =ABS(B12-C12) -> 31.541171 | E12: =(B12-C12)^2 -> 994.84548 | G12: =G11+1 -> 9 | H12: 51 | I12: =I11+G$21*(H11-I11) -> 21.913247 | J12: =ABS(H12-I12) -> 29.086753 | K12: =(H12-I12)^2 -> 846.03921 | V12: =V11+1 -> 9 | W12: 51 | X12: =X11+V$21*(W11-X11) -> 22.706734 | Y12: =ABS(W12-X12) -> 28.293266 | Z12: =(W12-X12)^2 -> 800.50892
A13: =A12+1 -> 10 | B13: 41 | C13: =A$21*B12+(1-A$21)*C12 -> 32.075297 | D13: =ABS(B13-C13) -> 8.9247027 | E13: =(B13-C13)^2 -> 79.650319 | G13: =G12+1 -> 10 | H13: 41 | I13: =I12+G$21*(H12-I12) -> 41.000129 | J13: =ABS(H13-I13) -> 0.00012908852 | K13: =(H13-I13)^2 -> 1.6663847e-08 | V13: =V12+1 -> 10 | W13: 41 | X13: =X12+V$21*(W12-X12) -> 46.583622 | Y13: =ABS(W13-X13) -> 5.5836217 | Z13: =(W13-X13)^2 -> 31.176831
A14: =A13+1 -> 11 | B14: 56 | C14: =A$21*B13+(1-A$21)*C13 -> 35.645178 | D14: =ABS(B14-C14) -> 20.354822 | E14: =(B14-C14)^2 -> 414.31876 | G14: =G13+1 -> 11 | H14: 56 | I14: =I13+G$21*(H13-I13) -> 41.000044 | J14: =ABS(H14-I14) -> 14.999956 | K14: =(H14-I14)^2 -> 224.99867 | V14: =V13+1 -> 11 | W14: 56 | X14: =X13+V$21*(W13-X13) -> 41.871564 | Y14: =ABS(W14-X14) -> 14.128436 | Z14: =(W14-X14)^2 -> 199.61271
A15: =A14+1 -> 12 | B15: 75 | C15: =A$21*B14+(1-A$21)*C14 -> 43.787107 | D15: =ABS(B15-C15) -> 31.212893 | E15: =(B15-C15)^2 -> 974.24469 | G15: =G14+1 -> 12 | H15: 75 | I15: =I14+G$21*(H14-I14) -> 50.843095 | J15: =ABS(H15-I15) -> 24.156905 | K15: =(H15-I15)^2 -> 583.55605 | V15: =V14+1 -> 12 | W15: 75 | X15: =X14+V$21*(W14-X14) -> 53.794651 | Y15: =ABS(W15-X15) -> 21.205349 | Z15: =(W15-X15)^2 -> 449.66682
A16: =A15+1 -> 13 | B16: 60 | C16: =A$21*B15+(1-A$21)*C15 -> 56.272264 | D16: =ABS(B16-C16) -> 3.7277358 | E16: =(B16-C16)^2 -> 13.896014 | G16: =G15+1 -> 13 | H16: 60 | I16: =I15+G$21*(H15-I15) -> 66.694985 | J16: =ABS(H16-I16) -> 6.6949847 | K16: =(H16-I16)^2 -> 44.82282 | V16: =V15+1 -> 13 | W16: 60 | X16: =X15+V$21*(W15-X15) -> 71.689995 | Y16: =ABS(W16-X16) -> 11.689995 | Z16: =(W16-X16)^2 -> 136.65599
... A18: =A17+1 -> 15 | B18: 88 | C18: =A$21*B17+(1-A$21)*C17 -> 64.658015 | D18: =ABS(B18-C18) -> 23.341985 | E18: =(B18-C18)^2 -> 544.84826 | G18: =G17+1 -> 15 | H18: 88 | I18: =I17+G$21*(H17-I17) -> 70.634392 | J18: =ABS(H18-I18) -> 17.365608 | K18: =(H18-I18)^2 -> 301.56434 | V18: =V17+1 -> 15 | W18: 88 | X18: =X17+V$21*(W17-X17) -> 72.943433 | Y18: =ABS(W18-X18) -> 15.056567 | Z18: =(W18-X18)^2 -> 226.70021
A20: alpha | C20: MAE | D20: MSE | E20: RMSE | G20: alpha | I20: MAE | J20: MSE | K20: RMSE | V20: alpha | X20: MAE | Y20: MSE | Z20: RMSE
A21: 0.4 | C21: =AVERAGE(D4:D18) -> 12.677644 | D21: =AVERAGE(E4:E18) -> 262.78824 | E21: =SQRT(D21) -> 16.210745 | G21: 0.65620532 | I21: =AVERAGE(J4:J18) -> 10.082372 | J21: =AVERAGE(K4:K18) -> 173.15526 | K21: =SQRT(J21) -> 13.158847 | V21: 0.84390709 | X21: =AVERAGE(Y4:Y18) -> 10.345722 | Y21: =AVERAGE(Z4:Z18) -> 161.88892 | Z21: =SQRT(Y21) -> 12.723558

Sheet Exp 3
A1: Simple Exponential Smoothing
A3: t | B3: y | D3: Exponential Smoothing | H3: sig level | I3: 0.05
A4: 1 | B4: 3
A5: =A4+1 -> 2 | B5: 5 | D5: alpha | E5: 0.65620679
A6: =A5+1 -> 3 | B6: 9
A7: =A6+1 -> 4 | B7: 20 | D7: =A3 -> t | E7: =B3 -> y | F7: forecast | G7: s.e. | H7: lower | I7: upper
A8: =A7+1 -> 5 | B8: 12 | D8: =A4 -> 1 | E8: =B4 -> 3 | F8: =E8 -> 3
A9: =A8+1 -> 6 | B9: 17 | D9: =A5 -> 2 | E9: =B5 -> 5 | F9: =F8+$E$5*(E8-F8) -> 3
A10: =A9+1 -> 7 | B10: 22 | D10: =A6 -> 3 | E10: =B6 -> 9 | F10: =F9+$E$5*(E9-F9) -> 4.3124136 | G10: =SQRT(SUMXMY2(E$9:E9,F$9:F9)/COUNT(F$9:F9)) -> 2 | H10: =F10-G10*_xlfn.NORM.S.INV(1-I$3/2) -> 0.39248581 | I10: =F10+G10*_xlfn.NORM.S.INV(1-I$3/2) -> 8.2323414
A11: =A10+1 -> 8 | B11: 23 | D11: =A7 -> 4 | E11: =B7 -> 20 | F11: =F10+$E$5*(E10-F10) -> 7.3884396 | G11: =SQRT(SUMXMY2(E$9:E10,F$9:F10)/COUNT(F$9:F10)) -> 3.603711 | H11: =F11-G11*_xlfn.NORM.S.INV(1-I$3/2) -> 0.32529617 | I11: =F11+G11*_xlfn.NORM.S.INV(1-I$3/2) -> 14.451583
A12: =A11+1 -> 9 | B12: 51 | D12: =A8 -> 5 | E12: =B8 -> 12 | F12: =F11+$E$5*(E11-F11) -> 15.664231 | G12: =SQRT(SUMXMY2(E$9:E11,F$9:F11)/COUNT(F$9:F11)) -> 7.8533416 | H12: =F12-G12*_xlfn.NORM.S.INV(1-I$3/2) -> 0.27196539 | I12: =F12+G12*_xlfn.NORM.S.INV(1-I$3/2) -> 31.056497
A13: =A12+1 -> 10 | B13: 41 | D13: =A9 -> 6 | E13: =B9 -> 17 | F13: =F12+$E$5*(E12-F12) -> 13.259738 | G13: =SQRT(SUMXMY2(E$9:E12,F$9:F12)/COUNT(F$9:F12)) -> 7.043641 | H13: =F13-G13*_xlfn.NORM.S.INV(1-I$3/2) -> -0.54554411 | I13: =F13+G13*_xlfn.NORM.S.INV(1-I$3/2) -> 27.06502
A14: =A13+1 -> 11 | B14: 56 | D14: =A10 -> 7 | E14: =B10 -> 22 | F14: =F13+$E$5*(E13-F13) -> 15.714123 | G14: =SQRT(SUMXMY2(E$9:E13,F$9:F13)/COUNT(F$9:F13)) -> 6.5182984 | H14: =F14-G14*_xlfn.NORM.S.INV(1-I$3/2) -> 2.9384937 | I14: =F14+G14*_xlfn.NORM.S.INV(1-I$3/2) -> 28.489753
A15: =A14+1 -> 12 | B15: 75 | D15: =A11 -> 8 | E15: =B11 -> 23 | F15: =F14+$E$5*(E14-F14) -> 19.838958 | G15: =SQRT(SUMXMY2(E$9:E14,F$9:F14)/COUNT(F$9:F14)) -> 6.4801404 | H15: =F15-G15*_xlfn.NORM.S.INV(1-I$3/2) -> 7.1381171 | I15: =F15+G15*_xlfn.NORM.S.INV(1-I$3/2) -> 32.5398
A16: =A15+1 -> 13 | B16: 60 | D16: =A12 -> 9 | E16: =B12 -> 51 | F16: =F15+$E$5*(E15-F15) -> 21.913255 | G16: =SQRT(SUMXMY2(E$9:E15,F$9:F15)/COUNT(F$9:F15)) -> 6.1172532 | H16: =F16-G16*_xlfn.NORM.S.INV(1-I$3/2) -> 9.92366 | I16: =F16+G16*_xlfn.NORM.S.INV(1-I$3/2) -> 33.902851
A17: =A16+1 -> 14 | B17: 75 | D17: =A13 -> 10 | E17: =B13 -> 41 | F17: =F16+$E$5*(E16-F16) -> 41.000175 | G17: =SQRT(SUMXMY2(E$9:E16,F$9:F16)/COUNT(F$9:F16)) -> 11.768518 | H17: =F17-G17*_xlfn.NORM.S.INV(1-I$3/2) -> 17.934304 | I17: =F17+G17*_xlfn.NORM.S.INV(1-I$3/2) -> 64.066046
A18: =A17+1 -> 15 | B18: 88 | D18: =A14 -> 11 | E18: =B14 -> 56 | F18: =F17+$E$5*(E17-F17) -> 41.00006 | G18: =SQRT(SUMXMY2(E$9:E17,F$9:F17)/COUNT(F$9:F17)) -> 11.095466 | H18: =F18-G18*_xlfn.NORM.S.INV(1-I$3/2) -> 19.253348 | I18: =F18+G18*_xlfn.NORM.S.INV(1-I$3/2) -> 62.746772
D19: =A15 -> 12 | E19: =B15 -> 75 | F19: =F18+$E$5*(E18-F18) -> 50.843123 | G19: =SQRT(SUMXMY2(E$9:E18,F$9:F18)/COUNT(F$9:F18)) -> 11.545486 | H19: =F19-G19*_xlfn.NORM.S.INV(1-I$3/2) -> 28.214387 | I19: =F19+G19*_xlfn.NORM.S.INV(1-I$3/2) -> 73.471858
D20: =A16 -> 13 | E20: =B16 -> 60 | F20: =F19+$E$5*(E19-F19) -> 66.69503 | G20: =SQRT(SUMXMY2(E$9:E19,F$9:F19)/COUNT(F$9:F19)) -> 13.199646 | H20: =F20-G20*_xlfn.NORM.S.INV(1-I$3/2) -> 40.824201 | I20: =F20+G20*_xlfn.NORM.S.INV(1-I$3/2) -> 92.565859
D21: =A17 -> 14 | E21: =B17 -> 75 | F21: =F20+$E$5*(E20-F20) -> 62.301706 | G21: =SQRT(SUMXMY2(E$9:E20,F$9:F20)/COUNT(F$9:F20)) -> 12.784628 | H21: =F21-G21*_xlfn.NORM.S.INV(1-I$3/2) -> 37.244296 | I21: =F21+G21*_xlfn.NORM.S.INV(1-I$3/2) -> 87.359115
D22: =A18 -> 15 | E22: =B18 -> 88 | F22: =F21+$E$5*(E21-F21) -> 70.634413 | G22: =SQRT(SUMXMY2(E$9:E21,F$9:F21)/COUNT(F$9:F21)) -> 12.778008 | H22: =F22-G22*_xlfn.NORM.S.INV(1-I$3/2) -> 45.589979 | I22: =F22+G22*_xlfn.NORM.S.INV(1-I$3/2) -> 95.678846
D23: > | F23: =F22+$E$5*(E22-F22) -> 82.029829 | G23: =SQRT(SUMXMY2(E$9:E22,F$9:F22)/COUNT(F$9:F22)) -> 13.15884 | H23: =F23-G23*_xlfn.NORM.S.INV(1-I$3/2) -> 56.238979 | I23: =F23+G23*_xlfn.NORM.S.INV(1-I$3/2) -> 107.82068
E25: MAE | F25: MSE | G25: MAPE
E26: =SUMPRODUCT(ABS(E9:E22-F9:F22))/COUNT(F9:F22) -> 10.082372 | F26: =SUMXMY2(E9:E22,F9:F22)/COUNT(F9:F22) -> 173.15506 | G26: =SUMPRODUCT(ABS(1-F9:F22/E9:E22))/COUNT(F9:F22) -> 0.29560416

Sheet Holt
A1: Holt's Linear Trend
A3: t | B3: y | C3: u | D3: v | E3: pred | F3: |e| | G3: e^2 | Q3: t | R3: y | S3: pred
A4: 1 | B4: 3 | C4: =B4 -> 3 | D4: 0 | Q4: 1 | R4: 3
A5: =A4+1 -> 2 | B5: 5 | C5: =B$21*B5+(1-B$21)*(C4+D4) -> 3.8 | D5: =C$21*(C5-C4)+(1-C$21)*D4 -> 0.56 | E5: =C4+D4 -> 3 | F5: =ABS(B5-E5) -> 2 | G5: =(B5-E5)^2 -> 4 | Q5: =Q4+1 -> 2 | R5: 5 | S5: =E5 -> 3
A6: =A5+1 -> 3 | B6: 9 | C6: =B$21*B6+(1-B$21)*(C5+D5) -> 6.216 | D6: =C$21*(C6-C5)+(1-C$21)*D5 -> 1.8592 | E6: =C5+D5 -> 4.36 | F6: =ABS(B6-E6) -> 4.64 | G6: =(B6-E6)^2 -> 21.5296 | Q6: =Q5+1 -> 3 | R6: 9 | S6: =E6 -> 4.36
A7: =A6+1 -> 4 | B7: 20 | C7: =B$21*B7+(1-B$21)*(C6+D6) -> 12.84512 | D7: =C$21*(C7-C6)+(1-C$21)*D6 -> 5.198144 | E7: =C6+D6 -> 8.0752 | F7: =ABS(B7-E7) -> 11.9248 | G7: =(B7-E7)^2 -> 142.20086 | Q7: =Q6+1 -> 4 | R7: 20 | S7: =E7 -> 8.0752
A8: =A7+1 -> 5 | B8: 12 | C8: =B$21*B8+(1-B$21)*(C7+D7) -> 15.625958 | D8: =C$21*(C8-C7)+(1-C$21)*D7 -> 3.5060301 | E8: =C7+D7 -> 18.043264 | F8: =ABS(B8-E8) -> 6.043264 | G8: =(B8-E8)^2 -> 36.52104 | Q8: =Q7+1 -> 5 | R8: 12 | S8: =E8 -> 18.043264
A9: =A8+1 -> 6 | B9: 17 | C9: =B$21*B9+(1-B$21)*(C8+D8) -> 18.279193 | D9: =C$21*(C9-C8)+(1-C$21)*D8 -> 2.9090733 | E9: =C8+D8 -> 19.131988 | F9: =ABS(B9-E9) -> 2.1319885 | G9: =(B9-E9)^2 -> 4.5453749 | Q9: =Q8+1 -> 6 | R9: 17 | S9: =E9 -> 19.131988
A10: =A9+1 -> 7 | B10: 22 | C10: =B$21*B10+(1-B$21)*(C9+D9) -> 21.51296 | D10: =C$21*(C10-C9)+(1-C$21)*D9 -> 3.1363587 | E10: =C9+D9 -> 21.188266 | F10: =ABS(B10-E10) -> 0.81173361 | G10: =(B10-E10)^2 -> 0.65891145 | Q10: =Q9+1 -> 7 | R10: 22 | S10: =E10 -> 21.188266
A11: =A10+1 -> 8 | B11: 23 | C11: =B$21*B11+(1-B$21)*(C10+D10) -> 23.989591 | D11: =C$21*(C11-C10)+(1-C$21)*D10 -> 2.6745495 | E11: =C10+D10 -> 24.649319 | F11: =ABS(B11-E11) -> 1.6493186 | G11: =(B11-E11)^2 -> 2.7202517 | Q11: =Q10+1 -> 8 | R11: 23 | S11: =E11 -> 24.649319
A12: =A11+1 -> 9 | B12: 51 | C12: =B$21*B12+(1-B$21)*(C11+D11) -> 36.398484 | D12: =C$21*(C12-C11)+(1-C$21)*D11 -> 9.4885901 | E12: =C11+D11 -> 26.664141 | F12: =ABS(B12-E12) -> 24.335859 | G12: =(B12-E12)^2 -> 592.23405 | Q12: =Q11+1 -> 9 | R12: 51 | S12: =E12 -> 26.664141
A13: =A12+1 -> 10 | B13: 41 | C13: =B$21*B13+(1-B$21)*(C12+D12) -> 43.932245 | D13: =C$21*(C13-C12)+(1-C$21)*D12 -> 8.1202093 | E13: =C12+D12 -> 45.887075 | F13: =ABS(B13-E13) -> 4.8870745 | G13: =(B13-E13)^2 -> 23.883497 | Q13: =Q12+1 -> 10 | R13: 41 | S13: =E13 -> 45.887075
A14: =A13+1 -> 11 | B14: 56 | C14: =B$21*B14+(1-B$21)*(C13+D13) -> 53.631472 | D14: =C$21*(C14-C13)+(1-C$21)*D13 -> 9.2255222 | E14: =C13+D13 -> 52.052454 | F14: =ABS(B14-E14) -> 3.947546 | G14: =(B14-E14)^2 -> 15.58312 | Q14: =Q13+1 -> 11 | R14: 56 | S14: =E14 -> 52.052454
A15: =A14+1 -> 12 | B15: 75 | C15: =B$21*B15+(1-B$21)*(C14+D14) -> 67.714197 | D15: =C$21*(C15-C14)+(1-C$21)*D14 -> 12.625564 | E15: =C14+D14 -> 62.856995 | F15: =ABS(B15-E15) -> 12.143005 | G15: =(B15-E15)^2 -> 147.45258 | Q15: =Q14+1 -> 12 | R15: 75 | S15: =E15 -> 62.856995
A16: =A15+1 -> 13 | B16: 60 | C16: =B$21*B16+(1-B$21)*(C15+D15) -> 72.203856 | D16: =C$21*(C16-C15)+(1-C$21)*D15 -> 6.9304308 | E16: =C15+D15 -> 80.33976 | F16: =ABS(B16-E16) -> 20.33976 | G16: =(B16-E16)^2 -> 413.70585 | Q16: =Q15+1 -> 13 | R16: 60 | S16: =E16 -> 80.33976
... A18: =A17+1 -> 15 | B18: 88 | C18: =B$21*B18+(1-B$21)*(C17+D17) -> 85.152042 | D18: =C$21*(C18-C17)+(1-C$21)*D17 -> 7.1018777 | E18: =C17+D17 -> 83.253403 | F18: =ABS(B18-E18) -> 4.7465974 | G18: =(B18-E18)^2 -> 22.530187 | Q18: =Q17+1 -> 15 | R18: 88 | S18: =E18 -> 83.253403
Q19: =Q18+1 -> 16 | S19: =C$18+(Q19-Q$18)*D$18 -> 92.253919
B20: alpha | C20: beta | E20: MAE | F20: MSE | G20: RMSE | Q20: =Q19+1 -> 17 | S20: =C$18+(Q20-Q$18)*D$18 -> 99.355797
B21: 0.4 | C21: 0.7 | E21: =AVERAGE(F4:F18) -> 7.4096596 | F21: =AVERAGE(G4:G18) -> 103.18983 | G21: =SQRT(F21) -> 10.15824 | Q21: =Q20+1 -> 18 | S21: =C$18+(Q21-Q$18)*D$18 -> 106.45767
Q22: =Q21+1 -> 19 | S22: =C$18+(Q22-Q$18)*D$18 -> 113.55955
Q23: =Q22+1 -> 20 | S23: =C$18+(Q23-Q$18)*D$18 -> 120.66143

Sheet Holt 2
A1: Holt's Method (minimize MAE)
A3: t | B3: y | C3: u | D3: v | E3: pred | F3: |e| | G3: e^2 | Q3: t | R3: y | S3: pred
A4: 1 | B4: 3 | C4: =B4 -> 3 | D4: 0 | Q4: 1 | R4: 3
A5: =A4+1 -> 2 | B5: 5 | C5: =B$21*B5+(1-B$21)*(C4+D4) -> 3.5436346 | D5: =C$21*(C5-C4)+(1-C$21)*D4 -> 0.32518115 | E5: =C4+D4 -> 3 | F5: =ABS(B5-E5) -> 2 | G5: =(B5-E5)^2 -> 4 | Q5: =Q4+1 -> 2 | R5: 5 | S5: =E5 -> 3
A6: =A5+1 -> 3 | B6: 9 | C6: =B$21*B6+(1-B$21)*(C5+D5) -> 5.2635605 | D6: =C$21*(C6-C5)+(1-C$21)*D5 -> 1.1594634 | E6: =C5+D5 -> 3.8688158 | F6: =ABS(B6-E6) -> 5.1311842 | G6: =(B6-E6)^2 -> 26.329051 | Q6: =Q5+1 -> 3 | R6: 9 | S6: =E6 -> 3.8688158
A7: =A6+1 -> 4 | B7: 20 | C7: =B$21*B7+(1-B$21)*(C6+D6) -> 10.113481 | D7: =C$21*(C7-C6)+(1-C$21)*D6 -> 3.3669517 | E7: =C6+D6 -> 6.4230239 | F7: =ABS(B7-E7) -> 13.576976 | G7: =(B7-E7)^2 -> 184.33428 | Q7: =Q6+1 -> 4 | R7: 20 | S7: =E7 -> 6.4230239
A8: =A7+1 -> 5 | B8: 12 | C8: =B$21*B8+(1-B$21)*(C7+D7) -> 13.078026 | D8: =C$21*(C8-C7)+(1-C$21)*D7 -> 3.1262473 | E8: =C7+D7 -> 13.480433 | F8: =ABS(B8-E8) -> 1.4804329 | G8: =(B8-E8)^2 -> 2.1916815 | Q8: =Q7+1 -> 5 | R8: 12 | S8: =E8 -> 13.480433
A9: =A8+1 -> 6 | B9: 17 | C9: =B$21*B9+(1-B$21)*(C8+D8) -> 16.420565 | D9: =C$21*(C9-C8)+(1-C$21)*D8 -> 3.255625 | E9: =C8+D8 -> 16.204273 | F9: =ABS(B9-E9) -> 0.79572712 | G9: =(B9-E9)^2 -> 0.63318166 | Q9: =Q8+1 -> 6 | R9: 17 | S9: =E9 -> 16.204273
A10: =A9+1 -> 7 | B10: 22 | C10: =B$21*B10+(1-B$21)*(C9+D9) -> 20.307842 | D10: =C$21*(C10-C9)+(1-C$21)*D9 -> 3.6334546 | E10: =C9+D9 -> 19.67619 | F10: =ABS(B10-E10) -> 2.3238097 | G10: =(B10-E10)^2 -> 5.4000914 | Q10: =Q9+1 -> 7 | R10: 22 | S10: =E10 -> 19.67619
A11: =A10+1 -> 8 | B11: 23 | C11: =B$21*B11+(1-B$21)*(C10+D10) -> 23.685436 | D11: =C$21*(C11-C10)+(1-C$21)*D10 -> 3.4804086 | E11: =C10+D10 -> 23.941297 | F11: =ABS(B11-E11) -> 0.94129663 | G11: =(B11-E11)^2 -> 0.88603934 | Q11: =Q10+1 -> 8 | R11: 23 | S11: =E11 -> 23.941297
A12: =A11+1 -> 9 | B12: 51 | C12: =B$21*B12+(1-B$21)*(C11+D11) -> 33.644381 | D12: =C$21*(C12-C11)+(1-C$21)*D11 -> 7.3556177 | E12: =C11+D11 -> 27.165845 | F12: =ABS(B12-E12) -> 23.834155 | G12: =(B12-E12)^2 -> 568.06697 | Q12: =Q11+1 -> 9 | R12: 51 | S12: =E12 -> 27.165845
A13: =A12+1 -> 10 | B13: 41 | C13: =B$21*B13+(1-B$21)*(C12+D12) -> 40.999999 | D13: =C$21*(C13-C12)+(1-C$21)*D12 -> 7.355618 | E13: =C12+D12 -> 40.999998 | F13: =ABS(B13-E13) -> 1.5073115e-06 | G13: =(B13-E13)^2 -> 2.271988e-12 | Q13: =Q12+1 -> 10 | R13: 41 | S13: =E13 -> 40.999998
A14: =A13+1 -> 11 | B14: 56 | C14: =B$21*B14+(1-B$21)*(C13+D13) -> 50.433493 | D14: =C$21*(C14-C13)+(1-C$21)*D13 -> 8.5985226 | E14: =C13+D13 -> 48.355617 | F14: =ABS(B14-E14) -> 7.6443831 | G14: =(B14-E14)^2 -> 58.436594 | Q14: =Q13+1 -> 11 | R14: 56 | S14: =E14 -> 48.355617
A15: =A14+1 -> 12 | B15: 75 | C15: =B$21*B15+(1-B$21)*(C14+D14) -> 63.37239 | D15: =C$21*(C15-C14)+(1-C$21)*D14 -> 11.194766 | E15: =C14+D14 -> 59.032015 | F15: =ABS(B15-E15) -> 15.967985 | G15: =(B15-E15)^2 -> 254.97654 | Q15: =Q14+1 -> 12 | R15: 75 | S15: =E15 -> 59.032015
A16: =A15+1 -> 13 | B16: 60 | C16: =B$21*B16+(1-B$21)*(C15+D15) -> 70.607551 | D16: =C$21*(C16-C15)+(1-C$21)*D15 -> 8.8262841 | E16: =C15+D15 -> 74.567157 | F16: =ABS(B16-E16) -> 14.567157 | G16: =(B16-E16)^2 -> 212.20205 | Q16: =Q15+1 -> 13 | R16: 60 | S16: =E16 -> 74.567157
... A18: =A17+1 -> 15 | B18: 88 | C18: =B$21*B18+(1-B$21)*(C17+D17) -> 86.786867 | D18: =C$21*(C18-C17)+(1-C$21)*D17 -> 8.3762559 | E18: =C17+D17 -> 86.334026 | F18: =ABS(B18-E18) -> 1.6659737 | G18: =(B18-E18)^2 -> 2.7754685 | Q18: =Q17+1 -> 15 | R18: 88 | S18: =E18 -> 86.334026
Q19: =Q18+1 -> 16 | S19: =C$18+(Q19-Q$18)*D$18 -> 95.163123
B20: alpha | C20: beta | E20: MAE | F20: MSE | G20: RMSE | Q20: =Q19+1 -> 17 | S20: =C$18+(Q20-Q$18)*D$18 -> 103.53938
B21: 0.27181732 | C21: 0.59816121 | E21: =AVERAGE(F4:F18) -> 6.7402084 | F21: =AVERAGE(G4:G18) -> 95.706488 | G21: =SQRT(F21) -> 9.7829693 | Q21: =Q20+1 -> 18 | S21: =C$18+(Q21-Q$18)*D$18 -> 111.91563
Q22: =Q21+1 -> 19 | S22: =C$18+(Q22-Q$18)*D$18 -> 120.29189
Q23: =Q22+1 -> 20 | S23: =C$18+(Q23-Q$18)*D$18 -> 128.66815

Sheet Holt 3
A1: Holt's Method | D1: Holt's Method (Real Statistics)
A3: t | B3: y | D3: =A3 -> t | E3: =B3 -> y | F3: u | G3: v | H3: forecast
A4: 1 | B4: 3 | D4: =A4 -> 1 | E4: =B4 -> 3 | F4: =E4 -> 3 | G4: 0
A5: =A4+1 -> 2 | B5: 5 | D5: =A5 -> 2 | E5: =B5 -> 5 | F5: =$E$26*E5+(1-$E$26)*(F4+G4) -> 3.8 | G5: =$F$26*(F5-F4)+(1-$F$26)*G4 -> 0.56 | H5: =F4+G4 -> 3
A6: =A5+1 -> 3 | B6: 9 | D6: =A6 -> 3 | E6: =B6 -> 9 | F6: =$E$26*E6+(1-$E$26)*(F5+G5) -> 6.216 | G6: =$F$26*(F6-F5)+(1-$F$26)*G5 -> 1.8592 | H6: =F5+G5 -> 4.36
A7: =A6+1 -> 4 | B7: 20 | D7: =A7 -> 4 | E7: =B7 -> 20 | F7: =$E$26*E7+(1-$E$26)*(F6+G6) -> 12.84512 | G7: =$F$26*(F7-F6)+(1-$F$26)*G6 -> 5.198144 | H7: =F6+G6 -> 8.0752
A8: =A7+1 -> 5 | B8: 12 | D8: =A8 -> 5 | E8: =B8 -> 12 | F8: =$E$26*E8+(1-$E$26)*(F7+G7) -> 15.625958 | G8: =$F$26*(F8-F7)+(1-$F$26)*G7 -> 3.5060301 | H8: =F7+G7 -> 18.043264
A9: =A8+1 -> 6 | B9: 17 | D9: =A9 -> 6 | E9: =B9 -> 17 | F9: =$E$26*E9+(1-$E$26)*(F8+G8) -> 18.279193 | G9: =$F$26*(F9-F8)+(1-$F$26)*G8 -> 2.9090733 | H9: =F8+G8 -> 19.131988
A10: =A9+1 -> 7 | B10: 22 | D10: =A10 -> 7 | E10: =B10 -> 22 | F10: =$E$26*E10+(1-$E$26)*(F9+G9) -> 21.51296 | G10: =$F$26*(F10-F9)+(1-$F$26)*G9 -> 3.1363587 | H10: =F9+G9 -> 21.188266
A11: =A10+1 -> 8 | B11: 23 | D11: =A11 -> 8 | E11: =B11 -> 23 | F11: =$E$26*E11+(1-$E$26)*(F10+G10) -> 23.989591 | G11: =$F$26*(F11-F10)+(1-$F$26)*G10 -> 2.6745495 | H11: =F10+G10 -> 24.649319
A12: =A11+1 -> 9 | B12: 51 | D12: =A12 -> 9 | E12: =B12 -> 51 | F12: =$E$26*E12+(1-$E$26)*(F11+G11) -> 36.398484 | G12: =$F$26*(F12-F11)+(1-$F$26)*G11 -> 9.4885901 | H12: =F11+G11 -> 26.664141
A13: =A12+1 -> 10 | B13: 41 | D13: =A13 -> 10 | E13: =B13 -> 41 | F13: =$E$26*E13+(1-$E$26)*(F12+G12) -> 43.932245 | G13: =$F$26*(F13-F12)+(1-$F$26)*G12 -> 8.1202093 | H13: =F12+G12 -> 45.887075
A14: =A13+1 -> 11 | B14: 56 | D14: =A14 -> 11 | E14: =B14 -> 56 | F14: =$E$26*E14+(1-$E$26)*(F13+G13) -> 53.631472 | G14: =$F$26*(F14-F13)+(1-$F$26)*G13 -> 9.2255222 | H14: =F13+G13 -> 52.052454
A15: =A14+1 -> 12 | B15: 75 | D15: =A15 -> 12 | E15: =B15 -> 75 | F15: =$E$26*E15+(1-$E$26)*(F14+G14) -> 67.714197 | G15: =$F$26*(F15-F14)+(1-$F$26)*G14 -> 12.625564 | H15: =F14+G14 -> 62.856995
A16: =A15+1 -> 13 | B16: 60 | D16: =A16 -> 13 | E16: =B16 -> 60 | F16: =$E$26*E16+(1-$E$26)*(F15+G15) -> 72.203856 | G16: =$F$26*(F16-F15)+(1-$F$26)*G15 -> 6.9304308 | H16: =F15+G15 -> 80.33976
... A18: =A17+1 -> 15 | B18: 88 | D18: =A18 -> 15 | E18: =B18 -> 88 | F18: =$E$26*E18+(1-$E$26)*(F17+G17) -> 85.152042 | G18: =$F$26*(F18-F17)+(1-$F$26)*G17 -> 7.1018777 | H18: =F17+G17 -> 83.253403
D19: > | H19: =$F$18+$G$18*(ROW(F19)-ROW($F$18)) -> 92.253919
D20: > | H20: =$F$18+$G$18*(ROW(F20)-ROW($F$18)) -> 99.355797
D21: > | H21: =$F$18+$G$18*(ROW(F21)-ROW($F$18)) -> 106.45767
D22: > | H22: =$F$18+$G$18*(ROW(F22)-ROW($F$18)) -> 113.55955
D23: > | H23: =$F$18+$G$18*(ROW(F23)-ROW($F$18)) -> 120.66143
E25: alpha | F25: beta | G25: MAE | H25: MSE | I25: MAPE
E26: 0.4 | F26: 0.7 | G26: =SUMPRODUCT(ABS(E5:E18-H5:H18))/COUNT(H5:H18) -> 7.4096596 | H26: =SUMXMY2(E5:E18,H5:H18)/COUNT(H5:H18) -> 103.18983 | I26: =SUMPRODUCT(ABS(1-H5:H18/E5:E18))/COUNT(H5:H18) -> 0.25187473

Sheet Holt 4
A1: Holt's Method (minimize MSE)
A3: t | B3: y | C3: u | D3: v | E3: pred | F3: |e| | G3: e^2
A4: 1 | B4: 3 | C4: =B4 -> 3 | D4: 0
A5: =A4+1 -> 2 | B5: 5 | C5: =B$21*B5+(1-B$21)*(C4+D4) -> 3.3990263 | D5: =C$21*(C5-C4)+(1-C$21)*D4 -> 0.39902626 | E5: =C4+D4 -> 3 | F5: =ABS(B5-E5) -> 2 | G5: =(B5-E5)^2 -> 4
A6: =A5+1 -> 3 | B6: 9 | C6: =B$21*B6+(1-B$21)*(C5+D5) -> 4.8359093 | D6: =C$21*(C6-C5)+(1-C$21)*D5 -> 1.4368831 | E6: =C5+D5 -> 3.7980525 | F6: =ABS(B6-E6) -> 5.2019475 | G6: =(B6-E6)^2 -> 27.060258
A7: =A6+1 -> 4 | B7: 20 | C7: =B$21*B7+(1-B$21)*(C6+D6) -> 9.0115505 | D7: =C$21*(C7-C6)+(1-C$21)*D6 -> 4.1756412 | E7: =C6+D6 -> 6.2727924 | F7: =ABS(B7-E7) -> 13.727208 | G7: =(B7-E7)^2 -> 188.43623
A8: =A7+1 -> 5 | B8: 12 | C8: =B$21*B8+(1-B$21)*(C7+D7) -> 12.950331 | D8: =C$21*(C8-C7)+(1-C$21)*D7 -> 3.9387809 | E8: =C7+D7 -> 13.187192 | F8: =ABS(B8-E8) -> 1.1871917 | G8: =(B8-E8)^2 -> 1.4094242
A9: =A8+1 -> 6 | B9: 17 | C9: =B$21*B9+(1-B$21)*(C8+D8) -> 16.911236 | D9: =C$21*(C9-C8)+(1-C$21)*D8 -> 3.9609044 | E9: =C8+D8 -> 16.889112 | F9: =ABS(B9-E9) -> 0.11088775 | G9: =(B9-E9)^2 -> 0.012296093
A10: =A9+1 -> 7 | B10: 22 | C10: =B$21*B10+(1-B$21)*(C9+D9) -> 21.097163 | D10: =C$21*(C10-C9)+(1-C$21)*D9 -> 4.1859273 | E10: =C9+D9 -> 20.87214 | F10: =ABS(B10-E10) -> 1.1278598 | G10: =(B10-E10)^2 -> 1.2720676
A11: =A10+1 -> 8 | B11: 23 | C11: =B$21*B11+(1-B$21)*(C10+D10) -> 24.827584 | D11: =C$21*(C11-C10)+(1-C$21)*D10 -> 3.7304208 | E11: =C10+D10 -> 25.28309 | F11: =ABS(B11-E11) -> 2.2830903 | G11: =(B11-E11)^2 -> 5.2125014
A12: =A11+1 -> 9 | B12: 51 | C12: =B$21*B12+(1-B$21)*(C11+D11) -> 33.035477 | D12: =C$21*(C12-C11)+(1-C$21)*D11 -> 8.2078935 | E12: =C11+D11 -> 28.558005 | F12: =ABS(B12-E12) -> 22.441995 | G12: =(B12-E12)^2 -> 503.64316
A13: =A12+1 -> 10 | B13: 41 | C13: =B$21*B13+(1-B$21)*(C12+D12) -> 41.194815 | D13: =C$21*(C13-C12)+(1-C$21)*D12 -> 8.1593378 | E13: =C12+D12 -> 41.243371 | F13: =ABS(B13-E13) -> 0.24337076 | G13: =(B13-E13)^2 -> 0.059229326
A14: =A13+1 -> 11 | B14: 56 | C14: =B$21*B14+(1-B$21)*(C13+D13) -> 50.680087 | D14: =C$21*(C14-C13)+(1-C$21)*D13 -> 9.4852715 | E14: =C13+D13 -> 49.354153 | F14: =ABS(B14-E14) -> 6.6458471 | G14: =(B14-E14)^2 -> 44.167284
A15: =A14+1 -> 12 | B15: 75 | C15: =B$21*B15+(1-B$21)*(C14+D14) -> 63.125064 | D15: =C$21*(C15-C14)+(1-C$21)*D14 -> 12.444977 | E15: =C14+D14 -> 60.165358 | F15: =ABS(B15-E15) -> 14.834642 | G15: =(B15-E15)^2 -> 220.0666
A16: =A15+1 -> 13 | B16: 60 | C16: =B$21*B16+(1-B$21)*(C15+D15) -> 72.463614 | D16: =C$21*(C16-C15)+(1-C$21)*D15 -> 9.3385497 | E16: =C15+D15 -> 75.570041 | F16: =ABS(B16-E16) -> 15.570041 | G16: =(B16-E16)^2 -> 242.42619
