Workbook
Name DataRange: #REF!
Name DataRange: #REF!
Name DataRange: #REF!

Sheet TOC0
A1: Real Statistics Using Excel - Time Series Examples Workbook
A2: Charles Zaiontz, 4 March 2022
A4: Copyright © 2013 - 2022 Charles Zaiontz
A6: Concise Table of Contents
A8: Forecast Accuracy
A9: Basic Forecasting Methods
A10: Stochastic Processes
A11: Autoregressive Processes
A12: Moving Average Processes
A13: ARMA Processes
A14: ARIMA Processes
A15: SARIMA Processes
... A18: Statistical tables

Sheet TOC
A1: Real Statistics Using Excel - Time Series Examples Workbook
A2: Charles Zaiontz, 4 March 2022
A4: Copyright © 2013 - 2022 Charles Zaiontz
A6: Table of Contents
A8: Forecast Accuracy
A10: Error Statistics
B11: Error statistics
A13: Diebold-Mariano Test
B14: Diebold-Mariano Test and Comparison of Forecasts
B15: HLN Test
A17: Pesaran-Timmermann Test
B18: Pesaran-Timmermann Test
A20: Basic Forecasting Methods
A22: Simple Moving Average
B23: Moving Average Forecast (Example 1)
B24: Excel's Moving Average data analysis tool
B25: Real Statistics Moving Average data analysis tool
A27: Weighted Moving Average
B28: Weighted Moving Average (Example 1)
B29: Optimization of Weighted Moving Average using Solver (Example 2)
A31: Simple Exponential Smoothing
B32: Simple Exponential Smoothing (Example 1)
B33: Excel's Exponential Smoothing data analysis tool
B34: Real Statistics Single Exponential Smoothing data analysis tool
B35: Optimization of Simple Exponential Smoothing using Solver (Example 2)
B36: Real Statistics Simple Exponrntial Smoothing data analysis tool with optimization
A38: Holt's Linear Trend
B39: Holt's Linear Trend (Example 1)
B40: Optimization of Holt's Method using Solver (Example 2)
B41: Optimization of Holt's Method using Solver (minimize MSE)
B42: Forecasting using Holt's Linear Trend (Example 3)
B43: Real Statistics Holt's Linear Trend data analysis tool
B44: Real Statistics Holt's Linear Trend data analysis tool with optimization
A46: Holt-Winters Seasonal Model
B47: Holt-Winters Multiplicative (Example 1)
B48: Holt-Winters Multiplicative (Example 2)
B49: Optimization of Holt-Winters Multiplicative using Solver
B50: Holt-Winters Additive
B51: Holt-Winters Additive data analysis tool
A53: Real Statistics Data Analysis Tools
B54: Holt-Winters Multiplicative Tool
B55: Holt-Winters Multiplicative Tool with optimization
B56: Holt-Winters Multiplicative Tool using MultiStart
A58: Stochastic Processes
A60: Stationary Process
B61: Dow Jones Time Series (Example 1)
B62: Lag 1 Differencing
A64: Autocorrelation Function
B65: Autocorrelation Function (Example 1)
B66: ACF and Correlogram (Example 2)
B67: Bartlett's Test (Example 3)
B68: Box-Pierce Test (Example 4)
B69: Ljung-Box Test (Example 4)
A71: Partial Autocorrelation Function
B72: PACF (Example 1)
B73: Calculation of PACF(4)
B74: Bartlett's test for PACF
A76: Correlogram
B77: Correlogram ACF
B78: Correlogram PACF
A80: Purely Random Time Series
B81: White Noise Simulation (Example 1)
B82: ACF and PACF for white noise
A84: Random Walk
B85: Random Walk Simulation (Example 1)
B86: First differences of RW
A88: Deterministic Trend
B89: Simulation (Example 1)
B90: Detrending
A92: Dickey-Fuller Test
B93: Example 1 (no constant, no trend)
B94: Example 1 (constant, no trend)
B95: Example 1 (constant, trend)
A97: Real Statistics data analysis tool
B98: Testing tool (Example 1)
B99: Testing tool (Example 2)
A101: Handling missing time series data
B102: Imputation techniques
B103: Imputation techniques for seasonal time series
B104: Split seasonality
B105: Deseasonality
A107: Autoregressive Processes
A109: Basic Concepts
B110: Simulated AR(1) Process (Example 1)
B111: ACF for AR(1) Process
A113: Partial Autocorrelation
B114: PACF for AR(1) Process (Example 1)
B115: ACF and PACF for AR(2) Process (Example 2)
A117: Finding Model Coefficients using ACF/PACF
B118: Calculating coefficients for AR(1) process (Example 1)
B119: Calculating coefficients for AR(2) process (Example 2)
A121: Finding Model Coefficients using Least squares
B122: Calculating coefficients for AR(1) process (Example 1)
B123: Calculating coefficients for AR(2) process (Example 2)
B124: Calculating coefficients for AR(2) process using Regression
B125: Calculating coefficients for AR(1) process using Solver
B126: Calculating coefficients for AR(2) process using Solver
A128: Augmented Dickey-Fuller Test
B129: ADF Test (Example 1)
A131: PP and KPSS Tests
...

Sheet Error
A1: Error Statistics
A3: data | B3: forecast1 | C3: forecast2 | E3: Error Statistics
A4: 1.2288378 | B4: 0.90283699 | C4: 0.89454344
A5: 2.6684006 | B5: 2.4492678 | C5: 2.3213521 | E5: #NAME? | F5: #NAME? | G5: #NAME? | I5: #NAME? | K5: #NAME?
A6: 3.4177281 | B6: 3.2075581 | C6: 2.5208157 | E6: #NAME? | F6: #NAME? | G6: #NAME? | I6: #NAME? | K6: #NAME?
A7: 2.2391972 | B7: 2.4383221 | C7: 1.908075 | E7: #NAME? | F7: #NAME? | G7: #NAME? | I7: #NAME? | K7: #NAME?
A8: 2.1225599 | B8: 2.7751086 | C8: 0.95078208 | E8: #NAME? | F8: #NAME? | G8: #NAME? | I8: #NAME? | K8: #NAME?
A9: 0.46379872 | B9: 0.59316171 | C9: -0.61066483 | E9: #NAME? | F9: #NAME? | G9: #NAME? | I9: #NAME? | K9: #NAME?
A10: -0.55080545 | B10: 0.1085186 | C10: -1.1154503 | E10: #NAME? | F10: #NAME? | G10: #NAME? | I10: #NAME? | K10: #NAME?
A11: 1.1829462 | B11: 0.87851773 | C11: 1.1116309 | E11: #NAME? | F11: #NAME? | G11: #NAME? | I11: #NAME? | K11: #NAME?
A12: -2.4132987 | B12: -1.1653132 | C12: -2.7776482 | E12: #NAME? | F12: #NAME? | G12: #NAME? | I12: #NAME? | K12: #NAME?
A13: 0.97947061 | B13: 0.59371931 | C13: 1.51728 | E13: #NAME? | F13: #NAME? | G13: #NAME? | I13: #NAME? | K13: #NAME?
A14: 0.55088233 | B14: -0.0036272862 | C14: 0.48976791
A15: 1.2279214 | B15: 0.99431526 | C15: 1.047002
A16: -0.92350668 | B16: 0.51942479 | C16: -1.3447918
A17: -0.090278956 | B17: 0.28509902 | C17: 0.0019235426
A18: 1.6837933 | B18: 0.57137859 | C18: 1.7465681
A19: -0.61077145 | B19: 0.2233359 | C19: -1.0631678
A20: 1.2810447 | B20: 0.32758098 | C20: 1.2719837
A21: -0.92224583 | B21: 0.084688854 | C21: -1.2893345
A22: -0.57811004 | B22: -0.083990871 | C22: -0.4644213
A23: 0.76869728 | B23: -0.073103735 | C23: 0.97853138
A25: n | B25: =COUNT(A4:A23) -> 20

Sheet DM
A1: Diebold-Mariano Test | P1: Real Statistics Analysis
A3: data | B3: forecast1 | C3: forecast2 | E3: i | F3: error 1 | G3: error 2 | H3: d | I3: gamma | J3: s.e. | K3: dm | M3: Diebold-Mariano Test | P3: Diebold-Mariano Test | T3: gamma
A4: 1.2288378 | B4: 0.90283699 | C4: 0.89454344 | E4: 1 | F4: =A4-B4 -> 0.32600083 | G4: =A4-C4 -> 0.33429438 | H4: =F4^2-G4^2 -> -0.0054761924 | I4: {=SUMPRODUCT(H5:H$23-H$25,OFFSET(H$4:H$23,0,0,E$23-E4)-H$25)/E$23} -> 0.12014278 | J4: =SQRT(K25/E23) -> 0.16627482 | K4: =H$25/J4 -> 1.5834537 | T4: #NAME?
A5: 2.6684006 | B5: 2.4492678 | C5: 2.3213521 | E5: =E4+1 -> 2 | F5: =A5-B5 -> 0.21913276 | G5: =A5-C5 -> 0.3470485 | H5: =F5^2-G5^2 -> -0.072423491 | I5: {=SUMPRODUCT(H6:H$23-H$25,OFFSET(H$4:H$23,0,0,E$23-E5)-H$25)/E$23} -> 0.26078226 | J5: =SQRT((K$25+2*SUMPRODUCT(I$4:I4))/E$23) -> 0.19915218 | K5: =H$25/J5 -> 1.3220466 | M5: Squared errors | P5: Sqr errors | Q5: 0 | T5: #NAME?
A6: 3.4177281 | B6: 3.2075581 | C6: 2.5208157 | E6: =E5+1 -> 3 | F6: =A6-B6 -> 0.21016998 | G6: =A6-C6 -> 0.89691232 | H6: =F6^2-G6^2 -> -0.76028029 | I6: {=SUMPRODUCT(H7:H$23-H$25,OFFSET(H$4:H$23,0,0,E$23-E6)-H$25)/E$23} -> 0.028657538 | J6: =SQRT((K$25+2*SUMPRODUCT(I$4:I5))/E$23) -> 0.25639777 | K6: =H$25/J6 -> 1.026875 | M6: Order | N6: 4 | P6: Order | Q6: 4 | T6: #NAME?
A7: 2.2391972 | B7: 2.4383221 | C7: 1.908075 | E7: =E6+1 -> 4 | F7: =A7-B7 -> -0.19912499 | G7: =A7-C7 -> 0.3311222 | H7: =F7^2-G7^2 -> -0.069991151 | I7: {=SUMPRODUCT(H8:H$23-H$25,OFFSET(H$4:H$23,0,0,E$23-E7)-H$25)/E$23} -> 0.15920507 | J7: =SQRT((K$25+2*SUMPRODUCT(I$4:I6))/E$23) -> 0.26192665 | K7: =H$25/J7 -> 1.0051992 | T7: #NAME?
A8: 2.1225599 | B8: 2.7751086 | C8: 0.95078208 | E8: =E7+1 -> 5 | F8: =A8-B8 -> -0.65254868 | G8: =A8-C8 -> 1.1717778 | H8: =F8^2-G8^2 -> -0.94724351 | I8: {=SUMPRODUCT(H9:H$23-H$25,OFFSET(H$4:H$23,0,0,E$23-E8)-H$25)/E$23} -> 0.055601269 | J8: =SQRT((K$25+2*SUMPRODUCT(I$4:I7))/E$23) -> 0.29073369 | K8: =H$25/J8 -> 0.90560014 | M8: DM Stat | N8: =K7 -> 1.0051992 | P8: DM Stat | Q8: #NAME? | T8: #NAME?
A9: 0.46379872 | B9: 0.59316171 | C9: -0.61066483 | E9: =E8+1 -> 6 | F9: =A9-B9 -> -0.129363 | G9: =A9-C9 -> 1.0744635 | H9: =F9^2-G9^2 -> -1.1377371 | I9: {=SUMPRODUCT(H10:H$23-H$25,OFFSET(H$4:H$23,0,0,E$23-E9)-H$25)/E$23} -> -0.0039052711 | J9: =SQRT((K$25+2*SUMPRODUCT(I$4:I8))/E$23) -> 0.30014364 | K9: =H$25/J9 -> 0.87720822 | M9: p-value | N9: =2*(1-NORMSDIST(N8)) -> 0.31480093 | P9: p-value | Q9: #NAME? | T9: #NAME?
A10: -0.55080545 | B10: 0.1085186 | C10: -1.1154503 | E10: =E9+1 -> 7 | F10: =A10-B10 -> -0.65932405 | G10: =A10-C10 -> 0.56464488 | H10: =F10^2-G10^2 -> 0.11588436 | I10: {=SUMPRODUCT(H11:H$23-H$25,OFFSET(H$4:H$23,0,0,E$23-E10)-H$25)/E$23} -> -0.070305969 | J10: =SQRT((K$25+2*SUMPRODUCT(I$4:I9))/E$23) -> 0.29949237 | K10: =H$25/J10 -> 0.87911579 | T10: #NAME?
A11: 1.1829462 | B11: 0.87851773 | C11: 1.1116309 | E11: =E10+1 -> 8 | F11: =A11-B11 -> 0.30442852 | G11: =A11-C11 -> 0.07131538 | H11: =F11^2-G11^2 -> 0.087590842 | I11: {=SUMPRODUCT(H12:H$23-H$25,OFFSET(H$4:H$23,0,0,E$23-E11)-H$25)/E$23} -> -0.08604634 | J11: =SQRT((K$25+2*SUMPRODUCT(I$4:I10))/E$23) -> 0.28751536 | K11: =H$25/J11 -> 0.91573706 | M11: HLN Test | P11: HLN Test | T11: #NAME?
A12: -2.4132987 | B12: -1.1653132 | C12: -2.7776482 | E12: =E11+1 -> 9 | F12: =A12-B12 -> -1.2479855 | G12: =A12-C12 -> 0.3643495 | H12: =F12^2-G12^2 -> 1.4247174 | I12: {=SUMPRODUCT(H13:H$23-H$25,OFFSET(H$4:H$23,0,0,E$23-E12)-H$25)/E$23} -> -0.040419389 | J12: =SQRT((K$25+2*SUMPRODUCT(I$4:I11))/E$23) -> 0.27214049 | K12: =H$25/J12 -> 0.9674726 | T12: #NAME?
A13: 0.97947061 | B13: 0.59371931 | C13: 1.51728 | E13: =E12+1 -> 10 | F13: =A13-B13 -> 0.3857513 | G13: =A13-C13 -> -0.53780938 | H13: =F13^2-G13^2 -> -0.14043486 | I13: {=SUMPRODUCT(H14:H$23-H$25,OFFSET(H$4:H$23,0,0,E$23-E13)-H$25)/E$23} -> -0.17312197 | J13: =SQRT((K$25+2*SUMPRODUCT(I$4:I12))/E$23) -> 0.26461011 | K13: =H$25/J13 -> 0.99500534 | M13: HLN Stat | N13: =N8*SQRT((E23+1-2*N6+N6*(N6-1))/E23) -> 1.1238469 | P13: HLN Stat | Q13: #NAME? | T13: #NAME?
A14: 0.55088233 | B14: -0.0036272862 | C14: 0.48976791 | E14: =E13+1 -> 11 | F14: =A14-B14 -> 0.55450962 | G14: =A14-C14 -> 0.06111442 | H14: =F14^2-G14^2 -> 0.30374594 | I14: {=SUMPRODUCT(H15:H$23-H$25,OFFSET(H$4:H$23,0,0,E$23-E14)-H$25)/E$23} -> -0.073748486 | J14: =SQRT((K$25+2*SUMPRODUCT(I$4:I13))/E$23) -> 0.22957855 | K14: =H$25/J14 -> 1.1468339 | M14: p-value | N14: =TDIST(N13,E23-1,2) -> 0.27507739 | P14: p-value | Q14: #NAME? | T14: #NAME?
A15: 1.2279214 | B15: 0.99431526 | C15: 1.047002 | E15: =E14+1 -> 12 | F15: =A15-B15 -> 0.23360616 | G15: =A15-C15 -> 0.18091937 | H15: =F15^2-G15^2 -> 0.021840019 | I15: {=SUMPRODUCT(H16:H$23-H$25,OFFSET(H$4:H$23,0,0,E$23-E15)-H$25)/E$23} -> -0.15882542 | J15: =SQRT((K$25+2*SUMPRODUCT(I$4:I14))/E$23) -> 0.21291187 | K15: =H$25/J15 -> 1.2366078 | T15: #NAME?
A16: -0.92350668 | B16: 0.51942479 | C16: -1.3447918 | E16: =E15+1 -> 13 | F16: =A16-B16 -> -1.4429315 | G16: =A16-C16 -> 0.42128511 | H16: =F16^2-G16^2 -> 1.9045701 | I16: {=SUMPRODUCT(H17:H$23-H$25,OFFSET(H$4:H$23,0,0,E$23-E16)-H$25)/E$23} -> -0.074933869 | J16: =SQRT((K$25+2*SUMPRODUCT(I$4:I15))/E$23) -> 0.17160688 | K16: =H$25/J16 -> 1.5342536 | T16: #NAME?
A17: -0.090278956 | B17: 0.28509902 | C17: 0.0019235426 | E17: =E16+1 -> 14 | F17: =A17-B17 -> -0.37537798 | G17: =A17-C17 -> -0.092202498 | H17: =F17^2-G17^2 -> 0.13240733 | I17: {=SUMPRODUCT(H18:H$23-H$25,OFFSET(H$4:H$23,0,0,E$23-E17)-H$25)/E$23} -> -0.086343579 | J17: =SQRT((K$25+2*SUMPRODUCT(I$4:I16))/E$23) -> 0.148174 | K17: =H$25/J17 -> 1.7768871 | T17: #NAME?
A18: 1.6837933 | B18: 0.57137859 | C18: 1.7465681 | E18: =E17+1 -> 15 | F18: =A18-B18 -> 1.1124148 | G18: =A18-C18 -> -0.062774751 | H18: =F18^2-G18^2 -> 1.2335259 | I18: {=SUMPRODUCT(H19:H$23-H$25,OFFSET(H$4:H$23,0,0,E$23-E18)-H$25)/E$23} -> -0.069175064 | J18: =SQRT((K$25+2*SUMPRODUCT(I$4:I17))/E$23) -> 0.1154174 | K18: =H$25/J18 -> 2.2811852 | T18: #NAME?
A19: -0.61077145 | B19: 0.2233359 | C19: -1.0631678 | E19: =E18+1 -> 16 | F19: =A19-B19 -> -0.83410735 | G19: =A19-C19 -> 0.45239631 | H19: =F19^2-G19^2 -> 0.49107265 | I19: {=SUMPRODUCT(H20:H$23-H$25,OFFSET(H$4:H$23,0,0,E$23-E19)-H$25)/E$23} -> -0.024061849 | J19: =SQRT((K$25+2*SUMPRODUCT(I$4:I18))/E$23) -> 0.080022937 | K19: =H$25/J19 -> 3.2901625 | T19: #NAME?
A20: 1.2810447 | B20: 0.32758098 | C20: 1.2719837 | E20: =E19+1 -> 17 | F20: =A20-B20 -> 0.95346368 | G20: =A20-C20 -> 0.0090609256 | H20: =F20^2-G20^2 -> 0.90901089 | I20: {=SUMPRODUCT(H21:H$23-H$25,OFFSET(H$4:H$23,0,0,E$23-E20)-H$25)/E$23} -> -0.028276553 | J20: =SQRT((K$25+2*SUMPRODUCT(I$4:I19))/E$23) -> 0.063225671 | K20: =H$25/J20 -> 4.1642653 | T20: #NAME?
A21: -0.92224583 | B21: 0.084688854 | C21: -1.2893345 | E21: =E20+1 -> 18 | F21: =A21-B21 -> -1.0069347 | G21: =A21-C21 -> 0.36708862 | H21: =F21^2-G21^2 -> 0.8791634 | I21: {=SUMPRODUCT(H22:H$23-H$25,OFFSET(H$4:H$23,0,0,E$23-E21)-H$25)/E$23} -> -0.0063054029 | J21: =SQRT((K$25+2*SUMPRODUCT(I$4:I20))/E$23) -> 0.034202781 | K21: =H$25/J21 -> 7.6978674 | T21: #NAME?
A22: -0.57811004 | B22: -0.083990871 | C22: -0.4644213 | E22: =E21+1 -> 19 | F22: =A22-B22 -> -0.49411917 | G22: =A22-C22 -> -0.11368874 | H22: =F22^2-G22^2 -> 0.23122862 | I22: {=SUMPRODUCT(H23:H$23-H$25,OFFSET(H$4:H$23,0,0,E$23-E22)-H$25)/E$23} -> -0.0053928992 | J22: =SQRT((K$25+2*SUMPRODUCT(I$4:I21))/E$23) -> 0.023222617 | K22: =H$25/J22 -> 11.337588 | T22: #NAME?
A23: 0.76869728 | B23: -0.073103735 | C23: 0.97853138 | E23: =E22+1 -> 20 | F23: =A23-B23 -> 0.84180102 | G23: =A23-C23 -> -0.20983409 | H23: =F23^2-G23^2 -> 0.66459861
A25: n | B25: =COUNT(A4:A23) -> 20 | G25: d-mean | H25: =AVERAGE(H4:H23) -> 0.26328847 | J25: d-var | K25: =VARP(H4:H23) -> 0.55294628

Sheet PT
A1: Pesaran-Timmermann Test
A3: data | B3: forecast | D3: Size | E3: =COUNT(A4:A18) -> 15 | G3: #NAME?
A4: 23 | B4: 14 | D4: Pyz | E4: =(_xlfn.COUNTIFS(A4:A18,">0",B4:B18,">0")+_xlfn.COUNTIFS(A4:A18,"<0",B4:B18,"<0"))/E3 -> 0.73333333 | G4: #NAME?
A5: -2 | B5: 3 | D5: Py | E5: =COUNTIF(A4:A18,">0")/E3 -> 0.46666667 | G5: #NAME?
A6: 56 | B6: 45 | D6: Pz | E6: =COUNTIF(B4:B18,">0")/E3 -> 0.6 | G6: #NAME?
A7: 51 | B7: 23 | D7: P* | E7: =(E6*E5)+((1-E6)*(1-E5)) -> 0.49333333 | G7: #NAME?
A8: 4 | B8: -5 | D8: V | E8: =E7*(1-E7)/E3 -> 0.016663704 | G8: #NAME?
A9: -45 | B9: -56 | D9: W | E9: =(((2*E6-1)^2*E5*(1-E5))/E3)+(((2*E5-1)^2*E6*(1-E6))/E3)+((4*E5*E6*(1-E5)*(1-E6))/(E3^2)) -> 0.0017967407 | G9: #NAME?
A10: -12 | B10: 4
A11: -24 | B11: -11 | D11: PT | E11: =(E4-E7)/SQRT(E8-E9) -> 1.96834 | G11: #NAME?
A12: -51 | B12: -34 | D12: p-value | E12: =1-NORMSDIST(E11) -> 0.024514467 | G12: =1-NORM.S.DIST(E11,TRUE)
A13: 78 | B13: 29 | D13: alpha | E13: 0.05
A14: -6 | B14: 3 | D14: sig | E14: =IF(E12<E13,"yes","no") -> yes | G14: #NAME?
A15: -7 | B15: -11
A16: -39 | B16: -12
A17: 31 | B17: 24
A18: 35 | B18: 3
D20: PT | E20: #NAME?
D21: p-value | E21: #NAME?

Sheet Moving
A1: Simple Moving Average | Q1: Excel data analysis tool
A3: t | B3: y | C3: pred | D3: |e| | E3: e^2 | N3: t | O3: y | Q3: pred | R3: s.e.
A4: 1 | B4: 3 | N4: 1 | O4: 3 | Q4: #N/A | R4: #N/A
A5: =A4+1 -> 2 | B5: 5 | N5: =N4+1 -> 2 | O5: 5 | Q5: #N/A | R5: #N/A
A6: =A5+1 -> 3 | B6: 9 | N6: =N5+1 -> 3 | O6: 9 | Q6: =AVERAGE(B4:B6) -> 5.6666667 | R6: #N/A
A7: =A6+1 -> 4 | B7: 20 | C7: =AVERAGE(B4:B6) -> 5.6666667 | D7: =ABS(B7-C7) -> 14.333333 | E7: =(B7-C7)^2 -> 205.44444 | N7: =N6+1 -> 4 | O7: 20 | Q7: =AVERAGE(B5:B7) -> 11.333333 | R7: #N/A
A8: =A7+1 -> 5 | B8: 12 | C8: =AVERAGE(B5:B7) -> 11.333333 | D8: =ABS(B8-C8) -> 0.66666667 | E8: =(B8-C8)^2 -> 0.44444444 | N8: =N7+1 -> 5 | O8: 12 | Q8: =AVERAGE(B6:B8) -> 13.666667 | R8: =SQRT(SUMXMY2(B6:B8,Q6:Q8)/3) -> 5.4467115
A9: =A8+1 -> 6 | B9: 17 | C9: =AVERAGE(B6:B8) -> 13.666667 | D9: =ABS(B9-C9) -> 3.3333333 | E9: =(B9-C9)^2 -> 11.111111 | N9: =N8+1 -> 6 | O9: 17 | Q9: =AVERAGE(B7:B9) -> 16.333333 | R9: =SQRT(SUMXMY2(B7:B9,Q7:Q9)/3) -> 5.1099032
A10: =A9+1 -> 7 | B10: 22 | C10: =AVERAGE(B7:B9) -> 16.333333 | D10: =ABS(B10-C10) -> 5.6666667 | E10: =(B10-C10)^2 -> 32.111111 | N10: =N9+1 -> 7 | O10: 22 | Q10: =AVERAGE(B8:B10) -> 17 | R10: =SQRT(SUMXMY2(B8:B10,Q8:Q10)/3) -> 3.0671497
A11: =A10+1 -> 8 | B11: 23 | C11: =AVERAGE(B8:B10) -> 17 | D11: =ABS(B11-C11) -> 6 | E11: =(B11-C11)^2 -> 36 | N11: =N10+1 -> 8 | O11: 23 | Q11: =AVERAGE(B9:B11) -> 20.666667 | R11: =SQRT(SUMXMY2(B9:B11,Q9:Q11)/3) -> 3.2087842
A12: =A11+1 -> 9 | B12: 51 | C12: =AVERAGE(B9:B11) -> 20.666667 | D12: =ABS(B12-C12) -> 30.333333 | E12: =(B12-C12)^2 -> 920.11111 | N12: =N11+1 -> 9 | O12: 51 | Q12: =AVERAGE(B10:B12) -> 32 | R12: =SQRT(SUMXMY2(B10:B12,Q10:Q12)/3) -> 11.422849
A13: =A12+1 -> 10 | B13: 41 | C13: =AVERAGE(B10:B12) -> 32 | D13: =ABS(B13-C13) -> 9 | E13: =(B13-C13)^2 -> 81 | N13: =N12+1 -> 10 | O13: 41 | Q13: =AVERAGE(B11:B13) -> 38.333333 | R13: =SQRT(SUMXMY2(B11:B13,Q11:Q13)/3) -> 11.158787
A14: =A13+1 -> 11 | B14: 56 | C14: =AVERAGE(B11:B13) -> 38.333333 | D14: =ABS(B14-C14) -> 17.666667 | E14: =(B14-C14)^2 -> 312.11111 | N14: =N13+1 -> 11 | O14: 56 | Q14: =AVERAGE(B12:B14) -> 49.333333 | R14: =SQRT(SUMXMY2(B12:B14,Q12:Q14)/3) -> 11.726829
A15: =A14+1 -> 12 | B15: 75 | C15: =AVERAGE(B12:B14) -> 49.333333 | D15: =ABS(B15-C15) -> 25.666667 | E15: =(B15-C15)^2 -> 658.77778 | N15: =N14+1 -> 12 | O15: 75 | Q15: =AVERAGE(B13:B15) -> 57.333333 | R15: =SQRT(SUMXMY2(B13:B15,Q13:Q15)/3) -> 11.010096
A16: =A15+1 -> 13 | B16: 60 | C16: =AVERAGE(B13:B15) -> 57.333333 | D16: =ABS(B16-C16) -> 2.6666667 | E16: =(B16-C16)^2 -> 7.1111111 | N16: =N15+1 -> 13 | O16: 60 | Q16: =AVERAGE(B14:B16) -> 63.666667 | R16: =SQRT(SUMXMY2(B14:B16,Q14:Q16)/3) -> 11.105554
A17: =A16+1 -> 14 | B17: 75 | C17: =AVERAGE(B14:B16) -> 63.666667 | D17: =ABS(B17-C17) -> 11.333333 | E17: =(B17-C17)^2 -> 128.44444 | N17: =N16+1 -> 14 | O17: 75 | Q17: =AVERAGE(B15:B17) -> 70 | R17: =SQRT(SUMXMY2(B15:B17,Q15:Q17)/3) -> 10.809804
A18: =A17+1 -> 15 | B18: 88 | C18: =AVERAGE(B15:B17) -> 70 | D18: =ABS(B18-C18) -> 18 | E18: =(B18-C18)^2 -> 324 | N18: =N17+1 -> 15 | O18: 88 | Q18: =AVERAGE(B16:B18) -> 74.333333 | R18: =SQRT(SUMXMY2(B16:B18,Q16:Q18)/3) -> 8.6645297
A19: pred | C19: =AVERAGE(B16:B18) -> 74.333333
D21: MAE | E21: MSE
D22: =AVERAGE(D4:D18) -> 12.055556 | E22: =AVERAGE(E4:E18) -> 226.38889
D24: =SUMPRODUCT(ABS(B7:B18-C7:C18))/COUNT(B7:B18) -> 12.055556 | E24: =SUMPRODUCT((B7:B18-C7:C18)^2)/COUNT(B7:B18) -> 226.38889
E25: =SUMXMY2(B7:B18,C7:C18)/COUNT(B7:B18) -> 226.38889

Sheet Moving 1
A1: Moving Average (Excel data analysis tool)
A3: t | B3: y
A4: 1 | B4: 3 | D4: #N/A | E4: #N/A
A5: =A4+1 -> 2 | B5: 5 | D5: #N/A | E5: #N/A
A6: =A5+1 -> 3 | B6: 9 | D6: =AVERAGE(B4:B6) -> 5.6666667 | E6: #N/A
A7: =A6+1 -> 4 | B7: 20 | D7: =AVERAGE(B5:B7) -> 11.333333 | E7: #N/A
A8: =A7+1 -> 5 | B8: 12 | D8: =AVERAGE(B6:B8) -> 13.666667 | E8: =SQRT(SUMXMY2(B6:B8,D6:D8)/3) -> 5.4467115
A9: =A8+1 -> 6 | B9: 17 | D9: =AVERAGE(B7:B9) -> 16.333333 | E9: =SQRT(SUMXMY2(B7:B9,D7:D9)/3) -> 5.1099032
A10: =A9+1 -> 7 | B10: 22 | D10: =AVERAGE(B8:B10) -> 17 | E10: =SQRT(SUMXMY2(B8:B10,D8:D10)/3) -> 3.0671497
A11: =A10+1 -> 8 | B11: 23 | D11: =AVERAGE(B9:B11) -> 20.666667 | E11: =SQRT(SUMXMY2(B9:B11,D9:D11)/3) -> 3.2087842
A12: =A11+1 -> 9 | B12: 51 | D12: =AVERAGE(B10:B12) -> 32 | E12: =SQRT(SUMXMY2(B10:B12,D10:D12)/3) -> 11.422849
A13: =A12+1 -> 10 | B13: 41 | D13: =AVERAGE(B11:B13) -> 38.333333 | E13: =SQRT(SUMXMY2(B11:B13,D11:D13)/3) -> 11.158787
A14: =A13+1 -> 11 | B14: 56 | D14: =AVERAGE(B12:B14) -> 49.333333 | E14: =SQRT(SUMXMY2(B12:B14,D12:D14)/3) -> 11.726829
A15: =A14+1 -> 12 | B15: 75 | D15: =AVERAGE(B13:B15) -> 57.333333 | E15: =SQRT(SUMXMY2(B13:B15,D13:D15)/3) -> 11.010096
A16: =A15+1 -> 13 | B16: 60 | D16: =AVERAGE(B14:B16) -> 63.666667 | E16: =SQRT(SUMXMY2(B14:B16,D14:D16)/3) -> 11.105554
A17: =A16+1 -> 14 | B17: 75 | D17: =AVERAGE(B15:B17) -> 70 | E17: =SQRT(SUMXMY2(B15:B17,D15:D17)/3) -> 10.809804
A18: =A17+1 -> 15 | B18: 88 | D18: =AVERAGE(B16:B18) -> 74.333333 | E18: =SQRT(SUMXMY2(B16:B18,D16:D18)/3) -> 8.6645297

Sheet Moving 1a
A1: Simple Moving Average (Real Statistics)
A3: t | B3: y | D3: Simple Moving Average | G3: alpha | H3: 0.05
A4: 1 | B4: 3
A5: =A4+1 -> 2 | B5: 5 | D5: =A3 -> t | E5: =B3 -> y | F5: forecast | G5: s.e. | H5: lower | I5: upper
A6: =A5+1 -> 3 | B6: 9 | D6: =A4 -> 1 | E6: =B4 -> 3
A7: =A6+1 -> 4 | B7: 20 | D7: =A5 -> 2 | E7: =B5 -> 5
A8: =A7+1 -> 5 | B8: 12 | D8: =A6 -> 3 | E8: =B6 -> 9
A9: =A8+1 -> 6 | B9: 17 | D9: =A7 -> 4 | E9: =B7 -> 20 | F9: =AVERAGE(E6:E8) -> 5.6666667
A10: =A9+1 -> 7 | B10: 22 | D10: =A8 -> 5 | E10: =B8 -> 12 | F10: =AVERAGE(E7:E9) -> 11.333333
A11: =A10+1 -> 8 | B11: 23 | D11: =A9 -> 6 | E11: =B9 -> 17 | F11: =AVERAGE(E8:E10) -> 13.666667 | G11: =SQRT(SUMXMY2(E8:E10,F9:F11)/3) -> 5.4467115 | H11: =F11-G11*_xlfn.NORM.S.INV(1-H$3/2) -> 2.9913087 | I11: =F11+G11*_xlfn.NORM.S.INV(1-H$3/2) -> 24.342025
A12: =A11+1 -> 9 | B12: 51 | D12: =A10 -> 7 | E12: =B10 -> 22 | F12: =AVERAGE(E9:E11) -> 16.333333 | G12: =SQRT(SUMXMY2(E9:E11,F10:F12)/3) -> 5.1099032 | H12: =F12-G12*_xlfn.NORM.S.INV(1-H$3/2) -> 6.3181075 | I12: =F12+G12*_xlfn.NORM.S.INV(1-H$3/2) -> 26.348559
A13: =A12+1 -> 10 | B13: 41 | D13: =A11 -> 8 | E13: =B11 -> 23 | F13: =AVERAGE(E10:E12) -> 17 | G13: =SQRT(SUMXMY2(E10:E12,F11:F13)/3) -> 3.0671497 | H13: =F13-G13*_xlfn.NORM.S.INV(1-H$3/2) -> 10.988497 | I13: =F13+G13*_xlfn.NORM.S.INV(1-H$3/2) -> 23.011503
A14: =A13+1 -> 11 | B14: 56 | D14: =A12 -> 9 | E14: =B12 -> 51 | F14: =AVERAGE(E11:E13) -> 20.666667 | G14: =SQRT(SUMXMY2(E11:E13,F12:F14)/3) -> 3.2087842 | H14: =F14-G14*_xlfn.NORM.S.INV(1-H$3/2) -> 14.377565 | I14: =F14+G14*_xlfn.NORM.S.INV(1-H$3/2) -> 26.955768
A15: =A14+1 -> 12 | B15: 75 | D15: =A13 -> 10 | E15: =B13 -> 41 | F15: =AVERAGE(E12:E14) -> 32 | G15: =SQRT(SUMXMY2(E12:E14,F13:F15)/3) -> 11.422849 | H15: =F15-G15*_xlfn.NORM.S.INV(1-H$3/2) -> 9.6116283 | I15: =F15+G15*_xlfn.NORM.S.INV(1-H$3/2) -> 54.388372
A16: =A15+1 -> 13 | B16: 60 | D16: =A14 -> 11 | E16: =B14 -> 56 | F16: =AVERAGE(E13:E15) -> 38.333333 | G16: =SQRT(SUMXMY2(E13:E15,F14:F16)/3) -> 11.158787 | H16: =F16-G16*_xlfn.NORM.S.INV(1-H$3/2) -> 16.462515 | I16: =F16+G16*_xlfn.NORM.S.INV(1-H$3/2) -> 60.204152
A17: =A16+1 -> 14 | B17: 75 | D17: =A15 -> 12 | E17: =B15 -> 75 | F17: =AVERAGE(E14:E16) -> 49.333333 | G17: =SQRT(SUMXMY2(E14:E16,F15:F17)/3) -> 11.726829 | H17: =F17-G17*_xlfn.NORM.S.INV(1-H$3/2) -> 26.349172 | I17: =F17+G17*_xlfn.NORM.S.INV(1-H$3/2) -> 72.317495
A18: =A17+1 -> 15 | B18: 88 | D18: =A16 -> 13 | E18: =B16 -> 60 | F18: =AVERAGE(E15:E17) -> 57.333333 | G18: =SQRT(SUMXMY2(E15:E17,F16:F18)/3) -> 11.010096 | H18: =F18-G18*_xlfn.NORM.S.INV(1-H$3/2) -> 35.753942 | I18: =F18+G18*_xlfn.NORM.S.INV(1-H$3/2) -> 78.912725
D19: =A17 -> 14 | E19: =B17 -> 75 | F19: =AVERAGE(E16:E18) -> 63.666667 | G19: =SQRT(SUMXMY2(E16:E18,F17:F19)/3) -> 11.105554 | H19: =F19-G19*_xlfn.NORM.S.INV(1-H$3/2) -> 41.900182 | I19: =F19+G19*_xlfn.NORM.S.INV(1-H$3/2) -> 85.433152
D20: =A18 -> 15 | E20: =B18 -> 88 | F20: =AVERAGE(E17:E19) -> 70 | G20: =SQRT(SUMXMY2(E17:E19,F18:F20)/3) -> 10.809804 | H20: =F20-G20*_xlfn.NORM.S.INV(1-H$3/2) -> 48.813175 | I20: =F20+G20*_xlfn.NORM.S.INV(1-H$3/2) -> 91.186825
D21: > | F21: =AVERAGE(E18:E20) -> 74.333333 | G21: =SQRT(SUMXMY2(E18:E20,F19:F21)/3) -> 8.6645297 | H21: =F21-G21*_xlfn.NORM.S.INV(1-H$3/2) -> 57.351168 | I21: =F21+G21*_xlfn.NORM.S.INV(1-H$3/2) -> 91.315499
E23: MAE | F23: MSE | G23: MAPE
E24: =SUMPRODUCT(ABS(E9:E20-F9:F20))/COUNT(F9:F20) -> 12.055556 | F24: =SUMXMY2(E9:E20,F9:F20)/COUNT(F9:F20) -> 226.38889 | G24: =SUMPRODUCT(ABS(1-F9:F20/E9:E20))/COUNT(F9:F20) -> 0.2799024

Sheet Weighted
A1: Weighted Moving Average
A3: t | B3: y | C3: pred | D3: |e| | E3: e^2 | G3: w | Q3: Weighted Moving Average | T3: alpha | U3: 0.05
A4: 1 | B4: 3 | G4: 0.1
A5: =A4+1 -> 2 | B5: 5 | G5: 0.3 | Q5: =A3 -> t | R5: =B3 -> y | S5: forecast | T5: s.e. | U5: lower | V5: upper
A6: =A5+1 -> 3 | B6: 9 | G6: 0.6 | Q6: =A4 -> 1 | R6: =B4 -> 3
A7: =A6+1 -> 4 | B7: 20 | C7: =SUMPRODUCT(B4:B6,G$4:G$6) -> 7.2 | D7: =ABS(B7-C7) -> 12.8 | E7: =(B7-C7)^2 -> 163.84 | G7: =SUM(G4:G6) -> 1 | Q7: =A5 -> 2 | R7: =B5 -> 5
A8: =A7+1 -> 5 | B8: 12 | C8: =SUMPRODUCT(B5:B7,G$4:G$6) -> 15.2 | D8: =ABS(B8-C8) -> 3.2 | E8: =(B8-C8)^2 -> 10.24 | Q8: =A6 -> 3 | R8: =B6 -> 9
A9: =A8+1 -> 6 | B9: 17 | C9: =SUMPRODUCT(B6:B8,G$4:G$6) -> 14.1 | D9: =ABS(B9-C9) -> 2.9 | E9: =(B9-C9)^2 -> 8.41 | Q9: =A7 -> 4 | R9: =B7 -> 20 | S9: =SUMPRODUCT(R6:R8,$G$4:$G$6)/SUM($G$4:$G$6) -> 7.2
A10: =A9+1 -> 7 | B10: 22 | C10: =SUMPRODUCT(B7:B9,G$4:G$6) -> 15.8 | D10: =ABS(B10-C10) -> 6.2 | E10: =(B10-C10)^2 -> 38.44 | Q10: =A8 -> 5 | R10: =B8 -> 12 | S10: =SUMPRODUCT(R7:R9,$G$4:$G$6)/SUM($G$4:$G$6) -> 15.2
A11: =A10+1 -> 8 | B11: 23 | C11: =SUMPRODUCT(B8:B10,G$4:G$6) -> 19.5 | D11: =ABS(B11-C11) -> 3.5 | E11: =(B11-C11)^2 -> 12.25 | Q11: =A9 -> 6 | R11: =B9 -> 17 | S11: =SUMPRODUCT(R8:R10,$G$4:$G$6)/SUM($G$4:$G$6) -> 14.1 | T11: =SQRT(SUMXMY2(R8:R10,S9:S11)/3) -> 3.1984371 | U11: =S11-T11*_xlfn.NORM.S.INV(1-U$3/2) -> 7.8311788 | V11: =S11+T11*_xlfn.NORM.S.INV(1-U$3/2) -> 20.368821
A12: =A11+1 -> 9 | B12: 51 | C12: =SUMPRODUCT(B9:B11,G$4:G$6) -> 22.1 | D12: =ABS(B12-C12) -> 28.9 | E12: =(B12-C12)^2 -> 835.21 | Q12: =A10 -> 7 | R12: =B10 -> 22 | S12: =SUMPRODUCT(R9:R11,$G$4:$G$6)/SUM($G$4:$G$6) -> 15.8 | T12: =SQRT(SUMXMY2(R9:R11,S10:S12)/3) -> 3.1032241 | U12: =S12-T12*_xlfn.NORM.S.INV(1-U$3/2) -> 9.7177928 | V12: =S12+T12*_xlfn.NORM.S.INV(1-U$3/2) -> 21.882207
A13: =A12+1 -> 10 | B13: 41 | C13: =SUMPRODUCT(B10:B12,G$4:G$6) -> 39.7 | D13: =ABS(B13-C13) -> 1.3 | E13: =(B13-C13)^2 -> 1.69 | Q13: =A11 -> 8 | R13: =B11 -> 23 | S13: =SUMPRODUCT(R10:R12,$G$4:$G$6)/SUM($G$4:$G$6) -> 19.5 | T13: =SQRT(SUMXMY2(R10:R12,S11:S13)/3) -> 2.008316 | U13: =S13-T13*_xlfn.NORM.S.INV(1-U$3/2) -> 15.563773 | V13: =S13+T13*_xlfn.NORM.S.INV(1-U$3/2) -> 23.436227
A14: =A13+1 -> 11 | B14: 56 | C14: =SUMPRODUCT(B11:B13,G$4:G$6) -> 42.2 | D14: =ABS(B14-C14) -> 13.8 | E14: =(B14-C14)^2 -> 190.44 | Q14: =A12 -> 9 | R14: =B12 -> 51 | S14: =SUMPRODUCT(R11:R13,$G$4:$G$6)/SUM($G$4:$G$6) -> 22.1 | T14: =SQRT(SUMXMY2(R11:R13,S12:S14)/3) -> 1.6832508 | U14: =S14-T14*_xlfn.NORM.S.INV(1-U$3/2) -> 18.800889 | V14: =S14+T14*_xlfn.NORM.S.INV(1-U$3/2) -> 25.399111
A15: =A14+1 -> 12 | B15: 75 | C15: =SUMPRODUCT(B12:B14,G$4:G$6) -> 51 | D15: =ABS(B15-C15) -> 24 | E15: =(B15-C15)^2 -> 576 | Q15: =A13 -> 10 | R15: =B13 -> 41 | S15: =SUMPRODUCT(R12:R14,$G$4:$G$6)/SUM($G$4:$G$6) -> 39.7 | T15: =SQRT(SUMXMY2(R12:R14,S13:S15)/3) -> 6.7019898 | U15: =S15-T15*_xlfn.NORM.S.INV(1-U$3/2) -> 26.564342 | V15: =S15+T15*_xlfn.NORM.S.INV(1-U$3/2) -> 52.835658
A16: =A15+1 -> 13 | B16: 60 | C16: =SUMPRODUCT(B13:B15,G$4:G$6) -> 65.9 | D16: =ABS(B16-C16) -> 5.9 | E16: =(B16-C16)^2 -> 34.81 | Q16: =A14 -> 11 | R16: =B14 -> 56 | S16: =SUMPRODUCT(R13:R15,$G$4:$G$6)/SUM($G$4:$G$6) -> 42.2 | T16: =SQRT(SUMXMY2(R13:R15,S14:S16)/3) -> 6.5812866 | U16: =S16-T16*_xlfn.NORM.S.INV(1-U$3/2) -> 29.300916 | V16: =S16+T16*_xlfn.NORM.S.INV(1-U$3/2) -> 55.099084
A17: =A16+1 -> 14 | B17: 75 | C17: =SUMPRODUCT(B14:B16,G$4:G$6) -> 64.1 | D17: =ABS(B17-C17) -> 10.9 | E17: =(B17-C17)^2 -> 118.81 | Q17: =A15 -> 12 | R17: =B15 -> 75 | S17: =SUMPRODUCT(R14:R16,$G$4:$G$6)/SUM($G$4:$G$6) -> 51 | T17: =SQRT(SUMXMY2(R14:R16,S15:S17)/3) -> 7.1677519 | U17: =S17-T17*_xlfn.NORM.S.INV(1-U$3/2) -> 36.951465 | V17: =S17+T17*_xlfn.NORM.S.INV(1-U$3/2) -> 65.048535
A18: =A17+1 -> 15 | B18: 88 | C18: =SUMPRODUCT(B15:B17,G$4:G$6) -> 70.5 | D18: =ABS(B18-C18) -> 17.5 | E18: =(B18-C18)^2 -> 306.25 | Q18: =A16 -> 13 | R18: =B16 -> 60 | S18: =SUMPRODUCT(R15:R17,$G$4:$G$6)/SUM($G$4:$G$6) -> 65.9 | T18: =SQRT(SUMXMY2(R15:R17,S16:S18)/3) -> 6.0346223 | U18: =S18-T18*_xlfn.NORM.S.INV(1-U$3/2) -> 54.072358 | V18: =S18+T18*_xlfn.NORM.S.INV(1-U$3/2) -> 77.727642
A19: pred | C19: =SUMPRODUCT(B16:B18,G$4:G$6) -> 81.3 | Q19: =A17 -> 14 | R19: =B17 -> 75 | S19: =SUMPRODUCT(R16:R18,$G$4:$G$6)/SUM($G$4:$G$6) -> 64.1 | T19: =SQRT(SUMXMY2(R16:R18,S17:S19)/3) -> 6.4451532 | U19: =S19-T19*_xlfn.NORM.S.INV(1-U$3/2) -> 51.467732 | V19: =S19+T19*_xlfn.NORM.S.INV(1-U$3/2) -> 76.732268
Q20: =A18 -> 15 | R20: =B18 -> 88 | S20: =SUMPRODUCT(R17:R19,$G$4:$G$6)/SUM($G$4:$G$6) -> 70.5 | T20: =SQRT(SUMXMY2(R17:R19,S18:S20)/3) -> 6.3211286 | U20: =S20-T20*_xlfn.NORM.S.INV(1-U$3/2) -> 58.110816 | V20: =S20+T20*_xlfn.NORM.S.INV(1-U$3/2) -> 82.889184
D21: MAE | E21: MSE | Q21: > | S21: =SUMPRODUCT(R18:R20,$G$4:$G$6)/SUM($G$4:$G$6) -> 81.3 | T21: =SQRT(SUMXMY2(R18:R20,S19:S21)/3) -> 5.2265349 | U21: =S21-T21*_xlfn.NORM.S.INV(1-U$3/2) -> 71.05618 | V21: =S21+T21*_xlfn.NORM.S.INV(1-U$3/2) -> 91.54382
D22: =AVERAGE(D4:D18) -> 10.908333 | E22: =AVERAGE(E4:E18) -> 191.36583
R23: MAE | S23: MSE | T23: MAPE
D24: =SUMPRODUCT(ABS(B7:B18-C7:C18))/COUNT(B7:B18) -> 10.908333 | E24: =SUMPRODUCT((B7:B18-C7:C18)^2)/COUNT(B7:B18) -> 191.36583 | R24: =SUMPRODUCT(ABS(R9:R20-S9:S20))/COUNT(S9:S20) -> 10.908333 | S24: =SUMXMY2(R9:R20,S9:S20)/COUNT(S9:S20) -> 191.36583 | T24: =SUMPRODUCT(ABS(1-S9:S20/R9:R20))/COUNT(S9:S20) -> 0.25988165
E25: =SUMXMY2(B7:B18,C7:C18)/COUNT(B7:B18) -> 191.36583

Sheet Weighted 2
A1: Weighted Moving Average
A3: t | B3: y | C3: pred | D3: |e| | E3: e^2 | G3: w
A4: 1 | B4: 3 | G4: 0
A5: =A4+1 -> 2 | B5: 5 | G5: 0.22375691
A6: =A5+1 -> 3 | B6: 9 | G6: 0.77624309
A7: =A6+1 -> 4 | B7: 20 | C7: =SUMPRODUCT(B4:B6,G$4:G$6) -> 8.1049724 | D7: =ABS(B7-C7) -> 11.895028 | E7: =(B7-C7)^2 -> 141.49168 | G7: =SUM(G4:G6) -> 1
A8: =A7+1 -> 5 | B8: 12 | C8: =SUMPRODUCT(B5:B7,G$4:G$6) -> 17.538674 | D8: =ABS(B8-C8) -> 5.538674 | E8: =(B8-C8)^2 -> 30.67691
A9: =A8+1 -> 6 | B9: 17 | C9: =SUMPRODUCT(B6:B8,G$4:G$6) -> 13.790055 | D9: =ABS(B9-C9) -> 3.2099448 | E9: =(B9-C9)^2 -> 10.303745
A10: =A9+1 -> 7 | B10: 22 | C10: =SUMPRODUCT(B7:B9,G$4:G$6) -> 15.881215 | D10: =ABS(B10-C10) -> 6.1187845 | E10: =(B10-C10)^2 -> 37.439524
A11: =A10+1 -> 8 | B11: 23 | C11: =SUMPRODUCT(B8:B10,G$4:G$6) -> 20.881215 | D11: =ABS(B11-C11) -> 2.1187845 | E11: =(B11-C11)^2 -> 4.4892479
A12: =A11+1 -> 9 | B12: 51 | C12: =SUMPRODUCT(B9:B11,G$4:G$6) -> 22.776243 | D12: =ABS(B12-C12) -> 28.223757 | E12: =(B12-C12)^2 -> 796.58045
A13: =A12+1 -> 10 | B13: 41 | C13: =SUMPRODUCT(B10:B12,G$4:G$6) -> 44.734807 | D13: =ABS(B13-C13) -> 3.7348066 | E13: =(B13-C13)^2 -> 13.948781
A14: =A13+1 -> 11 | B14: 56 | C14: =SUMPRODUCT(B11:B13,G$4:G$6) -> 43.237569 | D14: =ABS(B14-C14) -> 12.762431 | E14: =(B14-C14)^2 -> 162.87964
A15: =A14+1 -> 12 | B15: 75 | C15: =SUMPRODUCT(B12:B14,G$4:G$6) -> 52.643646 | D15: =ABS(B15-C15) -> 22.356354 | E15: =(B15-C15)^2 -> 499.80655
A16: =A15+1 -> 13 | B16: 60 | C16: =SUMPRODUCT(B13:B15,G$4:G$6) -> 70.748619 | D16: =ABS(B16-C16) -> 10.748619 | E16: =(B16-C16)^2 -> 115.53281
A17: =A16+1 -> 14 | B17: 75 | C17: =SUMPRODUCT(B14:B16,G$4:G$6) -> 63.356354 | D17: =ABS(B17-C17) -> 11.643646 | E17: =(B17-C17)^2 -> 135.5745
A18: =A17+1 -> 15 | B18: 88 | C18: =SUMPRODUCT(B15:B17,G$4:G$6) -> 71.643646 | D18: =ABS(B18-C18) -> 16.356354 | E18: =(B18-C18)^2 -> 267.5303
D20: MAE | E20: MSE
D21: =AVERAGE(D4:D18) -> 11.225599 | E21: =AVERAGE(E4:E18) -> 184.68785

Sheet Exp
A1: Single Exponential Smoothing
A3: t | B3: y | C3: pred | D3: |e| | E3: e^2
A4: 1 | B4: 3 | C4: =B4 -> 3
A5: =A4+1 -> 2 | B5: 5 | C5: =C4+B$21*(B4-C4) -> 3 | D5: =ABS(B5-C5) -> 2 | E5: =(B5-C5)^2 -> 4
A6: =A5+1 -> 3 | B6: 9 | C6: =C5+B$21*(B5-C5) -> 3.8 | D6: =ABS(B6-C6) -> 5.2 | E6: =(B6-C6)^2 -> 27.04
A7: =A6+1 -> 4 | B7: 20 | C7: =C6+B$21*(B6-C6) -> 5.88 | D7: =ABS(B7-C7) -> 14.12 | E7: =(B7-C7)^2 -> 199.3744
A8: =A7+1 -> 5 | B8: 12 | C8: =C7+B$21*(B7-C7) -> 11.528 | D8: =ABS(B8-C8) -> 0.472 | E8: =(B8-C8)^2 -> 0.222784
A9: =A8+1 -> 6 | B9: 17 | C9: =C8+B$21*(B8-C8) -> 11.7168 | D9: =ABS(B9-C9) -> 5.2832 | E9: =(B9-C9)^2 -> 27.912202
A10: =A9+1 -> 7 | B10: 22 | C10: =C9+B$21*(B9-C9) -> 13.83008 | D10: =ABS(B10-C10) -> 8.16992 | E10: =(B10-C10)^2 -> 66.747593
A11: =A10+1 -> 8 | B11: 23 | C11: =C10+B$21*(B10-C10) -> 17.098048 | D11: =ABS(B11-C11) -> 5.901952 | E11: =(B11-C11)^2 -> 34.833037
A12: =A11+1 -> 9 | B12: 51 | C12: =C11+B$21*(B11-C11) -> 19.458829 | D12: =ABS(B12-C12) -> 31.541171 | E12: =(B12-C12)^2 -> 994.84548
A13: =A12+1 -> 10 | B13: 41 | C13: =C12+B$21*(B12-C12) -> 32.075297 | D13: =ABS(B13-C13) -> 8.9247027 | E13: =(B13-C13)^2 -> 79.650319
A14: =A13+1 -> 11 | B14: 56 | C14: =C13+B$21*(B13-C13) -> 35.645178 | D14: =ABS(B14-C14) -> 20.354822 | E14: =(B14-C14)^2 -> 414.31876
A15: =A14+1 -> 12 | B15: 75 | C15: =C14+B$21*(B14-C14) -> 43.787107 | D15: =ABS(B15-C15) -> 31.212893 | E15: =(B15-C15)^2 -> 974.24469
A16: =A15+1 -> 13 | B16: 60 | C16: =C15+B$21*(B15-C15) -> 56.272264 | D16: =ABS(B16-C16) -> 3.7277358 | E16: =(B16-C16)^2 -> 13.896014
... A18: =A17+1 -> 15 | B18: 88 | C18: =C17+B$21*(B17-C17) -> 64.658015 | D18: =ABS(B18-C18) -> 23.341985 | E18: =(B18-C18)^2 -> 544.84826
A19: 16 | C19: =C18+B$21*(B18-C18) -> 73.994809
B20: alpha | D20: MAE | E20: MSE
B21: 0.4 | D21: =AVERAGE(D4:D18) -> 12.677644 | E21: =AVERAGE(E4:E18) -> 262.78824

Sheet Exp 1
A1: Exponential Smoothing (Excel data analysis tool)
A3: t | B3: y
A4: 1 | B4: 3 | D4: #N/A | E4: #N/A | N4: #N/A | O4: #N/A
A5: =A4+1 -> 2 | B5: 5 | D5: =B4 -> 3 | E5: #N/A | N5: =B4 -> 3 | O5: #N/A
A6: =A5+1 -> 3 | B6: 9 | D6: =0.4*B5+0.6*D5 -> 3.8 | E6: #N/A | N6: =0.7*B5+0.3*N5 -> 4.4 | O6: #N/A
A7: =A6+1 -> 4 | B7: 20 | D7: =0.4*B6+0.6*D6 -> 5.88 | E7: #N/A | N7: =0.7*B6+0.3*N6 -> 7.62 | O7: #N/A
A8: =A7+1 -> 5 | B8: 12 | D8: =0.4*B7+0.6*D7 -> 11.528 | E8: =SQRT(SUMXMY2(B5:B7,D5:D7)/3) -> 8.7638348 | N8: =0.7*B7+0.3*N7 -> 16.286 | O8: =SQRT(SUMXMY2(B5:B7,N5:N7)/3) -> 7.7119907
A9: =A8+1 -> 6 | B9: 17 | D9: =0.4*B8+0.6*D8 -> 11.7168 | E9: =SQRT(SUMXMY2(B6:B8,D6:D8)/3) -> 8.6917046 | N9: =0.7*B8+0.3*N8 -> 13.2858 | O9: =SQRT(SUMXMY2(B6:B8,N6:N8)/3) -> 8.0165287
A10: =A9+1 -> 7 | B10: 22 | D10: =0.4*B9+0.6*D9 -> 13.83008 | E10: =SQRT(SUMXMY2(B7:B9,D7:D9)/3) -> 8.7084133 | N10: =0.7*B9+0.3*N9 -> 15.88574 | O10: =SQRT(SUMXMY2(B7:B9,N7:N9)/3) -> 7.8619225
A11: =A10+1 -> 8 | B11: 23 | D11: =0.4*B10+0.6*D10 -> 17.098048 | E11: =SQRT(SUMXMY2(B8:B10,D8:D10)/3) -> 5.6238356 | N11: =0.7*B10+0.3*N10 -> 20.165722 | O11: =SQRT(SUMXMY2(B8:B10,N8:N10)/3) -> 4.8148815
A12: =A11+1 -> 9 | B12: 51 | D12: =0.4*B11+0.6*D11 -> 19.458829 | E12: =SQRT(SUMXMY2(B9:B11,D9:D11)/3) -> 6.5699526 | N12: =0.7*B11+0.3*N11 -> 22.149717 | O12: =SQRT(SUMXMY2(B9:B11,N9:N11)/3) -> 4.442694
A13: =A12+1 -> 10 | B13: 41 | D13: =0.4*B12+0.6*D12 -> 32.075297 | E13: =SQRT(SUMXMY2(B10:B12,D10:D12)/3) -> 19.11741 | N13: =0.7*B12+0.3*N12 -> 42.344915 | O13: =SQRT(SUMXMY2(B10:B12,N10:N12)/3) -> 17.105127
A14: =A13+1 -> 11 | B14: 56 | D14: =0.4*B13+0.6*D13 -> 35.645178 | E14: =SQRT(SUMXMY2(B11:B13,D11:D13)/3) -> 19.229568 | N14: =0.7*B13+0.3*N13 -> 41.403474 | O14: =SQRT(SUMXMY2(B11:B13,N11:N13)/3) -> 16.754908
A15: =A14+1 -> 12 | B15: 75 | D15: =0.4*B14+0.6*D14 -> 43.787107 | E15: =SQRT(SUMXMY2(B12:B14,D12:D14)/3) -> 22.277152 | N15: =0.7*B14+0.3*N14 -> 51.621042 | O15: =SQRT(SUMXMY2(B12:B14,N12:N14)/3) -> 18.683381
A16: =A15+1 -> 13 | B16: 60 | D16: =0.4*B15+0.6*D15 -> 56.272264 | E16: =SQRT(SUMXMY2(B13:B15,D13:D15)/3) -> 22.122491 | N16: =0.7*B15+0.3*N15 -> 67.986313 | O16: =SQRT(SUMXMY2(B13:B15,N13:N15)/3) -> 15.931552
A17: =A16+1 -> 14 | B17: 75 | D17: =0.4*B16+0.6*D16 -> 57.763359 | E17: =SQRT(SUMXMY2(B14:B16,D14:D16)/3) -> 21.621436 | N17: =0.7*B16+0.3*N16 -> 62.395894 | O17: =SQRT(SUMXMY2(B14:B16,N14:N16)/3) -> 16.567191
A18: =A17+1 -> 15 | B18: 88 | D18: =0.4*B17+0.6*D17 -> 64.658015 | E18: =SQRT(SUMXMY2(B15:B17,D15:D17)/3) -> 20.698168 | N18: =0.7*B17+0.3*N17 -> 71.218768 | O18: =SQRT(SUMXMY2(B15:B17,N15:N17)/3) -> 16.012707
D20: alpha | E20: 0.4 | N20: alpha | O20: 0.3
N21: (default)
D22: damping factor = 1 - alpha

Sheet Exp 1a
A1: Exponential Smoothing (Real Statistics data analysis tool)
A3: t | B3: y | D3: Exponential Smoothing
A4: 1 | B4: 3
A5: =A4+1 -> 2 | B5: 5 | D5: alpha | E5: 0.4
A6: =A5+1 -> 3 | B6: 9
A7: =A6+1 -> 4 | B7: 20 | D7: =A3 -> t | E7: =B3 -> y | F7: forecast
A8: =A7+1 -> 5 | B8: 12 | D8: =A4 -> 1 | E8: =B4 -> 3 | F8: =E8 -> 3
A9: =A8+1 -> 6 | B9: 17 | D9: =A5 -> 2 | E9: =B5 -> 5 | F9: =F8+$E$5*(E8-F8) -> 3
A10: =A9+1 -> 7 | B10: 22 | D10: =A6 -> 3 | E10: =B6 -> 9 | F10: =F9+$E$5*(E9-F9) -> 3.8
A11: =A10+1 -> 8 | B11: 23 | D11: =A7 -> 4 | E11: =B7 -> 20 | F11: =F10+$E$5*(E10-F10) -> 5.88
A12: =A11+1 -> 9 | B12: 51 | D12: =A8 -> 5 | E12: =B8 -> 12 | F12: =F11+$E$5*(E11-F11) -> 11.528
A13: =A12+1 -> 10 | B13: 41 | D13: =A9 -> 6 | E13: =B9 -> 17 | F13: =F12+$E$5*(E12-F12) -> 11.7168
A14: =A13+1 -> 11 | B14: 56 | D14: =A10 -> 7 | E14: =B10 -> 22 | F14: =F13+$E$5*(E13-F13) -> 13.83008
A15: =A14+1 -> 12 | B15: 75 | D15: =A11 -> 8 | E15: =B11 -> 23 | F15: =F14+$E$5*(E14-F14) -> 17.098048
A16: =A15+1 -> 13 | B16: 60 | D16: =A12 -> 9 | E16: =B12 -> 51 | F16: =F15+$E$5*(E15-F15) -> 19.458829
A17: =A16+1 -> 14 | B17: 75 | D17: =A13 -> 10 | E17: =B13 -> 41 | F17: =F16+$E$5*(E16-F16) -> 32.075297
A18: =A17+1 -> 15 | B18: 88 | D18: =A14 -> 11 | E18: =B14 -> 56 | F18: =F17+$E$5*(E17-F17) -> 35.645178
D19: =A15 -> 12 | E19: =B15 -> 75 | F19: =F18+$E$5*(E18-F18) -> 43.787107
D20: =A16 -> 13 | E20: =B16 -> 60 | F20: =F19+$E$5*(E19-F19) -> 56.272264
D21: =A17 -> 14 | E21: =B17 -> 75 | F21: =F20+$E$5*(E20-F20) -> 57.763359
D22: =A18 -> 15 | E22: =B18 -> 88 | F22: =F21+$E$5*(E21-F21) -> 64.658015
D23: > | F23: =F22+$E$5*(E22-F22) -> 73.994809
E25: MAE | F25: MSE | G25: MAPE
E26: =SUMPRODUCT(ABS(E9:E22-F9:F22))/COUNT(F9:F22) -> 12.677644 | F26: =SUMXMY2(E9:E22,F9:F22)/COUNT(F9:F22) -> 262.78824 | G26: =SUMPRODUCT(ABS(1-F9:F22/E9:E22))/COUNT(F9:F22) -> 0.34534541

Sheet Exp 2
A1: Single Exponential Smoothing | G1: Single Exponential Smoothing (MAE) | V1: Single Exponential Smoothing
A3: t | B3: y | C3: pred | D3: |e| | E3: e^2 | G3: t | H3: y | I3: pred | J3: |e| | K3: e^2 | V3: t | W3: y | X3: yhat | Y3: |e| | Z3: e^2
A4: 1 | B4: 3 | C4: =B4 -> 3 | G4: 1 | H4: 3 | I4: =H4 -> 3 | V4: 1 | W4: 3 | X4: =W4 -> 3
A5: =A4+1 -> 2 | B5: 5 | C5: =A$21*B4+(1-A$21)*C4 -> 3 | D5: =ABS(B5-C5) -> 2 | E5: =(B5-C5)^2 -> 4 | G5: =G4+1 -> 2 | H5: 5 | I5: =I4+G$21*(H4-I4) -> 3 | J5: =ABS(H5-I5) -> 2 | K5: =(H5-I5)^2 -> 4 | V5: =V4+1 -> 2 | W5: 5 | X5: =X4+V$21*(W4-X4) -> 3 | Y5: =ABS(W5-X5) -> 2 | Z5: =(W5-X5)^2 -> 4
A6: =A5+1 -> 3 | B6: 9 | C6: =A$21*B5+(1-A$21)*C5 -> 3.8 | D6: =ABS(B6-C6) -> 5.2 | E6: =(B6-C6)^2 -> 27.04 | G6: =G5+1 -> 3 | H6: 9 | I6: =I5+G$21*(H5-I5) -> 4.3124106 | J6: =ABS(H6-I6) -> 4.6875894 | K6: =(H6-I6)^2 -> 21.973494 | V6: =V5+1 -> 3 | W6: 9 | X6: =X5+V$21*(W5-X5) -> 4.6878142 | Y6: =ABS(W6-X6) -> 4.3121858 | Z6: =(W6-X6)^2 -> 18.594947
A7: =A6+1 -> 4 | B7: 20 | C7: =A$21*B6+(1-A$21)*C6 -> 5.88 | D7: =ABS(B7-C7) -> 14.12 | E7: =(B7-C7)^2 -> 199.3744 | G7: =G6+1 -> 4 | H7: 20 | I7: =I6+G$21*(H6-I6) -> 7.3884317 | J7: =ABS(H7-I7) -> 12.611568 | K7: =(H7-I7)^2 -> 159.05165 | V7: =V6+1 -> 4 | W7: 20 | X7: =X6+V$21*(W6-X6) -> 8.3268984 | Y7: =ABS(W7-X7) -> 11.673102 | Z7: =(W7-X7)^2 -> 136.2613
A8: =A7+1 -> 5 | B8: 12 | C8: =A$21*B7+(1-A$21)*C7 -> 11.528 | D8: =ABS(B8-C8) -> 0.472 | E8: =(B8-C8)^2 -> 0.222784 | G8: =G7+1 -> 5 | H8: 12 | I8: =I7+G$21*(H7-I7) -> 15.66421 | J8: =ABS(H8-I8) -> 3.66421 | K8: =(H8-I8)^2 -> 13.426435 | V8: =V7+1 -> 5 | W8: 12 | X8: =X7+V$21*(W7-X7) -> 18.177912 | Y8: =ABS(W8-X8) -> 6.1779116 | Z8: =(W8-X8)^2 -> 38.166592
A9: =A8+1 -> 6 | B9: 17 | C9: =A$21*B8+(1-A$21)*C8 -> 11.7168 | D9: =ABS(B9-C9) -> 5.2832 | E9: =(B9-C9)^2 -> 27.912202 | G9: =G8+1 -> 6 | H9: 17 | I9: =I8+G$21*(H8-I8) -> 13.259736 | J9: =ABS(H9-I9) -> 3.7402641 | K9: =(H9-I9)^2 -> 13.989576 | V9: =V8+1 -> 6 | W9: 17 | X9: =X8+V$21*(W8-X8) -> 12.964328 | Y9: =ABS(W9-X9) -> 4.0356718 | Z9: =(W9-X9)^2 -> 16.286647
A10: =A9+1 -> 7 | B10: 22 | C10: =A$21*B9+(1-A$21)*C9 -> 13.83008 | D10: =ABS(B10-C10) -> 8.16992 | E10: =(B10-C10)^2 -> 66.747593 | G10: =G9+1 -> 7 | H10: 22 | I10: =I9+G$21*(H9-I9) -> 15.714117 | J10: =ABS(H10-I10) -> 6.2858829 | K10: =(H10-I10)^2 -> 39.512324 | V10: =V9+1 -> 7 | W10: 22 | X10: =X9+V$21*(W9-X9) -> 16.37006 | Y10: =ABS(W10-X10) -> 5.6299398 | Z10: =(W10-X10)^2 -> 31.696222
A11: =A10+1 -> 8 | B11: 23 | C11: =A$21*B10+(1-A$21)*C10 -> 17.098048 | D11: =ABS(B11-C11) -> 5.901952 | E11: =(B11-C11)^2 -> 34.833037 | G11: =G10+1 -> 8 | H11: 23 | I11: =I10+G$21*(H10-I10) -> 19.838947 | J11: =ABS(H11-I11) -> 3.1610531 | K11: =(H11-I11)^2 -> 9.9922565 | V11: =V10+1 -> 8 | W11: 23 | X11: =X10+V$21*(W10-X10) -> 21.121206 | Y11: =ABS(W11-X11) -> 1.8787937 | Z11: =(W11-X11)^2 -> 3.5298657
A12: =A11+1 -> 9 | B12: 51 | C12: =A$21*B11+(1-A$21)*C11 -> 19.458829 | D12: =ABS(B12-C12) -> 31.541171 | E12: =(B12-C12)^2 -> 994.84548 | G12: =G11+1 -> 9 | H12: 51 | I12: =I11+G$21*(H11-I11) -> 21.913247 | J12: =ABS(H12-I12) -> 29.086753 | K12: =(H12-I12)^2 -> 846.03921 | V12: =V11+1 -> 9 | W12: 51 | X12: =X11+V$21*(W11-X11) -> 22.706734 | Y12: =ABS(W12-X12) -> 28.293266 | Z12: =(W12-X12)^2 -> 800.50892
A13: =A12+1 -> 10 | B13: 41 | C13: =A$21*B12+(1-A$21)*C12 -> 32.075297 | D13: =ABS(B13-C13) -> 8.9247027 | E13: =(B13-C13)^2 -> 79.650319 | G13: =G12+1 -> 10 | H13: 41 | I13: =I12+G$21*(H12-I12) -> 41.000129 | J13: =ABS(H13-I13) -> 0.00012908852 | K13: =(H13-I13)^2 -> 1.6663847e-08 | V13: =V12+1 -> 10 | W13: 41 | X13: =X12+V$21*(W12-X12) -> 46.583622 | Y13: =ABS(W13-X13) -> 5.5836217 | Z13: =(W13-X13)^2 -> 31.176831
A14: =A13+1 -> 11 | B14: 56 | C14: =A$21*B13+(1-A$21)*C13 -> 35.645178 | D14: =ABS(B14-C14) -> 20.354822 | E14: =(B14-C14)^2 -> 414.31876 | G14: =G13+1 -> 11 | H14: 56 | I14: =I13+G$21*(H13-I13) -> 41.000044 | J14: =ABS(H14-I14) -> 14.999956 | K14: =(H14-I14)^2 -> 224.99867 | V14: =V13+1 -> 11 | W14: 56 | X14: =X13+V$21*(W13-X13) -> 41.871564 | Y14: =ABS(W14-X14) -> 14.128436 | Z14: =(W14-X14)^2 -> 199.61271
A15: =A14+1 -> 12 | B15: 75 | C15: =A$21*B14+(1-A$21)*C14 -> 43.787107 | D15: =ABS(B15-C15) -> 31.212893 | E15: =(B15-C15)^2 -> 974.24469 | G15: =G14+1 -> 12 | H15: 75 | I15: =I14+G$21*(H14-I14) -> 50.843095 | J15: =ABS(H15-I15) -> 24.156905 | K15: =(H15-I15)^2 -> 583.55605 | V15: =V14+1 -> 12 | W15: 75 | X15: =X14+V$21*(W14-X14) -> 53.794651 | Y15: =ABS(W15-X15) -> 21.205349 | Z15: =(W15-X15)^2 -> 449.66682
A16: =A15+1 -> 13 | B16: 60 | C16: =A$21*B15+(1-A$21)*C15 -> 56.272264 | D16: =ABS(B16-C16) -> 3.7277358 | E16: =(B16-C16)^2 -> 13.896014 | G16: =G15+1 -> 13 | H16: 60 | I16: =I15+G$21*(H15-I15) -> 66.694985 | J16: =ABS(H16-I16) -> 6.6949847 | K16: =(H16-I16)^2 -> 44.82282 | V16: =V15+1 -> 13 | W16: 60 | X16: =X15+V$21*(W15-X15) -> 71.689995 | Y16: =ABS(W16-X16) -> 11.689995 | Z16: =(W16-X16)^2 -> 136.65599
... A18: =A17+1 -> 15 | B18: 88 | C18: =A$21*B17+(1-A$21)*C17 -> 64.658015 | D18: =ABS(B18-C18) -> 23.341985 | E18: =(B18-C18)^2 -> 544.84826 | G18: =G17+1 -> 15 | H18: 88 | I18: =I17+G$21*(H17-I17) -> 70.634392 | J18: =ABS(H18-I18) -> 17.365608 | K18: =(H18-I18)^2 -> 301.56434 | V18: =V17+1 -> 15 | W18: 88 | X18: =X17+V$21*(W17-X17) -> 72.943433 | Y18: =ABS(W18-X18) -> 15.056567 | Z18: =(W18-X18)^2 -> 226.70021
A20: alpha | C20: MAE | D20: MSE | E20: RMSE | G20: alpha | I20: MAE | J20: MSE | K20: RMSE | V20: alpha | X20: MAE | Y20: MSE | Z20: RMSE
A21: 0.4 | C21: =AVERAGE(D4:D18) -> 12.677644 | D21: =AVERAGE(E4:E18) -> 262.78824 | E21: =SQRT(D21) -> 16.210745 | G21: 0.65620532 | I21: =AVERAGE(J4:J18) -> 10.082372 | J21: =AVERAGE(K4:K18) -> 173.15526 | K21: =SQRT(J21) -> 13.158847 | V21: 0.84390709 | X21: =AVERAGE(Y4:Y18) -> 10.345722 | Y21: =AVERAGE(Z4:Z18) -> 161.88892 | Z21: =SQRT(Y21) -> 12.723558

Sheet Exp 3
A1: Simple Exponential Smoothing
A3: t | B3: y | D3: Exponential Smoothing | H3: sig level | I3: 0.05
A4: 1 | B4: 3
A5: =A4+1 -> 2 | B5: 5 | D5: alpha | E5: 0.65620679
A6: =A5+1 -> 3 | B6: 9
A7: =A6+1 -> 4 | B7: 20 | D7: =A3 -> t | E7: =B3 -> y | F7: forecast | G7: s.e. | H7: lower | I7: upper
A8: =A7+1 -> 5 | B8: 12 | D8: =A4 -> 1 | E8: =B4 -> 3 | F8: =E8 -> 3
A9: =A8+1 -> 6 | B9: 17 | D9: =A5 -> 2 | E9: =B5 -> 5 | F9: =F8+$E$5*(E8-F8) -> 3
A10: =A9+1 -> 7 | B10: 22 | D10: =A6 -> 3 | E10: =B6 -> 9 | F10: =F9+$E$5*(E9-F9) -> 4.3124136 | G10: =SQRT(SUMXMY2(E$9:E9,F$9:F9)/COUNT(F$9:F9)) -> 2 | H10: =F10-G10*_xlfn.NORM.S.INV(1-I$3/2) -> 0.39248581 | I10: =F10+G10*_xlfn.NORM.S.INV(1-I$3/2) -> 8.2323414
A11: =A10+1 -> 8 | B11: 23 | D11: =A7 -> 4 | E11: =B7 -> 20 | F11: =F10+$E$5*(E10-F10) -> 7.3884396 | G11: =SQRT(SUMXMY2(E$9:E10,F$9:F10)/COUNT(F$9:F10)) -> 3.603711 | H11: =F11-G11*_xlfn.NORM.S.INV(1-I$3/2) -> 0.32529617 | I11: =F11+G11*_xlfn.NORM.S.INV(1-I$3/2) -> 14.451583
A12: =A11+1 -> 9 | B12: 51 | D12: =A8 -> 5 | E12: =B8 -> 12 | F12: =F11+$E$5*(E11-F11) -> 15.664231 | G12: =SQRT(SUMXMY2(E$9:E11,F$9:F11)/COUNT(F$9:F11)) -> 7.8533416 | H12: =F12-G12*_xlfn.NORM.S.INV(1-I$3/2) -> 0.27196539 | I12: =F12+G12*_xlfn.NORM.S.INV(1-I$3/2) -> 31.056497
A13: =A12+1 -> 10 | B13: 41 | D13: =A9 -> 6 | E13: =B9 -> 17 | F13: =F12+$E$5*(E12-F12) -> 13.259738 | G13: =SQRT(SUMXMY2(E$9:E12,F$9:F12)/COUNT(F$9:F12)) -> 7.043641 | H13: =F13-G13*_xlfn.NORM.S.INV(1-I$3/2) -> -0.54554411 | I13: =F13+G13*_xlfn.NORM.S.INV(1-I$3/2) -> 27.06502
A14: =A13+1 -> 11 | B14: 56 | D14: =A10 -> 7 | E14: =B10 -> 22 | F14: =F13+$E$5*(E13-F13) -> 15.714123 | G14: =SQRT(SUMXMY2(E$9:E13,F$9:F13)/COUNT(F$9:F13)) -> 6.5182984 | H14: =F14-G14*_xlfn.NORM.S.INV(1-I$3/2) -> 2.9384937 | I14: =F14+G14*_xlfn.NORM.S.INV(1-I$3/2) -> 28.489753
A15: =A14+1 -> 12 | B15: 75 | D15: =A11 -> 8 | E15: =B11 -> 23 | F15: =F14+$E$5*(E14-F14) -> 19.838958 | G15: =SQRT(SUMXMY2(E$9:E14,F$9:F14)/COUNT(F$9:F14)) -> 6.4801404 | H15: =F15-G15*_xlfn.NORM.S.INV(1-I$3/2) -> 7.1381171 | I15: =F15+G15*_xlfn.NORM.S.INV(1-I$3/2) -> 32.5398
A16: =A15+1 -> 13 | B16: 60 | D16: =A12 -> 9 | E16: =B12 -> 51 | F16: =F15+$E$5*(E15-F15) -> 21.913255 | G16: =SQRT(SUMXMY2(E$9:E15,F$9:F15)/COUNT(F$9:F15)) -> 6.1172532 | H16: =F16-G16*_xlfn.NORM.S.INV(1-I$3/2) -> 9.92366 | I16: =F16+G16*_xlfn.NORM.S.INV(1-I$3/2) -> 33.902851
A17: =A16+1 -> 14 | B17: 75 | D17: =A13 -> 10 | E17: =B13 -> 41 | F17: =F16+$E$5*(E16-F16) -> 41.000175 | G17: =SQRT(SUMXMY2(E$9:E16,F$9:F16)/COUNT(F$9:F16)) -> 11.768518 | H17: =F17-G17*_xlfn.NORM.S.INV(1-I$3/2) -> 17.934304 | I17: =F17+G17*_xlfn.NORM.S.INV(1-I$3/2) -> 64.066046
A18: =A17+1 -> 15 | B18: 88 | D18: =A14 -> 11 | E18: =B14 -> 56 | F18: =F17+$E$5*(E17-F17) -> 41.00006 | G18: =SQRT(SUMXMY2(E$9:E17,F$9:F17)/COUNT(F$9:F17)) -> 11.095466 | H18: =F18-G18*_xlfn.NORM.S.INV(1-I$3/2) -> 19.253348 | I18: =F18+G18*_xlfn.NORM.S.INV(1-I$3/2) -> 62.746772
D19: =A15 -> 12 | E19: =B15 -> 75 | F19: =F18+$E$5*(E18-F18) -> 50.843123 | G19: =SQRT(SUMXMY2(E$9:E18,F$9:F18)/COUNT(F$9:F18)) -> 11.545486 | H19: =F19-G19*_xlfn.NORM.S.INV(1-I$3/2) -> 28.214387 | I19: =F19+G19*_xlfn.NORM.S.INV(1-I$3/2) -> 73.471858
D20: =A16 -> 13 | E20: =B16 -> 60 | F20: =F19+$E$5*(E19-F19) -> 66.69503 | G20: =SQRT(SUMXMY2(E$9:E19,F$9:F19)/COUNT(F$9:F19)) -> 13.199646 | H20: =F20-G20*_xlfn.NORM.S.INV(1-I$3/2) -> 40.824201 | I20: =F20+G20*_xlfn.NORM.S.INV(1-I$3/2) -> 92.565859
D21: =A17 -> 14 | E21: =B17 -> 75 | F21: =F20+$E$5*(E20-F20) -> 62.301706 | G21: =SQRT(SUMXMY2(E$9:E20,F$9:F20)/COUNT(F$9:F20)) -> 12.784628 | H21: =F21-G21*_xlfn.NORM.S.INV(1-I$3/2) -> 37.244296 | I21: =F21+G21*_xlfn.NORM.S.INV(1-I$3/2) -> 87.359115
D22: =A18 -> 15 | E22: =B18 -> 88 | F22: =F21+$E$5*(E21-F21) -> 70.634413 | G22: =SQRT(SUMXMY2(E$9:E21,F$9:F21)/COUNT(F$9:F21)) -> 12.778008 | H22: =F22-G22*_xlfn.NORM.S.INV(1-I$3/2) -> 45.589979 | I22: =F22+G22*_xlfn.NORM.S.INV(1-I$3/2) -> 95.678846
D23: > | F23: =F22+$E$5*(E22-F22) -> 82.029829 | G23: =SQRT(SUMXMY2(E$9:E22,F$9:F22)/COUNT(F$9:F22)) -> 13.15884 | H23: =F23-G23*_xlfn.NORM.S.INV(1-I$3/2) -> 56.238979 | I23: =F23+G23*_xlfn.NORM.S.INV(1-I$3/2) -> 107.82068
E25: MAE | F25: MSE | G25: MAPE
E26: =SUMPRODUCT(ABS(E9:E22-F9:F22))/COUNT(F9:F22) -> 10.082372 | F26: =SUMXMY2(E9:E22,F9:F22)/COUNT(F9:F22) -> 173.15506 | G26: =SUMPRODUCT(ABS(1-F9:F22/E9:E22))/COUNT(F9:F22) -> 0.29560416

Sheet Holt
A1: Holt's Linear Trend
A3: t | B3: y | C3: u | D3: v | E3: pred | F3: |e| | G3: e^2 | Q3: t | R3: y | S3: pred
A4: 1 | B4: 3 | C4: =B4 -> 3 | D4: 0 | Q4: 1 | R4: 3
A5: =A4+1 -> 2 | B5: 5 | C5: =B$21*B5+(1-B$21)*(C4+D4) -> 3.8 | D5: =C$21*(C5-C4)+(1-C$21)*D4 -> 0.56 | E5: =C4+D4 -> 3 | F5: =ABS(B5-E5) -> 2 | G5: =(B5-E5)^2 -> 4 | Q5: =Q4+1 -> 2 | R5: 5 | S5: =E5 -> 3
A6: =A5+1 -> 3 | B6: 9 | C6: =B$21*B6+(1-B$21)*(C5+D5) -> 6.216 | D6: =C$21*(C6-C5)+(1-C$21)*D5 -> 1.8592 | E6: =C5+D5 -> 4.36 | F6: =ABS(B6-E6) -> 4.64 | G6: =(B6-E6)^2 -> 21.5296 | Q6: =Q5+1 -> 3 | R6: 9 | S6: =E6 -> 4.36
A7: =A6+1 -> 4 | B7: 20 | C7: =B$21*B7+(1-B$21)*(C6+D6) -> 12.84512 | D7: =C$21*(C7-C6)+(1-C$21)*D6 -> 5.198144 | E7: =C6+D6 -> 8.0752 | F7: =ABS(B7-E7) -> 11.9248 | G7: =(B7-E7)^2 -> 142.20086 | Q7: =Q6+1 -> 4 | R7: 20 | S7: =E7 -> 8.0752
A8: =A7+1 -> 5 | B8: 12 | C8: =B$21*B8+(1-B$21)*(C7+D7) -> 15.625958 | D8: =C$21*(C8-C7)+(1-C$21)*D7 -> 3.5060301 | E8: =C7+D7 -> 18.043264 | F8: =ABS(B8-E8) -> 6.043264 | G8: =(B8-E8)^2 -> 36.52104 | Q8: =Q7+1 -> 5 | R8: 12 | S8: =E8 -> 18.043264
A9: =A8+1 -> 6 | B9: 17 | C9: =B$21*B9+(1-B$21)*(C8+D8) -> 18.279193 | D9: =C$21*(C9-C8)+(1-C$21)*D8 -> 2.9090733 | E9: =C8+D8 -> 19.131988 | F9: =ABS(B9-E9) -> 2.1319885 | G9: =(B9-E9)^2 -> 4.5453749 | Q9: =Q8+1 -> 6 | R9: 17 | S9: =E9 -> 19.131988
A10: =A9+1 -> 7 | B10: 22 | C10: =B$21*B10+(1-B$21)*(C9+D9) -> 21.51296 | D10: =C$21*(C10-C9)+(1-C$21)*D9 -> 3.1363587 | E10: =C9+D9 -> 21.188266 | F10: =ABS(B10-E10) -> 0.81173361 | G10: =(B10-E10)^2 -> 0.65891145 | Q10: =Q9+1 -> 7 | R10: 22 | S10: =E10 -> 21.188266
A11: =A10+1 -> 8 | B11: 23 | C11: =B$21*B11+(1-B$21)*(C10+D10) -> 23.989591 | D11: =C$21*(C11-C10)+(1-C$21)*D10 -> 2.6745495 | E11: =C10+D10 -> 24.649319 | F11: =ABS(B11-E11) -> 1.6493186 | G11: =(B11-E11)^2 -> 2.7202517 | Q11: =Q10+1 -> 8 | R11: 23 | S11: =E11 -> 24.649319
A12: =A11+1 -> 9 | B12: 51 | C12: =B$21*B12+(1-B$21)*(C11+D11) -> 36.398484 | D12: =C$21*(C12-C11)+(1-C$21)*D11 -> 9.4885901 | E12: =C11+D11 -> 26.664141 | F12: =ABS(B12-E12) -> 24.335859 | G12: =(B12-E12)^2 -> 592.23405 | Q12: =Q11+1 -> 9 | R12: 51 | S12: =E12 -> 26.664141
A13: =A12+1 -> 10 | B13: 41 | C13: =B$21*B13+(1-B$21)*(C12+D12) -> 43.932245 | D13: =C$21*(C13-C12)+(1-C$21)*D12 -> 8.1202093 | E13: =C12+D12 -> 45.887075 | F13: =ABS(B13-E13) -> 4.8870745 | G13: =(B13-E13)^2 -> 23.883497 | Q13: =Q12+1 -> 10 | R13: 41 | S13: =E13 -> 45.887075
A14: =A13+1 -> 11 | B14: 56 | C14: =B$21*B14+(1-B$21)*(C13+D13) -> 53.631472 | D14: =C$21*(C14-C13)+(1-C$21)*D13 -> 9.2255222 | E14: =C13+D13 -> 52.052454 | F14: =ABS(B14-E14) -> 3.947546 | G14: =(B14-E14)^2 -> 15.58312 | Q14: =Q13+1 -> 11 | R14: 56 | S14: =E14 -> 52.052454
A15: =A14+1 -> 12 | B15: 75 | C15: =B$21*B15+(1-B$21)*(C14+D14) -> 67.714197 | D15: =C$21*(C15-C14)+(1-C$21)*D14 -> 12.625564 | E15: =C14+D14 -> 62.856995 | F15: =ABS(B15-E15) -> 12.143005 | G15: =(B15-E15)^2 -> 147.45258 | Q15: =Q14+1 -> 12 | R15: 75 | S15: =E15 -> 62.856995
A16: =A15+1 -> 13 | B16: 60 | C16: =B$21*B16+(1-B$21)*(C15+D15) -> 72.203856 | D16: =C$21*(C16-C15)+(1-C$21)*D15 -> 6.9304308 | E16: =C15+D15 -> 80.33976 | F16: =ABS(B16-E16) -> 20.33976 | G16: =(B16-E16)^2 -> 413.70585 | Q16: =Q15+1 -> 13 | R16: 60 | S16: =E16 -> 80.33976
... A18: =A17+1 -> 15 | B18: 88 | C18: =B$21*B18+(1-B$21)*(C17+D17) -> 85.152042 | D18: =C$21*(C18-C17)+(1-C$21)*D17 -> 7.1018777 | E18: =C17+D17 -> 83.253403 | F18: =ABS(B18-E18) -> 4.7465974 | G18: =(B18-E18)^2 -> 22.530187 | Q18: =Q17+1 -> 15 | R18: 88 | S18: =E18 -> 83.253403
Q19: =Q18+1 -> 16 | S19: =C$18+(Q19-Q$18)*D$18 -> 92.253919
B20: alpha | C20: beta | E20: MAE | F20: MSE | G20: RMSE | Q20: =Q19+1 -> 17 | S20: =C$18+(Q20-Q$18)*D$18 -> 99.355797
B21: 0.4 | C21: 0.7 | E21: =AVERAGE(F4:F18) -> 7.4096596 | F21: =AVERAGE(G4:G18) -> 103.18983 | G21: =SQRT(F21) -> 10.15824 | Q21: =Q20+1 -> 18 | S21: =C$18+(Q21-Q$18)*D$18 -> 106.45767
Q22: =Q21+1 -> 19 | S22: =C$18+(Q22-Q$18)*D$18 -> 113.55955
Q23: =Q22+1 -> 20 | S23: =C$18+(Q23-Q$18)*D$18 -> 120.66143

Sheet Holt 2
A1: Holt's Method (minimize MAE)
A3: t | B3: y | C3: u | D3: v | E3: pred | F3: |e| | G3: e^2 | Q3: t | R3: y | S3: pred
A4: 1 | B4: 3 | C4: =B4 -> 3 | D4: 0 | Q4: 1 | R4: 3
A5: =A4+1 -> 2 | B5: 5 | C5: =B$21*B5+(1-B$21)*(C4+D4) -> 3.5436346 | D5: =C$21*(C5-C4)+(1-C$21)*D4 -> 0.32518115 | E5: =C4+D4 -> 3 | F5: =ABS(B5-E5) -> 2 | G5: =(B5-E5)^2 -> 4 | Q5: =Q4+1 -> 2 | R5: 5 | S5: =E5 -> 3
A6: =A5+1 -> 3 | B6: 9 | C6: =B$21*B6+(1-B$21)*(C5+D5) -> 5.2635605 | D6: =C$21*(C6-C5)+(1-C$21)*D5 -> 1.1594634 | E6: =C5+D5 -> 3.8688158 | F6: =ABS(B6-E6) -> 5.1311842 | G6: =(B6-E6)^2 -> 26.329051 | Q6: =Q5+1 -> 3 | R6: 9 | S6: =E6 -> 3.8688158
A7: =A6+1 -> 4 | B7: 20 | C7: =B$21*B7+(1-B$21)*(C6+D6) -> 10.113481 | D7: =C$21*(C7-C6)+(1-C$21)*D6 -> 3.3669517 | E7: =C6+D6 -> 6.4230239 | F7: =ABS(B7-E7) -> 13.576976 | G7: =(B7-E7)^2 -> 184.33428 | Q7: =Q6+1 -> 4 | R7: 20 | S7: =E7 -> 6.4230239
A8: =A7+1 -> 5 | B8: 12 | C8: =B$21*B8+(1-B$21)*(C7+D7) -> 13.078026 | D8: =C$21*(C8-C7)+(1-C$21)*D7 -> 3.1262473 | E8: =C7+D7 -> 13.480433 | F8: =ABS(B8-E8) -> 1.4804329 | G8: =(B8-E8)^2 -> 2.1916815 | Q8: =Q7+1 -> 5 | R8: 12 | S8: =E8 -> 13.480433
A9: =A8+1 -> 6 | B9: 17 | C9: =B$21*B9+(1-B$21)*(C8+D8) -> 16.420565 | D9: =C$21*(C9-C8)+(1-C$21)*D8 -> 3.255625 | E9: =C8+D8 -> 16.204273 | F9: =ABS(B9-E9) -> 0.79572712 | G9: =(B9-E9)^2 -> 0.63318166 | Q9: =Q8+1 -> 6 | R9: 17 | S9: =E9 -> 16.204273
A10: =A9+1 -> 7 | B10: 22 | C10: =B$21*B10+(1-B$21)*(C9+D9) -> 20.307842 | D10: =C$21*(C10-C9)+(1-C$21)*D9 -> 3.6334546 | E10: =C9+D9 -> 19.67619 | F10: =ABS(B10-E10) -> 2.3238097 | G10: =(B10-E10)^2 -> 5.4000914 | Q10: =Q9+1 -> 7 | R10: 22 | S10: =E10 -> 19.67619
A11: =A10+1 -> 8 | B11: 23 | C11: =B$21*B11+(1-B$21)*(C10+D10) -> 23.685436 | D11: =C$21*(C11-C10)+(1-C$21)*D10 -> 3.4804086 | E11: =C10+D10 -> 23.941297 | F11: =ABS(B11-E11) -> 0.94129663 | G11: =(B11-E11)^2 -> 0.88603934 | Q11: =Q10+1 -> 8 | R11: 23 | S11: =E11 -> 23.941297
A12: =A11+1 -> 9 | B12: 51 | C12: =B$21*B12+(1-B$21)*(C11+D11) -> 33.644381 | D12: =C$21*(C12-C11)+(1-C$21)*D11 -> 7.3556177 | E12: =C11+D11 -> 27.165845 | F12: =ABS(B12-E12) -> 23.834155 | G12: =(B12-E12)^2 -> 568.06697 | Q12: =Q11+1 -> 9 | R12: 51 | S12: =E12 -> 27.165845
A13: =A12+1 -> 10 | B13: 41 | C13: =B$21*B13+(1-B$21)*(C12+D12) -> 40.999999 | D13: =C$21*(C13-C12)+(1-C$21)*D12 -> 7.355618 | E13: =C12+D12 -> 40.999998 | F13: =ABS(B13-E13) -> 1.5073115e-06 | G13: =(B13-E13)^2 -> 2.271988e-12 | Q13: =Q12+1 -> 10 | R13: 41 | S13: =E13 -> 40.999998
A14: =A13+1 -> 11 | B14: 56 | C14: =B$21*B14+(1-B$21)*(C13+D13) -> 50.433493 | D14: =C$21*(C14-C13)+(1-C$21)*D13 -> 8.5985226 | E14: =C13+D13 -> 48.355617 | F14: =ABS(B14-E14) -> 7.6443831 | G14: =(B14-E14)^2 -> 58.436594 | Q14: =Q13+1 -> 11 | R14: 56 | S14: =E14 -> 48.355617
A15: =A14+1 -> 12 | B15: 75 | C15: =B$21*B15+(1-B$21)*(C14+D14) -> 63.37239 | D15: =C$21*(C15-C14)+(1-C$21)*D14 -> 11.194766 | E15: =C14+D14 -> 59.032015 | F15: =ABS(B15-E15) -> 15.967985 | G15: =(B15-E15)^2 -> 254.97654 | Q15: =Q14+1 -> 12 | R15: 75 | S15: =E15 -> 59.032015
A16: =A15+1 -> 13 | B16: 60 | C16: =B$21*B16+(1-B$21)*(C15+D15) -> 70.607551 | D16: =C$21*(C16-C15)+(1-C$21)*D15 -> 8.8262841 | E16: =C15+D15 -> 74.567157 | F16: =ABS(B16-E16) -> 14.567157 | G16: =(B16-E16)^2 -> 212.20205 | Q16: =Q15+1 -> 13 | R16: 60 | S16: =E16 -> 74.567157
... A18: =A17+1 -> 15 | B18: 88 | C18: =B$21*B18+(1-B$21)*(C17+D17) -> 86.786867 | D18: =C$21*(C18-C17)+(1-C$21)*D17 -> 8.3762559 | E18: =C17+D17 -> 86.334026 | F18: =ABS(B18-E18) -> 1.6659737 | G18: =(B18-E18)^2 -> 2.7754685 | Q18: =Q17+1 -> 15 | R18: 88 | S18: =E18 -> 86.334026
Q19: =Q18+1 -> 16 | S19: =C$18+(Q19-Q$18)*D$18 -> 95.163123
B20: alpha | C20: beta | E20: MAE | F20: MSE | G20: RMSE | Q20: =Q19+1 -> 17 | S20: =C$18+(Q20-Q$18)*D$18 -> 103.53938
B21: 0.27181732 | C21: 0.59816121 | E21: =AVERAGE(F4:F18) -> 6.7402084 | F21: =AVERAGE(G4:G18) -> 95.706488 | G21: =SQRT(F21) -> 9.7829693 | Q21: =Q20+1 -> 18 | S21: =C$18+(Q21-Q$18)*D$18 -> 111.91563
Q22: =Q21+1 -> 19 | S22: =C$18+(Q22-Q$18)*D$18 -> 120.29189
Q23: =Q22+1 -> 20 | S23: =C$18+(Q23-Q$18)*D$18 -> 128.66815

Sheet Holt 3
A1: Holt's Method | D1: Holt's Method (Real Statistics)
A3: t | B3: y | D3: =A3 -> t | E3: =B3 -> y | F3: u | G3: v | H3: forecast
A4: 1 | B4: 3 | D4: =A4 -> 1 | E4: =B4 -> 3 | F4: =E4 -> 3 | G4: 0
A5: =A4+1 -> 2 | B5: 5 | D5: =A5 -> 2 | E5: =B5 -> 5 | F5: =$E$26*E5+(1-$E$26)*(F4+G4) -> 3.8 | G5: =$F$26*(F5-F4)+(1-$F$26)*G4 -> 0.56 | H5: =F4+G4 -> 3
A6: =A5+1 -> 3 | B6: 9 | D6: =A6 -> 3 | E6: =B6 -> 9 | F6: =$E$26*E6+(1-$E$26)*(F5+G5) -> 6.216 | G6: =$F$26*(F6-F5)+(1-$F$26)*G5 -> 1.8592 | H6: =F5+G5 -> 4.36
A7: =A6+1 -> 4 | B7: 20 | D7: =A7 -> 4 | E7: =B7 -> 20 | F7: =$E$26*E7+(1-$E$26)*(F6+G6) -> 12.84512 | G7: =$F$26*(F7-F6)+(1-$F$26)*G6 -> 5.198144 | H7: =F6+G6 -> 8.0752
A8: =A7+1 -> 5 | B8: 12 | D8: =A8 -> 5 | E8: =B8 -> 12 | F8: =$E$26*E8+(1-$E$26)*(F7+G7) -> 15.625958 | G8: =$F$26*(F8-F7)+(1-$F$26)*G7 -> 3.5060301 | H8: =F7+G7 -> 18.043264
A9: =A8+1 -> 6 | B9: 17 | D9: =A9 -> 6 | E9: =B9 -> 17 | F9: =$E$26*E9+(1-$E$26)*(F8+G8) -> 18.279193 | G9: =$F$26*(F9-F8)+(1-$F$26)*G8 -> 2.9090733 | H9: =F8+G8 -> 19.131988
A10: =A9+1 -> 7 | B10: 22 | D10: =A10 -> 7 | E10: =B10 -> 22 | F10: =$E$26*E10+(1-$E$26)*(F9+G9) -> 21.51296 | G10: =$F$26*(F10-F9)+(1-$F$26)*G9 -> 3.1363587 | H10: =F9+G9 -> 21.188266
A11: =A10+1 -> 8 | B11: 23 | D11: =A11 -> 8 | E11: =B11 -> 23 | F11: =$E$26*E11+(1-$E$26)*(F10+G10) -> 23.989591 | G11: =$F$26*(F11-F10)+(1-$F$26)*G10 -> 2.6745495 | H11: =F10+G10 -> 24.649319
A12: =A11+1 -> 9 | B12: 51 | D12: =A12 -> 9 | E12: =B12 -> 51 | F12: =$E$26*E12+(1-$E$26)*(F11+G11) -> 36.398484 | G12: =$F$26*(F12-F11)+(1-$F$26)*G11 -> 9.4885901 | H12: =F11+G11 -> 26.664141
A13: =A12+1 -> 10 | B13: 41 | D13: =A13 -> 10 | E13: =B13 -> 41 | F13: =$E$26*E13+(1-$E$26)*(F12+G12) -> 43.932245 | G13: =$F$26*(F13-F12)+(1-$F$26)*G12 -> 8.1202093 | H13: =F12+G12 -> 45.887075
A14: =A13+1 -> 11 | B14: 56 | D14: =A14 -> 11 | E14: =B14 -> 56 | F14: =$E$26*E14+(1-$E$26)*(F13+G13) -> 53.631472 | G14: =$F$26*(F14-F13)+(1-$F$26)*G13 -> 9.2255222 | H14: =F13+G13 -> 52.052454
A15: =A14+1 -> 12 | B15: 75 | D15: =A15 -> 12 | E15: =B15 -> 75 | F15: =$E$26*E15+(1-$E$26)*(F14+G14) -> 67.714197 | G15: =$F$26*(F15-F14)+(1-$F$26)*G14 -> 12.625564 | H15: =F14+G14 -> 62.856995
A16: =A15+1 -> 13 | B16: 60 | D16: =A16 -> 13 | E16: =B16 -> 60 | F16: =$E$26*E16+(1-$E$26)*(F15+G15) -> 72.203856 | G16: =$F$26*(F16-F15)+(1-$F$26)*G15 -> 6.9304308 | H16: =F15+G15 -> 80.33976
... A18: =A17+1 -> 15 | B18: 88 | D18: =A18 -> 15 | E18: =B18 -> 88 | F18: =$E$26*E18+(1-$E$26)*(F17+G17) -> 85.152042 | G18: =$F$26*(F18-F17)+(1-$F$26)*G17 -> 7.1018777 | H18: =F17+G17 -> 83.253403
D19: > | H19: =$F$18+$G$18*(ROW(F19)-ROW($F$18)) -> 92.253919
D20: > | H20: =$F$18+$G$18*(ROW(F20)-ROW($F$18)) -> 99.355797
D21: > | H21: =$F$18+$G$18*(ROW(F21)-ROW($F$18)) -> 106.45767
D22: > | H22: =$F$18+$G$18*(ROW(F22)-ROW($F$18)) -> 113.55955
D23: > | H23: =$F$18+$G$18*(ROW(F23)-ROW($F$18)) -> 120.66143
E25: alpha | F25: beta | G25: MAE | H25: MSE | I25: MAPE
E26: 0.4 | F26: 0.7 | G26: =SUMPRODUCT(ABS(E5:E18-H5:H18))/COUNT(H5:H18) -> 7.4096596 | H26: =SUMXMY2(E5:E18,H5:H18)/COUNT(H5:H18) -> 103.18983 | I26: =SUMPRODUCT(ABS(1-H5:H18/E5:E18))/COUNT(H5:H18) -> 0.25187473

Sheet Holt 4
A1: Holt's Method (minimize MSE)
A3: t | B3: y | C3: u | D3: v | E3: pred | F3: |e| | G3: e^2
A4: 1 | B4: 3 | C4: =B4 -> 3 | D4: 0
A5: =A4+1 -> 2 | B5: 5 | C5: =B$21*B5+(1-B$21)*(C4+D4) -> 3.3990263 | D5: =C$21*(C5-C4)+(1-C$21)*D4 -> 0.39902626 | E5: =C4+D4 -> 3 | F5: =ABS(B5-E5) -> 2 | G5: =(B5-E5)^2 -> 4
A6: =A5+1 -> 3 | B6: 9 | C6: =B$21*B6+(1-B$21)*(C5+D5) -> 4.8359093 | D6: =C$21*(C6-C5)+(1-C$21)*D5 -> 1.4368831 | E6: =C5+D5 -> 3.7980525 | F6: =ABS(B6-E6) -> 5.2019475 | G6: =(B6-E6)^2 -> 27.060258
A7: =A6+1 -> 4 | B7: 20 | C7: =B$21*B7+(1-B$21)*(C6+D6) -> 9.0115505 | D7: =C$21*(C7-C6)+(1-C$21)*D6 -> 4.1756412 | E7: =C6+D6 -> 6.2727924 | F7: =ABS(B7-E7) -> 13.727208 | G7: =(B7-E7)^2 -> 188.43623
A8: =A7+1 -> 5 | B8: 12 | C8: =B$21*B8+(1-B$21)*(C7+D7) -> 12.950331 | D8: =C$21*(C8-C7)+(1-C$21)*D7 -> 3.9387809 | E8: =C7+D7 -> 13.187192 | F8: =ABS(B8-E8) -> 1.1871917 | G8: =(B8-E8)^2 -> 1.4094242
A9: =A8+1 -> 6 | B9: 17 | C9: =B$21*B9+(1-B$21)*(C8+D8) -> 16.911236 | D9: =C$21*(C9-C8)+(1-C$21)*D8 -> 3.9609044 | E9: =C8+D8 -> 16.889112 | F9: =ABS(B9-E9) -> 0.11088775 | G9: =(B9-E9)^2 -> 0.012296093
A10: =A9+1 -> 7 | B10: 22 | C10: =B$21*B10+(1-B$21)*(C9+D9) -> 21.097163 | D10: =C$21*(C10-C9)+(1-C$21)*D9 -> 4.1859273 | E10: =C9+D9 -> 20.87214 | F10: =ABS(B10-E10) -> 1.1278598 | G10: =(B10-E10)^2 -> 1.2720676
A11: =A10+1 -> 8 | B11: 23 | C11: =B$21*B11+(1-B$21)*(C10+D10) -> 24.827584 | D11: =C$21*(C11-C10)+(1-C$21)*D10 -> 3.7304208 | E11: =C10+D10 -> 25.28309 | F11: =ABS(B11-E11) -> 2.2830903 | G11: =(B11-E11)^2 -> 5.2125014
A12: =A11+1 -> 9 | B12: 51 | C12: =B$21*B12+(1-B$21)*(C11+D11) -> 33.035477 | D12: =C$21*(C12-C11)+(1-C$21)*D11 -> 8.2078935 | E12: =C11+D11 -> 28.558005 | F12: =ABS(B12-E12) -> 22.441995 | G12: =(B12-E12)^2 -> 503.64316
A13: =A12+1 -> 10 | B13: 41 | C13: =B$21*B13+(1-B$21)*(C12+D12) -> 41.194815 | D13: =C$21*(C13-C12)+(1-C$21)*D12 -> 8.1593378 | E13: =C12+D12 -> 41.243371 | F13: =ABS(B13-E13) -> 0.24337076 | G13: =(B13-E13)^2 -> 0.059229326
A14: =A13+1 -> 11 | B14: 56 | C14: =B$21*B14+(1-B$21)*(C13+D13) -> 50.680087 | D14: =C$21*(C14-C13)+(1-C$21)*D13 -> 9.4852715 | E14: =C13+D13 -> 49.354153 | F14: =ABS(B14-E14) -> 6.6458471 | G14: =(B14-E14)^2 -> 44.167284
A15: =A14+1 -> 12 | B15: 75 | C15: =B$21*B15+(1-B$21)*(C14+D14) -> 63.125064 | D15: =C$21*(C15-C14)+(1-C$21)*D14 -> 12.444977 | E15: =C14+D14 -> 60.165358 | F15: =ABS(B15-E15) -> 14.834642 | G15: =(B15-E15)^2 -> 220.0666
A16: =A15+1 -> 13 | B16: 60 | C16: =B$21*B16+(1-B$21)*(C15+D15) -> 72.463614 | D16: =C$21*(C16-C15)+(1-C$21)*D15 -> 9.3385497 | E16: =C15+D15 -> 75.570041 | F16: =ABS(B16-E16) -> 15.570041 | G16: =(B16-E16)^2 -> 242.42619
... A18: =A17+1 -> 15 | B18: 88 | C18: =B$21*B18+(1-B$21)*(C17+D17) -> 88.341385 | D18: =C$21*(C18-C17)+(1-C$21)*D17 -> 7.8963422 | E18: =C17+D17 -> 88.426471 | F18: =ABS(B18-E18) -> 0.42647127 | G18: =(B18-E18)^2 -> 0.18187775
B20: alpha | C20: beta | E20: MAE | F20: MSE | G20: RMSE
B21: 0.19951313 | C21: 1 | E21: =AVERAGE(F4:F18) -> 6.6144797 | F21: =AVERAGE(G4:G18) -> 91.729752 | G21: =SQRT(F21) -> 9.5775651

Sheet Holt 5
A1: Holt Linear Trend
A3: t | B3: y | D3: Holt's Linear Trend | H3: sig level | I3: 0.05
A4: 1 | B4: 3
A5: =A4+1 -> 2 | B5: 5 | D5: =A3 -> t | E5: =B3 -> y | F5: u | G5: v | H5: forecast | I5: s.e. | J5: lower | K5: upper
A6: =A5+1 -> 3 | B6: 9 | D6: =A4 -> 1 | E6: =B4 -> 3 | F6: =E6 -> 3 | G6: 0
A7: =A6+1 -> 4 | B7: 20 | D7: =A5 -> 2 | E7: =B5 -> 5 | F7: =$E$27*E7+(1-$E$27)*(F6+G6) -> 3.4304108 | G7: =$F$27*(F7-F6)+(1-$F$27)*G6 -> 0.37875059 | H7: =F6+G6 -> 3
A8: =A7+1 -> 5 | B8: 12 | D8: =A6 -> 3 | E8: =B6 -> 9 | F8: =$E$27*E8+(1-$E$27)*(F7+G7) -> 4.9262578 | G8: =$F$27*(F8-F7)+(1-$F$27)*G7 -> 1.3617672 | H8: =F7+G7 -> 3.8091614 | I8: =SQRT(SUMXMY2(E$7:E7,H$7:H7)/COUNT(H$7:H7)) -> 2 | J8: =H8-_xlfn.NORM.S.INV(1-I$3/2)*I8 -> -0.1107664 | K8: =H8+_xlfn.NORM.S.INV(1-I$3/2)*I8 -> 7.7290892
A9: =A8+1 -> 6 | B9: 17 | D9: =A7 -> 4 | E9: =B7 -> 20 | F9: =$E$27*E9+(1-$E$27)*(F8+G8) -> 9.238916 | G9: =$F$27*(F9-F8)+(1-$F$27)*G8 -> 3.9584765 | H9: =F8+G8 -> 6.288025 | I9: =SQRT(SUMXMY2(E$7:E8,H$7:H8)/COUNT(H$7:H8)) -> 3.9334975 | J9: =H9-_xlfn.NORM.S.INV(1-I$3/2)*I9 -> -1.4214881 | K9: =H9+_xlfn.NORM.S.INV(1-I$3/2)*I9 -> 13.997538
A10: =A9+1 -> 7 | B10: 22 | D10: =A8 -> 5 | E10: =B8 -> 12 | F10: =$E$27*E10+(1-$E$27)*(F9+G9) -> 12.939707 | G10: =$F$27*(F10-F9)+(1-$F$27)*G9 -> 3.73172 | H10: =F9+G9 -> 13.197393 | I10: =SQRT(SUMXMY2(E$7:E9,H$7:H9)/COUNT(H$7:H9)) -> 8.5432832 | J10: =H10-_xlfn.NORM.S.INV(1-I$3/2)*I10 -> -3.547134 | K10: =H10+_xlfn.NORM.S.INV(1-I$3/2)*I10 -> 29.941919
A11: =A10+1 -> 8 | B11: 23 | D11: =A9 -> 6 | E11: =B9 -> 17 | F11: =$E$27*E11+(1-$E$27)*(F10+G10) -> 16.742138 | G11: =$F$27*(F11-F10)+(1-$F$27)*G10 -> 3.7939435 | H11: =F10+G10 -> 16.671427 | I11: =SQRT(SUMXMY2(E$7:E10,H$7:H10)/COUNT(H$7:H10)) -> 7.4228837 | J11: =H11-_xlfn.NORM.S.INV(1-I$3/2)*I11 -> 2.1228431 | K11: =H11+_xlfn.NORM.S.INV(1-I$3/2)*I11 -> 31.220011
A12: =A11+1 -> 9 | B12: 51 | D12: =A10 -> 7 | E12: =B10 -> 22 | F12: =$E$27*E12+(1-$E$27)*(F11+G11) -> 20.851125 | G12: =$F$27*(F12-F11)+(1-$F$27)*G11 -> 4.0711736 | H12: =F11+G11 -> 20.536081 | I12: =SQRT(SUMXMY2(E$7:E11,H$7:H11)/COUNT(H$7:H11)) -> 6.6408549 | J12: =H12-_xlfn.NORM.S.INV(1-I$3/2)*I12 -> 7.5202455 | K12: =H12+_xlfn.NORM.S.INV(1-I$3/2)*I12 -> 33.551917
A13: =A12+1 -> 10 | B13: 41 | D13: =A11 -> 8 | E13: =B11 -> 23 | F13: =$E$27*E13+(1-$E$27)*(F12+G12) -> 24.508609 | G13: =$F$27*(F13-F12)+(1-$F$27)*G12 -> 3.7071378 | H13: =F12+G12 -> 24.922298 | I13: =SQRT(SUMXMY2(E$7:E12,H$7:H12)/COUNT(H$7:H12)) -> 6.0916313 | J13: =H13-_xlfn.NORM.S.INV(1-I$3/2)*I13 -> 12.982921 | K13: =H13+_xlfn.NORM.S.INV(1-I$3/2)*I13 -> 36.861675
A14: =A13+1 -> 11 | B14: 56 | D14: =A12 -> 9 | E14: =B12 -> 51 | F14: =$E$27*E14+(1-$E$27)*(F13+G13) -> 33.119041 | G14: =$F$27*(F14-F13)+(1-$F$27)*G13 -> 8.0219125 | H14: =F13+G13 -> 28.215747 | I14: =SQRT(SUMXMY2(E$7:E13,H$7:H13)/COUNT(H$7:H13)) -> 5.6863629 | J14: =H14-_xlfn.NORM.S.INV(1-I$3/2)*I14 -> 17.070681 | K14: =H14+_xlfn.NORM.S.INV(1-I$3/2)*I14 -> 39.360813
A15: =A14+1 -> 12 | B15: 75 | D15: =A13 -> 10 | E15: =B13 -> 41 | F15: =$E$27*E15+(1-$E$27)*(F14+G14) -> 41.11062 | G15: =$F$27*(F15-F14)+(1-$F$27)*G14 -> 7.9952194 | H15: =F14+G14 -> 41.140954 | I15: =SQRT(SUMXMY2(E$7:E14,H$7:H14)/COUNT(H$7:H14)) -> 9.6531423 | J15: =H15-_xlfn.NORM.S.INV(1-I$3/2)*I15 -> 22.221143 | K15: =H15+_xlfn.NORM.S.INV(1-I$3/2)*I15 -> 60.060764
A16: =A15+1 -> 13 | B16: 60 | D16: =A14 -> 11 | E16: =B14 -> 56 | F16: =$E$27*E16+(1-$E$27)*(F15+G15) -> 50.5895 | G16: =$F$27*(F16-F15)+(1-$F$27)*G15 -> 9.3008031 | H16: =F15+G15 -> 49.105839 | I16: =SQRT(SUMXMY2(E$7:E15,H$7:H15)/COUNT(H$7:H15)) -> 9.1011911 | J16: =H16-_xlfn.NORM.S.INV(1-I$3/2)*I16 -> 31.267833 | K16: =H16+_xlfn.NORM.S.INV(1-I$3/2)*I16 -> 66.943845
A17: =A16+1 -> 14 | B17: 75 | D17: =A15 -> 12 | E17: =B15 -> 75 | F17: =$E$27*E17+(1-$E$27)*(F16+G16) -> 63.141991 | G17: =$F$27*(F17-F16)+(1-$F$27)*G16 -> 12.162207 | H17: =F16+G16 -> 59.890303 | I17: =SQRT(SUMXMY2(E$7:E16,H$7:H16)/COUNT(H$7:H16)) -> 8.9051365 | J17: =H17-_xlfn.NORM.S.INV(1-I$3/2)*I17 -> 42.436557 | K17: =H17+_xlfn.NORM.S.INV(1-I$3/2)*I17 -> 77.344049
A18: =A17+1 -> 15 | B18: 88 | D18: =A16 -> 13 | E18: =B16 -> 60 | F18: =$E$27*E18+(1-$E$27)*(F17+G17) -> 72.010652 | G18: =$F$27*(F18-F17)+(1-$F$27)*G17 -> 9.2639696 | H18: =F17+G17 -> 75.304198 | I18: =SQRT(SUMXMY2(E$7:E17,H$7:H17)/COUNT(H$7:H17)) -> 9.6357173 | J18: =H18-_xlfn.NORM.S.INV(1-I$3/2)*I18 -> 56.41854 | K18: =H18+_xlfn.NORM.S.INV(1-I$3/2)*I18 -> 94.189856
D19: =A17 -> 14 | E19: =B17 -> 75 | F19: =$E$27*E19+(1-$E$27)*(F18+G18) -> 79.924289 | G19: =$F$27*(F19-F18)+(1-$F$27)*G18 -> 8.0757113 | H19: =F18+G18 -> 81.274621 | I19: =SQRT(SUMXMY2(E$7:E18,H$7:H18)/COUNT(H$7:H18)) -> 10.228783 | J19: =H19-_xlfn.NORM.S.INV(1-I$3/2)*I19 -> 61.226576 | K19: =H19+_xlfn.NORM.S.INV(1-I$3/2)*I19 -> 101.32267
D20: =A18 -> 15 | E20: =B18 -> 88 | F20: =$E$27*E20+(1-$E$27)*(F19+G19) -> 88 | G20: =$F$27*(F20-F19)+(1-$F$27)*G19 -> 8.0757112 | H20: =F19+G19 -> 88 | I20: =SQRT(SUMXMY2(E$7:E19,H$7:H19)/COUNT(H$7:H19)) -> 9.9803918 | J20: =H20-_xlfn.NORM.S.INV(1-I$3/2)*I20 -> 68.438793 | K20: =H20+_xlfn.NORM.S.INV(1-I$3/2)*I20 -> 107.56121
D21: > | H21: =$F$20+$G$20*(ROW(F21)-ROW($F$20)) -> 96.075711 | I21: =SQRT(SUMXMY2(E$7:E20,H$7:H20)/COUNT(H$7:H20)) -> 9.6173462 | J21: =H21-_xlfn.NORM.S.INV(1-I$3/2)*I21 -> 77.22606 | K21: =H21+_xlfn.NORM.S.INV(1-I$3/2)*I21 -> 114.92536
D22: > | H22: =$F$20+$G$20*(ROW(F22)-ROW($F$20)) -> 104.15142 | I22: =I$21*SQRT((I21/I$21)^2-1+(E$27*(1+(ROW(H22)-ROW(H$21))*F$27))^2+1) -> 10.374641 | J22: =H22-_xlfn.NORM.S.INV(1-I$3/2)*I22 -> 83.817502 | K22: =H22+_xlfn.NORM.S.INV(1-I$3/2)*I22 -> 124.48534
D23: > | H23: =$F$20+$G$20*(ROW(F23)-ROW($F$20)) -> 112.22713 | I23: =I$21*SQRT((I22/I$21)^2-1+(E$27*(1+(ROW(H23)-ROW(H$21))*F$27))^2+1) -> 11.843281 | J23: =H23-_xlfn.NORM.S.INV(1-I$3/2)*I23 -> 89.01473 | K23: =H23+_xlfn.NORM.S.INV(1-I$3/2)*I23 -> 135.43954
D24: > | H24: =$F$20+$G$20*(ROW(F24)-ROW($F$20)) -> 120.30285 | I24: =I$21*SQRT((I23/I$21)^2-1+(E$27*(1+(ROW(H24)-ROW(H$21))*F$27))^2+1) -> 14.036309 | J24: =H24-_xlfn.NORM.S.INV(1-I$3/2)*I24 -> 92.792187 | K24: =H24+_xlfn.NORM.S.INV(1-I$3/2)*I24 -> 147.8135
E26: alpha | F26: beta | G26: MAE | H26: MSE | I26: MAPE
E27: 0.21520539 | F27: 0.87997468 | G27: =SUMPRODUCT(ABS(E7:E20-H7:H20))/COUNT(H7:H20) -> 6.5944914 | H27: =SUMXMY2(E7:E20,H7:H20)/COUNT(H7:H20) -> 92.493347 | I27: =SUMPRODUCT(ABS(1-H7:H20/E7:E20))/COUNT(H7:H20) -> 0.2175058

Sheet Holt-Winter
A1: Holt-Winters Multiplicative
A3: qtr | B3: t | C3: y | D3: u | E3: v | F3: s | G3: pred | H3: |e| | I3: e^2
A4: 10 Q1 | B4: 1 | C4: 10 | F4: =C4/AVERAGE(C$4:C$7) -> 0.70175439
A5: 10 Q2 | B5: =B4+1 -> 2 | C5: 14 | F5: =C5/AVERAGE(C$4:C$7) -> 0.98245614
A6: 10 Q3 | B6: =B5+1 -> 3 | C6: 8 | F6: =C6/AVERAGE(C$4:C$7) -> 0.56140351
A7: 10 Q4 | B7: =B6+1 -> 4 | C7: 25 | D7: =C7/F7 -> 14.25 | E7: 0 | F7: =C7/AVERAGE(C$4:C$7) -> 1.754386
A8: 11 Q1 | B8: =B7+1 -> 5 | C8: 16 | D8: =C$22*C8/F4+(1-C$22)*(D7+E7) -> 18.525 | E8: =D$22*(D8-D7)+(1-D$22)*E7 -> 2.1375 | F8: =E$22*(C8/D8)+(1-E$22)*F4 -> 0.78272605 | G8: =(D7+E7)*F4 -> 10 | H8: =ABS(C8-G8) -> 6 | I8: =(C8-G8)^2 -> 36
A9: 11 Q2 | B9: =B8+1 -> 6 | C9: 22 | D9: =C$22*C9/F5+(1-C$22)*(D8+E8) -> 21.527679 | E9: =D$22*(D9-D8)+(1-D$22)*E8 -> 2.5700893 | F9: =E$22*(C9/D9)+(1-E$22)*F5 -> 1.0021982 | G9: =(D8+E8)*F5 -> 20.3 | H9: =ABS(C9-G9) -> 1.7 | I9: =(C9-G9)^2 -> 2.89
A10: 11 Q3 | B10: =B9+1 -> 7 | C10: 14 | D10: =C$22*C10/F6+(1-C$22)*(D9+E9) -> 24.517634 | E10: =D$22*(D10-D9)+(1-D$22)*E9 -> 2.7800223 | F10: =E$22*(C10/D10)+(1-E$22)*F6 -> 0.56621054 | G10: =(D9+E9)*F6 -> 13.528571 | H10: =ABS(C10-G10) -> 0.47142857 | I10: =(C10-G10)^2 -> 0.2222449
A11: 11 Q4 | B11: =B10+1 -> 8 | C11: 35 | D11: =C$22*C11/F7+(1-C$22)*(D10+E10) -> 23.623828 | E11: =D$22*(D11-D10)+(1-D$22)*E10 -> 0.94310826 | F11: =E$22*(C11/D11)+(1-E$22)*F7 -> 1.6179705 | G11: =(D10+E10)*F7 -> 47.890625 | H11: =ABS(C11-G11) -> 12.890625 | I11: =(C11-G11)^2 -> 166.16821
A12: 12 Q1 | B12: =B11+1 -> 9 | C12: 15 | D12: =C$22*C12/F8+(1-C$22)*(D11+E11) -> 21.865365 | E12: =D$22*(D12-D11)+(1-D$22)*E11 -> -0.40767756 | F12: =E$22*(C12/D12)+(1-E$22)*F8 -> 0.73437125 | G12: =(D11+E11)*F8 -> 19.229181 | H12: =ABS(C12-G12) -> 4.229181 | I12: =(C12-G12)^2 -> 17.885972
A13: 12 Q2 | B13: =B12+1 -> 10 | C13: 27 | D13: =C$22*C13/F9+(1-C$22)*(D12+E12) -> 24.199233 | E13: =D$22*(D13-D12)+(1-D$22)*E12 -> 0.96309556 | F13: =E$22*(C13/D13)+(1-E$22)*F9 -> 1.058968 | G13: =(D12+E12)*F9 -> 21.504855 | H13: =ABS(C13-G13) -> 5.4951452 | I13: =(C13-G13)^2 -> 30.196621
A14: 12 Q3 | B14: =B13+1 -> 11 | C14: 18 | D14: =C$22*C14/F10+(1-C$22)*(D13+E13) -> 28.476312 | E14: =D$22*(D14-D13)+(1-D$22)*E13 -> 2.620087 | F14: =E$22*(C14/D14)+(1-E$22)*F10 -> 0.59915744 | G14: =(D13+E13)*F10 -> 14.247176 | H14: =ABS(C14-G14) -> 3.752824 | I14: =(C14-G14)^2 -> 14.083688
A15: 12 Q4 | B15: =B14+1 -> 12 | C15: 40 | D15: =C$22*C15/F11+(1-C$22)*(D14+E14) -> 27.909364 | E15: =D$22*(D15-D14)+(1-D$22)*E14 -> 1.0265698 | F15: =E$22*(C15/D15)+(1-E$22)*F11 -> 1.5255906 | G15: =(D14+E14)*F11 -> 50.313055 | H15: =ABS(C15-G15) -> 10.313055 | I15: =(C15-G15)^2 -> 106.3591
A16: 13 Q1 | B16: =B15+1 -> 13 | C16: 28 | D16: =C$22*C16/F12+(1-C$22)*(D15+E15) -> 33.531894 | E16: =D$22*(D16-D15)+(1-D$22)*E15 -> 3.3245498 | F16: =E$22*(C16/D16)+(1-E$22)*F12 -> 0.78469857 | G16: =(D15+E15)*F12 -> 21.249718 | H16: =ABS(C16-G16) -> 6.7502818 | I16: =(C16-G16)^2 -> 45.566305
A17: 13 Q2 | B17: =B16+1 -> 14 | C17: 40 | D17: =C$22*C17/F13+(1-C$22)*(D16+E16) -> 37.314534 | E17: =D$22*(D17-D16)+(1-D$22)*E16 -> 3.5535948 | F17: =E$22*(C17/D17)+(1-E$22)*F13 -> 1.0654682 | G17: =(D16+E16)*F13 -> 39.029795 | H17: =ABS(C17-G17) -> 0.97020537 | I17: =(C17-G17)^2 -> 0.94129846
A18: 13 Q3 | B18: =B17+1 -> 15 | C18: 25 | D18: =C$22*C18/F14+(1-C$22)*(D17+E17) -> 41.296695 | E18: =D$22*(D18-D17)+(1-D$22)*E17 -> 3.7678777 | F18: =E$22*(C18/D18)+(1-E$22)*F14 -> 0.60226638 | G18: =(D17+E17)*F14 -> 24.486443 | H18: =ABS(C18-G18) -> 0.51355661 | I18: =(C18-G18)^2 -> 0.26374039
A19: 13 Q4 | B19: =B18+1 -> 16 | C19: 65 | D19: =C$22*C19/F15+(1-C$22)*(D18+E18) -> 43.835511 | E19: =D$22*(D19-D18)+(1-D$22)*E18 -> 3.1533472 | F19: =E$22*(C19/D19)+(1-E$22)*F15 -> 1.5042033 | G19: =(D18+E18)*F15 -> 68.750087 | H19: =ABS(C19-G19) -> 3.7500873 | I19: =(C19-G19)^2 -> 14.063155
C21: alpha | D21: beta | E21: gamma | H21: MAE | I21: MSE
C22: 0.5 | D22: 0.5 | E22: 0.5 | H22: =AVERAGE(H4:H19) -> 4.7363658 | I22: =AVERAGE(I4:I19) -> 36.220028

Sheet Holt-Winter 1
A1: Holt-Winters
A3: qtr | B3: t | C3: y | D3: u | E3: v | F3: s | G3: pred | H3: |e| | I3: e^2 | K3: month | L3: t | M3: y | N3: pred
A4: 10 Q1 | B4: 1 | C4: 10 | F4: =C4/AVERAGE(C$4:C$7) -> 0.70175439 | K4: 10 Q1 | L4: 1 | M4: 10
A5: 10 Q2 | B5: =B4+1 -> 2 | C5: 14 | F5: =C5/AVERAGE(C$4:C$7) -> 0.98245614 | K5: 10 Q2 | L5: =L4+1 -> 2 | M5: 14
A6: 10 Q3 | B6: =B5+1 -> 3 | C6: 8 | F6: =C6/AVERAGE(C$4:C$7) -> 0.56140351 | K6: 10 Q3 | L6: =L5+1 -> 3 | M6: 8
A7: 10 Q4 | B7: =B6+1 -> 4 | C7: 25 | D7: =C7/F7 -> 14.25 | E7: 0 | F7: =C7/AVERAGE(C$4:C$7) -> 1.754386 | K7: 10 Q4 | L7: =L6+1 -> 4 | M7: 25
A8: 11 Q1 | B8: =B7+1 -> 5 | C8: 16 | D8: =C$22*C8/F4+(1-C$22)*(D7+E7) -> 18.525 | E8: =D$22*(D8-D7)+(1-D$22)*E7 -> 2.1375 | F8: =E$22*(C8/D8)+(1-E$22)*F4 -> 0.78272605 | G8: =(D7+E7)*F4 -> 10 | H8: =ABS(C8-G8) -> 6 | I8: =(C8-G8)^2 -> 36 | K8: 11 Q1 | L8: =L7+1 -> 5 | M8: 16 | N8: =G8 -> 10
A9: 11 Q2 | B9: =B8+1 -> 6 | C9: 22 | D9: =C$22*C9/F5+(1-C$22)*(D8+E8) -> 21.527679 | E9: =D$22*(D9-D8)+(1-D$22)*E8 -> 2.5700893 | F9: =E$22*(C9/D9)+(1-E$22)*F5 -> 1.0021982 | G9: =(D8+E8)*F5 -> 20.3 | H9: =ABS(C9-G9) -> 1.7 | I9: =(C9-G9)^2 -> 2.89 | K9: 11 Q2 | L9: =L8+1 -> 6 | M9: 22 | N9: =G9 -> 20.3
A10: 11 Q3 | B10: =B9+1 -> 7 | C10: 14 | D10: =C$22*C10/F6+(1-C$22)*(D9+E9) -> 24.517634 | E10: =D$22*(D10-D9)+(1-D$22)*E9 -> 2.7800223 | F10: =E$22*(C10/D10)+(1-E$22)*F6 -> 0.56621054 | G10: =(D9+E9)*F6 -> 13.528571 | H10: =ABS(C10-G10) -> 0.47142857 | I10: =(C10-G10)^2 -> 0.2222449 | K10: 11 Q3 | L10: =L9+1 -> 7 | M10: 14 | N10: =G10 -> 13.528571
A11: 11 Q4 | B11: =B10+1 -> 8 | C11: 35 | D11: =C$22*C11/F7+(1-C$22)*(D10+E10) -> 23.623828 | E11: =D$22*(D11-D10)+(1-D$22)*E10 -> 0.94310826 | F11: =E$22*(C11/D11)+(1-E$22)*F7 -> 1.6179705 | G11: =(D10+E10)*F7 -> 47.890625 | H11: =ABS(C11-G11) -> 12.890625 | I11: =(C11-G11)^2 -> 166.16821 | K11: 11 Q4 | L11: =L10+1 -> 8 | M11: 35 | N11: =G11 -> 47.890625
A12: 12 Q1 | B12: =B11+1 -> 9 | C12: 15 | D12: =C$22*C12/F8+(1-C$22)*(D11+E11) -> 21.865365 | E12: =D$22*(D12-D11)+(1-D$22)*E11 -> -0.40767756 | F12: =E$22*(C12/D12)+(1-E$22)*F8 -> 0.73437125 | G12: =(D11+E11)*F8 -> 19.229181 | H12: =ABS(C12-G12) -> 4.229181 | I12: =(C12-G12)^2 -> 17.885972 | K12: 12 Q1 | L12: =L11+1 -> 9 | M12: 15 | N12: =G12 -> 19.229181
A13: 12 Q2 | B13: =B12+1 -> 10 | C13: 27 | D13: =C$22*C13/F9+(1-C$22)*(D12+E12) -> 24.199233 | E13: =D$22*(D13-D12)+(1-D$22)*E12 -> 0.96309556 | F13: =E$22*(C13/D13)+(1-E$22)*F9 -> 1.058968 | G13: =(D12+E12)*F9 -> 21.504855 | H13: =ABS(C13-G13) -> 5.4951452 | I13: =(C13-G13)^2 -> 30.196621 | K13: 12 Q2 | L13: =L12+1 -> 10 | M13: 27 | N13: =G13 -> 21.504855
A14: 12 Q3 | B14: =B13+1 -> 11 | C14: 18 | D14: =C$22*C14/F10+(1-C$22)*(D13+E13) -> 28.476312 | E14: =D$22*(D14-D13)+(1-D$22)*E13 -> 2.620087 | F14: =E$22*(C14/D14)+(1-E$22)*F10 -> 0.59915744 | G14: =(D13+E13)*F10 -> 14.247176 | H14: =ABS(C14-G14) -> 3.752824 | I14: =(C14-G14)^2 -> 14.083688 | K14: 12 Q3 | L14: =L13+1 -> 11 | M14: 18 | N14: =G14 -> 14.247176
A15: 12 Q4 | B15: =B14+1 -> 12 | C15: 40 | D15: =C$22*C15/F11+(1-C$22)*(D14+E14) -> 27.909364 | E15: =D$22*(D15-D14)+(1-D$22)*E14 -> 1.0265698 | F15: =E$22*(C15/D15)+(1-E$22)*F11 -> 1.5255906 | G15: =(D14+E14)*F11 -> 50.313055 | H15: =ABS(C15-G15) -> 10.313055 | I15: =(C15-G15)^2 -> 106.3591 | K15: 12 Q4 | L15: =L14+1 -> 12 | M15: 40 | N15: =G15 -> 50.313055
A16: 13 Q1 | B16: =B15+1 -> 13 | C16: 28 | D16: =C$22*C16/F12+(1-C$22)*(D15+E15) -> 33.531894 | E16: =D$22*(D16-D15)+(1-D$22)*E15 -> 3.3245498 | F16: =E$22*(C16/D16)+(1-E$22)*F12 -> 0.78469857 | G16: =(D15+E15)*F12 -> 21.249718 | H16: =ABS(C16-G16) -> 6.7502818 | I16: =(C16-G16)^2 -> 45.566305 | K16: 13 Q1 | L16: =L15+1 -> 13 | M16: 28 | N16: =G16 -> 21.249718
A17: 13 Q2 | B17: =B16+1 -> 14 | C17: 40 | D17: =C$22*C17/F13+(1-C$22)*(D16+E16) -> 37.314534 | E17: =D$22*(D17-D16)+(1-D$22)*E16 -> 3.5535948 | F17: =E$22*(C17/D17)+(1-E$22)*F13 -> 1.0654682 | G17: =(D16+E16)*F13 -> 39.029795 | H17: =ABS(C17-G17) -> 0.97020537 | I17: =(C17-G17)^2 -> 0.94129846 | K17: 13 Q2 | L17: =L16+1 -> 14 | M17: 40 | N17: =G17 -> 39.029795
A18: 13 Q3 | B18: =B17+1 -> 15 | C18: 25 | D18: =C$22*C18/F14+(1-C$22)*(D17+E17) -> 41.296695 | E18: =D$22*(D18-D17)+(1-D$22)*E17 -> 3.7678777 | F18: =E$22*(C18/D18)+(1-E$22)*F14 -> 0.60226638 | G18: =(D17+E17)*F14 -> 24.486443 | H18: =ABS(C18-G18) -> 0.51355661 | I18: =(C18-G18)^2 -> 0.26374039 | K18: 13 Q3 | L18: =L17+1 -> 15 | M18: 25 | N18: =G18 -> 24.486443
A19: 13 Q4 | B19: =B18+1 -> 16 | C19: 65 | D19: =C$22*C19/F15+(1-C$22)*(D18+E18) -> 43.835511 | E19: =D$22*(D19-D18)+(1-D$22)*E18 -> 3.1533472 | F19: =E$22*(C19/D19)+(1-E$22)*F15 -> 1.5042033 | G19: =(D18+E18)*F15 -> 68.750087 | H19: =ABS(C19-G19) -> 3.7500873 | I19: =(C19-G19)^2 -> 14.063155 | K19: 13 Q4 | L19: =L18+1 -> 16 | M19: 65 | N19: =(D18+E18)*F15 -> 68.750087
K20: 14 Q1 | L20: =L19+1 -> 17 | N20: =(D$19+(L20-L$19)*E$19)*F16 -> 36.87209
C21: alpha | D21: beta | E21: gamma | H21: MAE | I21: MSE | K21: 14 Q2 | L21: =L20+1 -> 18 | N21: =(D$19+(L21-L$19)*E$19)*F17 -> 53.424925
C22: 0.5 | D22: 0.5 | E22: 0.5 | H22: =AVERAGE(H4:H19) -> 4.7363658 | I22: =AVERAGE(I4:I19) -> 36.220028 | K22: 14 Q3 | L22: =L21+1 -> 19 | N22: =(D$19+(L22-L$19)*E$19)*F18 -> 32.09812
K23: 14 Q4 | L23: =L22+1 -> 20 | N23: =(D$19+(L23-L$19)*E$19)*F19 -> 84.910623

Sheet Holt-Winter 2
A1: Holt-Winters
A3: qtr | B3: t | C3: y | D3: u | E3: v | F3: s | G3: pred | H3: |e| | I3: e^2
A4: Q1 | B4: 1 | C4: 10 | F4: =C4/AVERAGE(C$4:C$7) -> 0.70175439
A5: Q2 | B5: =B4+1 -> 2 | C5: 14 | F5: =C5/AVERAGE(C$4:C$7) -> 0.98245614
A6: Q3 | B6: =B5+1 -> 3 | C6: 8 | F6: =C6/AVERAGE(C$4:C$7) -> 0.56140351
A7: Q4 | B7: =B6+1 -> 4 | C7: 25 | D7: =C7/F7 -> 14.25 | E7: 0 | F7: =C7/AVERAGE(C$4:C$7) -> 1.754386
A8: Q1 | B8: =B7+1 -> 5 | C8: 16 | D8: =C$22*C8/F4+(1-C$22)*(D7+E7) -> 15.824264 | E8: =D$22*(D8-D7)+(1-D$22)*E7 -> 0.6922921 | F8: =E$22*(C8/D8)+(1-E$22)*F4 -> 0.83105522 | G8: =(D7+E7)*F4 -> 10 | H8: =ABS(C8-G8) -> 6 | I8: =(C8-G8)^2 -> 36
A9: Q2 | B9: =B8+1 -> 6 | C9: 22 | D9: =C$22*C9/F5+(1-C$22)*(D8+E8) -> 17.598527 | E9: =D$22*(D9-D8)+(1-D$22)*E8 -> 1.1680952 | F9: =E$22*(C9/D9)+(1-E$22)*F5 -> 1.0943264 | G9: =(D8+E8)*F5 -> 16.226792 | H9: =ABS(C9-G9) -> 5.7732076 | I9: =(C9-G9)^2 -> 33.329926
A10: Q3 | B10: =B9+1 -> 7 | C10: 14 | D10: =C$22*C10/F6+(1-C$22)*(D9+E9) -> 19.902832 | E10: =D$22*(D10-D9)+(1-D$22)*E9 -> 1.6677501 | F10: =E$22*(C10/D10)+(1-E$22)*F6 -> 0.62076172 | G10: =(D9+E9)*F6 -> 10.535648 | H10: =ABS(C10-G10) -> 3.4643522 | I10: =(C10-G10)^2 -> 12.001736
A11: Q4 | B11: =B10+1 -> 8 | C11: 35 | D11: =C$22*C11/F7+(1-C$22)*(D10+E10) -> 21.272194 | E11: =D$22*(D11-D10)+(1-D$22)*E10 -> 1.5365318 | F11: =E$22*(C11/D11)+(1-E$22)*F7 -> 1.7088077 | G11: =(D10+E10)*F7 -> 37.843127 | H11: =ABS(C11-G11) -> 2.8431271 | I11: =(C11-G11)^2 -> 8.0833717
A12: Q1 | B12: =B11+1 -> 9 | C12: 15 | D12: =C$22*C12/F8+(1-C$22)*(D11+E11) -> 21.932406 | E12: =D$22*(D12-D11)+(1-D$22)*E11 -> 1.1511654 | F12: =E$22*(C12/D12)+(1-E$22)*F8 -> 0.76955624 | G12: =(D11+E11)*F8 -> 18.95531 | H12: =ABS(C12-G12) -> 3.9553103 | I12: =(C12-G12)^2 -> 15.64448
A13: Q2 | B13: =B12+1 -> 10 | C13: 27 | D13: =C$22*C13/F9+(1-C$22)*(D12+E12) -> 23.376172 | E13: =D$22*(D13-D12)+(1-D$22)*E12 -> 1.2798379 | F13: =E$22*(C13/D13)+(1-E$22)*F9 -> 1.1196957 | G13: =(D12+E12)*F9 -> 25.260961 | H13: =ABS(C13-G13) -> 1.7390392 | I13: =(C13-G13)^2 -> 3.0242574
A14: Q3 | B14: =B13+1 -> 11 | C14: 18 | D14: =C$22*C14/F10+(1-C$22)*(D13+E13) -> 25.455225 | E14: =D$22*(D14-D13)+(1-D$22)*E13 -> 1.6312975 | F14: =E$22*(C14/D14)+(1-E$22)*F10 -> 0.65685894 | G14: =(D13+E13)*F10 -> 15.305507 | H14: =ABS(C14-G14) -> 2.6944933 | I14: =(C14-G14)^2 -> 7.2602943
A15: Q4 | B15: =B14+1 -> 12 | C15: 40 | D15: =C$22*C15/F11+(1-C$22)*(D14+E14) -> 26.409241 | E15: =D$22*(D15-D14)+(1-D$22)*E14 -> 1.333459 | F15: =E$22*(C15/D15)+(1-E$22)*F11 -> 1.6276428 | G15: =(D14+E14)*F11 -> 46.285658 | H15: =ABS(C15-G15) -> 6.2856581 | I15: =(C15-G15)^2 -> 39.509497
A16: Q1 | B16: =B15+1 -> 13 | C16: 28 | D16: =C$22*C16/F12+(1-C$22)*(D15+E15) -> 29.333886 | E16: =D$22*(D16-D15)+(1-D$22)*E15 -> 2.0331927 | F16: =E$22*(C16/D16)+(1-E$22)*F12 -> 0.84686949 | G16: =(D15+E15)*F12 -> 21.349568 | H16: =ABS(C16-G16) -> 6.6504321 | I16: =(C16-G16)^2 -> 44.228248
A17: Q2 | B17: =B16+1 -> 14 | C17: 40 | D17: =C$22*C17/F13+(1-C$22)*(D16+E16) -> 32.169293 | E17: =D$22*(D17-D16)+(1-D$22)*E16 -> 2.3859711 | F17: =E$22*(C17/D17)+(1-E$22)*F13 -> 1.1714101 | G17: =(D16+E16)*F13 -> 35.121584 | H17: =ABS(C17-G17) -> 4.8784161 | I17: =(C17-G17)^2 -> 23.798944
A18: Q3 | B18: =B17+1 -> 15 | C18: 25 | D18: =C$22*C18/F14+(1-C$22)*(D17+E17) -> 35.200558 | E18: =D$22*(D18-D17)+(1-D$22)*E17 -> 2.6697427 | F18: =E$22*(C18/D18)+(1-E$22)*F14 -> 0.67916084 | G18: =(D17+E17)*F14 -> 22.697934 | H18: =ABS(C18-G18) -> 2.3020658 | I18: =(C18-G18)^2 -> 5.2995068
A19: Q4 | B19: =B18+1 -> 16 | C19: 65 | D19: =C$22*C19/F15+(1-C$22)*(D18+E18) -> 38.250472 | E19: =D$22*(D19-D18)+(1-D$22)*E18 -> 2.8369254 | F19: =E$22*(C19/D19)+(1-E$22)*F15 -> 1.6576043 | G19: =(D18+E18)*F15 -> 61.639321 | H19: =ABS(C19-G19) -> 3.360679 | I19: =(C19-G19)^2 -> 11.294163
C21: alpha | D21: beta | E21: gamma | F21: α+γ | H21: MAE | I21: MSE
C22: 0.1841245 | D22: 0.43975592 | E22: 0.41797444 | F22: =C22+E22 -> 0.60209893 | H22: =AVERAGE(H4:H19) -> 4.1622317 | I22: =AVERAGE(I4:I19) -> 19.956202

Sheet Holt-Winter 3
A1: Holt-Winters (Real Statistics) | E1: Holt-Winter Multiplicative
A3: t | B3: qtr | C3: y | E3: =B3 -> qtr | F3: =C3 -> y | G3: u | H3: v | I3: s | J3: forecast
A4: 1 | B4: 10 Q1 | C4: 10 | E4: =B4 -> 10 Q1 | F4: =C4 -> 10 | I4: =F4/AVERAGE($F$4:$F$7) -> 0.70175439
A5: =A4+1 -> 2 | B5: 10 Q2 | C5: 14 | E5: =B5 -> 10 Q2 | F5: =C5 -> 14 | I5: =F5/AVERAGE($F$4:$F$7) -> 0.98245614
A6: =A5+1 -> 3 | B6: 10 Q3 | C6: 8 | E6: =B6 -> 10 Q3 | F6: =C6 -> 8 | I6: =F6/AVERAGE($F$4:$F$7) -> 0.56140351
A7: =A6+1 -> 4 | B7: 10 Q4 | C7: 25 | E7: =B7 -> 10 Q4 | F7: =C7 -> 25 | G7: =F7/I7 -> 14.25 | H7: =(AVERAGE(F8:F11)-AVERAGE(F4:F7))/4 -> 1.875 | I7: =F7/AVERAGE($F$4:$F$7) -> 1.754386
A8: =A7+1 -> 5 | B8: 11 Q1 | C8: 16 | E8: =B8 -> 11 Q1 | F8: =C8 -> 16 | G8: =$F$28*F8/I4+(1-$F$28)*(G7+H7) -> 19.4625 | H8: =$G$28*(G8-G7)+(1-$G$28)*H7 -> 3.54375 | I8: =$H$28*(F8/G8)+(1-$H$28)*I4 -> 0.76192408 | J8: =(G7+H7)*I4 -> 11.315789
A9: =A8+1 -> 6 | B9: 11 Q2 | C9: 22 | E9: =B9 -> 11 Q2 | F9: =C9 -> 22 | G9: =$F$28*F9/I5+(1-$F$28)*(G8+H8) -> 22.699554 | H9: =$G$28*(G9-G8)+(1-$G$28)*H8 -> 3.3904018 | I9: =$H$28*(F9/G9)+(1-$H$28)*I5 -> 0.9758191 | J9: =(G8+H8)*I5 -> 22.602632
A10: =A9+1 -> 7 | B10: 11 Q3 | C10: 14 | E10: =B10 -> 11 Q3 | F10: =C10 -> 14 | G10: =$F$28*F10/I6+(1-$F$28)*(G9+H9) -> 25.513728 | H10: =$G$28*(G10-G9)+(1-$G$28)*H9 -> 3.1022879 | I10: =$H$28*(F10/G10)+(1-$H$28)*I6 -> 0.55506386 | J10: =(G9+H9)*I6 -> 14.646992
A11: =A10+1 -> 8 | B11: 11 Q4 | C11: 35 | E11: =B11 -> 11 Q4 | F11: =C11 -> 35 | G11: =$F$28*F11/I7+(1-$F$28)*(G10+H10) -> 24.283008 | H11: =$G$28*(G11-G10)+(1-$G$28)*H10 -> 0.93578404 | I11: =$H$28*(F11/G11)+(1-$H$28)*I7 -> 1.5978615 | J11: =(G10+H10)*I7 -> 50.203536
A12: =A11+1 -> 9 | B12: 12 Q1 | C12: 15 | E12: =B12 -> 12 Q1 | F12: =C12 -> 15 | G12: =$F$28*F12/I8+(1-$F$28)*(G11+H11) -> 22.452896 | H12: =$G$28*(G12-G11)+(1-$G$28)*H11 -> -0.4471637 | I12: =$H$28*(F12/G12)+(1-$H$28)*I8 -> 0.71499467 | J12: =(G11+H11)*I8 -> 19.214805
A13: =A12+1 -> 10 | B13: 12 Q2 | C13: 27 | E13: =B13 -> 12 Q2 | F13: =C13 -> 27 | G13: =$F$28*F13/I9+(1-$F$28)*(G12+H12) -> 24.837398 | H13: =$G$28*(G13-G12)+(1-$G$28)*H12 -> 0.96866886 | I13: =$H$28*(F13/G13)+(1-$H$28)*I9 -> 1.0314448 | J13: =(G12+H12)*I9 -> 21.473614
A14: =A13+1 -> 11 | B14: 12 Q3 | C14: 18 | E14: =B14 -> 12 Q3 | F14: =C14 -> 18 | G14: =$F$28*F14/I10+(1-$F$28)*(G13+H13) -> 29.117384 | H14: =$G$28*(G14-G13)+(1-$G$28)*H13 -> 2.6243275 | I14: =$H$28*(F14/G14)+(1-$H$28)*I10 -> 0.58662563 | J14: =(G13+H13)*I10 -> 14.324015
A15: =A14+1 -> 12 | B15: 12 Q4 | C15: 40 | E15: =B15 -> 12 Q4 | F15: =C15 -> 40 | G15: =$F$28*F15/I11+(1-$F$28)*(G14+H14) -> 28.387585 | H15: =$G$28*(G15-G14)+(1-$G$28)*H14 -> 0.94726422 | I15: =$H$28*(F15/G15)+(1-$H$28)*I11 -> 1.5034641 | J15: =(G14+H14)*I11 -> 50.71886
A16: =A15+1 -> 13 | B16: 13 Q1 | C16: 28 | E16: =B16 -> 13 Q1 | F16: =C16 -> 28 | G16: =$F$28*F16/I12+(1-$F$28)*(G15+H15) -> 34.24799 | H16: =$G$28*(G16-G15)+(1-$G$28)*H15 -> 3.4038348 | I16: =$H$28*(F16/G16)+(1-$H$28)*I12 -> 0.76628045 | J16: =(G15+H15)*I12 -> 20.974261
A17: =A16+1 -> 14 | B17: 13 Q2 | C17: 40 | E17: =B17 -> 13 Q2 | F17: =C17 -> 40 | G17: =$F$28*F17/I13+(1-$F$28)*(G16+H16) -> 38.21619 | H17: =$G$28*(G17-G16)+(1-$G$28)*H16 -> 3.6860173 | I17: =$H$28*(F17/G17)+(1-$H$28)*I13 -> 1.0390608 | J17: =(G16+H16)*I13 -> 38.835777
A18: =A17+1 -> 15 | B18: 13 Q3 | C18: 25 | E18: =B18 -> 13 Q3 | F18: =C18 -> 25 | G18: =$F$28*F18/I14+(1-$F$28)*(G17+H17) -> 42.259412 | H18: =$G$28*(G18-G17)+(1-$G$28)*H17 -> 3.8646198 | I18: =$H$28*(F18/G18)+(1-$H$28)*I14 -> 0.58910491 | J18: =(G17+H17)*I14 -> 24.580909
A19: =A18+1 -> 16 | B19: 13 Q4 | C19: 65 | E19: =B19 -> 13 Q4 | F19: =C19 -> 65 | G19: =$F$28*F19/I15+(1-$F$28)*(G18+H18) -> 44.678761 | H19: =$G$28*(G19-G18)+(1-$G$28)*H18 -> 3.1419842 | I19: =$H$28*(F19/G19)+(1-$H$28)*I15 -> 1.479147 | J19: =(G18+H18)*I15 -> 69.345827
E20: > | I20: =I16 -> 0.76628045 | J20: =($G$19+$H$19*(ROW(G20)-ROW($G$19)))*I20 -> 36.644102
E21: > | I21: =I17 -> 1.0390608 | J21: =($G$19+$H$19*(ROW(G21)-ROW($G$19)))*I21 -> 52.953373
E22: > | I22: =I18 -> 0.58910491 | J22: =($G$19+$H$19*(ROW(G22)-ROW($G$19)))*I22 -> 31.873352
E23: > | I23: =I19 -> 1.479147 | J23: =($G$19+$H$19*(ROW(G23)-ROW($G$19)))*I23 -> 84.676283
E24: > | I24: =I20 -> 0.76628045 | J24: =($G$19+$H$19*(ROW(G24)-ROW($G$19)))*I24 -> 46.274666
E25: > | I25: =I21 -> 1.0390608 | J25: =($G$19+$H$19*(ROW(G25)-ROW($G$19)))*I25 -> 66.012224
F27: alpha | G27: beta | H27: gamma | I27: MAE | J27: MSE | K27: MAPE
F28: 0.5 | G28: 0.5 | H28: 0.5 | I28: =SUMPRODUCT(ABS(F8:F19-J8:J19))/COUNT(J8:J19) -> 4.8523572 | J28: =SUMXMY2(F8:F19,J8:J19)/COUNT(J8:J19) -> 41.69681 | K28: =SUMPRODUCT(ABS(1-J8:J19/F8:F19))/COUNT(J8:J19) -> 0.17685535
G29: α+γ | H29: =F28+H28 -> 1

Sheet Holt-Winters 4
A1: Holt-Winters (Real Statistics) | E1: Holt-Winter Multiplicative
A3: t | B3: qtr | C3: y | E3: =B3 -> qtr | F3: =C3 -> y | G3: u | H3: v | I3: s | J3: forecast
A4: 1 | B4: 10 Q1 | C4: 10 | E4: =B4 -> 10 Q1 | F4: =C4 -> 10 | I4: =F4/AVERAGE($F$4:$F$7) -> 0.70175439
A5: =A4+1 -> 2 | B5: 10 Q2 | C5: 14 | E5: =B5 -> 10 Q2 | F5: =C5 -> 14 | I5: =F5/AVERAGE($F$4:$F$7) -> 0.98245614
A6: =A5+1 -> 3 | B6: 10 Q3 | C6: 8 | E6: =B6 -> 10 Q3 | F6: =C6 -> 8 | I6: =F6/AVERAGE($F$4:$F$7) -> 0.56140351
A7: =A6+1 -> 4 | B7: 10 Q4 | C7: 25 | E7: =B7 -> 10 Q4 | F7: =C7 -> 25 | G7: =F7/I7 -> 14.25 | H7: =(AVERAGE(F8:F11)-AVERAGE(F4:F7))/4 -> 1.875 | I7: =F7/AVERAGE($F$4:$F$7) -> 1.754386
A8: =A7+1 -> 5 | B8: 11 Q1 | C8: 16 | E8: =B8 -> 11 Q1 | F8: =C8 -> 16 | G8: =$F$23*F8/I4+(1-$F$23)*(G7+H7) -> 16.27696 | H8: =$G$23*(G8-G7)+(1-$G$23)*H7 -> 1.9871647 | I8: =$H$23*(F8/G8)+(1-$H$23)*I4 -> 0.74521376 | J8: =(G7+H7)*I4 -> 11.315789
A9: =A8+1 -> 6 | B9: 11 Q2 | C9: 22 | E9: =B9 -> 11 Q2 | F9: =C9 -> 22 | G9: =$F$23*F9/I5+(1-$F$23)*(G8+H8) -> 18.358118 | H9: =$G$23*(G9-G8)+(1-$G$23)*H8 -> 2.0565426 | I9: =$H$23*(F9/G9)+(1-$H$23)*I5 -> 1.0158235 | J9: =(G8+H8)*I5 -> 17.943702
A10: =A9+1 -> 7 | B10: 11 Q3 | C10: 14 | E10: =B10 -> 11 Q3 | F10: =C10 -> 14 | G10: =$F$23*F10/I6+(1-$F$23)*(G9+H9) -> 20.517625 | H10: =$G$23*(G10-G9)+(1-$G$23)*H9 -> 2.132543 | I10: =$H$23*(F10/G10)+(1-$H$23)*I6 -> 0.58009223 | J10: =(G9+H9)*I6 -> 11.460862
A11: =A10+1 -> 8 | B11: 11 Q4 | C11: 35 | E11: =B11 -> 11 Q4 | F11: =C11 -> 35 | G11: =$F$23*F11/I7+(1-$F$23)*(G10+H10) -> 22.588698 | H11: =$G$23*(G11-G10)+(1-$G$23)*H10 -> 2.0871702 | I11: =$H$23*(F11/G11)+(1-$H$23)*I7 -> 1.7227162 | J11: =(G10+H10)*I7 -> 39.737137
A12: =A11+1 -> 9 | B12: 12 Q1 | C12: 15 | E12: =B12 -> 12 Q1 | F12: =C12 -> 15 | G12: =$F$23*F12/I8+(1-$F$23)*(G11+H11) -> 24.572343 | H12: =$G$23*(G12-G11)+(1-$G$23)*H11 -> 2.0107569 | I12: =$H$23*(F12/G12)+(1-$H$23)*I8 -> 0.72438712 | J12: =(G11+H11)*I8 -> 18.388796
A13: =A12+1 -> 10 | B13: 12 Q2 | C13: 27 | E13: =B13 -> 12 Q2 | F13: =C13 -> 27 | G13: =$F$23*F13/I9+(1-$F$23)*(G12+H12) -> 26.583016 | H13: =$G$23*(G13-G12)+(1-$G$23)*H12 -> 2.010695 | I13: =$H$23*(F13/G13)+(1-$H$23)*I9 -> 1.0158023 | J13: =(G12+H12)*I9 -> 27.003738
A14: =A13+1 -> 11 | B14: 12 Q3 | C14: 18 | E14: =B14 -> 12 Q3 | F14: =C14 -> 18 | G14: =$F$23*F14/I10+(1-$F$23)*(G13+H13) -> 28.649165 | H14: =$G$23*(G14-G13)+(1-$G$23)*H13 -> 2.0516261 | I14: =$H$23*(F14/G14)+(1-$H$23)*I10 -> 0.58754047 | J14: =(G13+H13)*I10 -> 16.58699
A15: =A14+1 -> 12 | B15: 12 Q4 | C15: 40 | E15: =B15 -> 12 Q4 | F15: =C15 -> 40 | G15: =$F$23*F15/I11+(1-$F$23)*(G14+H14) -> 30.530467 | H15: =$G$23*(G15-G14)+(1-$G$23)*H14 -> 1.9259068 | I15: =$H$23*(F15/G15)+(1-$H$23)*I11 -> 1.6589636 | J15: =(G14+H14)*I11 -> 52.888749
A16: =A15+1 -> 13 | B16: 13 Q1 | C16: 28 | E16: =B16 -> 13 Q1 | F16: =C16 -> 28 | G16: =$F$23*F16/I12+(1-$F$23)*(G15+H15) -> 32.597452 | H16: =$G$23*(G16-G15)+(1-$G$23)*H15 -> 2.0300392 | I16: =$H$23*(F16/G16)+(1-$H$23)*I12 -> 0.74518353 | J16: =(G15+H15)*I12 -> 23.510979
A17: =A16+1 -> 14 | B17: 13 Q2 | C17: 40 | E17: =B17 -> 13 Q2 | F17: =C17 -> 40 | G17: =$F$23*F17/I13+(1-$F$23)*(G16+H16) -> 34.735633 | H17: =$G$23*(G17-G16)+(1-$G$23)*H16 -> 2.109861 | I17: =$H$23*(F17/G17)+(1-$H$23)*I13 -> 1.0367806 | J17: =(G16+H16)*I13 -> 35.174684
A18: =A17+1 -> 15 | B18: 13 Q3 | C18: 25 | E18: =B18 -> 13 Q3 | F18: =C18 -> 25 | G18: =$F$23*F18/I14+(1-$F$23)*(G17+H17) -> 36.975366 | H18: =$G$23*(G18-G17)+(1-$G$23)*H17 -> 2.2057221 | I18: =$H$23*(F18/G18)+(1-$H$23)*I14 -> 0.60122984 | J18: =(G17+H17)*I14 -> 21.648219
A19: =A18+1 -> 16 | B19: 13 Q4 | C19: 65 | E19: =B19 -> 13 Q4 | F19: =C19 -> 65 | G19: =$F$23*F19/I15+(1-$F$23)*(G18+H18) -> 39.181088 | H19: =$G$23*(G19-G18)+(1-$G$23)*H18 -> 2.2057221 | I19: =$H$23*(F19/G19)+(1-$H$23)*I15 -> 1.6589636 | J19: =(G18+H18)*I15 -> 65
E20: > | I20: =I16 -> 0.74518353 | J20: =($G$19+$H$19*(ROW(G20)-ROW($G$19)))*I20 -> 30.840769
F22: alpha | G22: beta | H22: gamma | I22: MAE | J22: MSE | K22: MAPE
F23: 0.022765563 | G23: 0.738119 | H23: 0.15453313 | I23: =SUMPRODUCT(ABS(F8:F19-J8:J19))/COUNT(J8:J19) -> 3.8647664 | J23: =SUMXMY2(F8:F19,J8:J19)/COUNT(J8:J19) -> 25.129408 | K23: =SUMPRODUCT(ABS(1-J8:J19/F8:F19))/COUNT(J8:J19) -> 0.1529715

Sheet Holt-Winters 4a
A1: Holt-Winters (Real Statistics) | E1: Holt-Winter Multiplicative
A3: t | B3: qtr | C3: y | E3: =B3 -> qtr | F3: =C3 -> y | G3: u | H3: v | I3: s | J3: forecast
A4: 1 | B4: 10 Q1 | C4: 10 | E4: =B4 -> 10 Q1 | F4: =C4 -> 10 | I4: =F4/AVERAGE($F$4:$F$7) -> 0.70175439
A5: =A4+1 -> 2 | B5: 10 Q2 | C5: 14 | E5: =B5 -> 10 Q2 | F5: =C5 -> 14 | I5: =F5/AVERAGE($F$4:$F$7) -> 0.98245614
A6: =A5+1 -> 3 | B6: 10 Q3 | C6: 8 | E6: =B6 -> 10 Q3 | F6: =C6 -> 8 | I6: =F6/AVERAGE($F$4:$F$7) -> 0.56140351
A7: =A6+1 -> 4 | B7: 10 Q4 | C7: 25 | E7: =B7 -> 10 Q4 | F7: =C7 -> 25 | G7: =F7/I7 -> 14.25 | H7: =(AVERAGE(F8:F11)-AVERAGE(F4:F7))/4 -> 1.875 | I7: =F7/AVERAGE($F$4:$F$7) -> 1.754386
A8: =A7+1 -> 5 | B8: 11 Q1 | C8: 16 | E8: =B8 -> 11 Q1 | F8: =C8 -> 16 | G8: =$F$23*F8/I4+(1-$F$23)*(G7+H7) -> 16.409664 | H8: =$G$23*(G8-G7)+(1-$G$23)*H7 -> 1.9759729 | I8: =$H$23*(F8/G8)+(1-$H$23)*I4 -> 0.7457631 | J8: =(G7+H7)*I4 -> 11.315789
A9: =A8+1 -> 6 | B9: 11 Q2 | C9: 22 | E9: =B9 -> 11 Q2 | F9: =C9 -> 22 | G9: =$F$23*F9/I5+(1-$F$23)*(G8+H8) -> 18.55653 | H9: =$G$23*(G9-G8)+(1-$G$23)*H8 -> 2.0365903 | I9: =$H$23*(F9/G9)+(1-$H$23)*I5 -> 1.0151647 | J9: =(G8+H8)*I5 -> 18.063082
A10: =A9+1 -> 7 | B10: 11 Q3 | C10: 14 | E10: =B10 -> 11 Q3 | F10: =C10 -> 14 | G10: =$F$23*F10/I6+(1-$F$23)*(G9+H9) -> 20.778392 | H10: =$G$23*(G10-G9)+(1-$G$23)*H9 -> 2.1023078 | I10: =$H$23*(F10/G10)+(1-$H$23)*I6 -> 0.57949994 | J10: =(G9+H9)*I6 -> 11.56105
A11: =A10+1 -> 8 | B11: 11 Q4 | C11: 35 | E11: =B11 -> 11 Q4 | F11: =C11 -> 35 | G11: =$F$23*F11/I7+(1-$F$23)*(G10+H10) -> 22.755716 | H11: =$G$23*(G11-G10)+(1-$G$23)*H10 -> 2.0579751 | I11: =$H$23*(F11/G11)+(1-$H$23)*I7 -> 1.7195516 | J11: =(G10+H10)*I7 -> 40.141578
A12: =A11+1 -> 9 | B12: 12 Q1 | C12: 15 | E12: =B12 -> 12 Q1 | F12: =C12 -> 15 | G12: =$F$23*F12/I8+(1-$F$23)*(G11+H11) -> 24.613251 | H12: =$G$23*(G12-G11)+(1-$G$23)*H11 -> 1.986877 | I12: =$H$23*(F12/G12)+(1-$H$23)*I8 -> 0.72380788 | J12: =(G11+H11)*I8 -> 18.505135
A13: =A12+1 -> 10 | B13: 12 Q2 | C13: 27 | E13: =B13 -> 12 Q2 | F13: =C13 -> 27 | G13: =$F$23*F13/I9+(1-$F$23)*(G12+H12) -> 26.59998 | H13: =$G$23*(G13-G12)+(1-$G$23)*H12 -> 1.9868247 | I13: =$H$23*(F13/G13)+(1-$H$23)*I9 -> 1.0151444 | J13: =(G12+H12)*I9 -> 27.003511
A14: =A13+1 -> 11 | B14: 12 Q3 | C14: 18 | E14: =B14 -> 12 Q3 | F14: =C14 -> 18 | G14: =$F$23*F14/I10+(1-$F$23)*(G13+H13) -> 28.692332 | H14: =$G$23*(G14-G13)+(1-$G$23)*H13 -> 2.0242559 | I14: =$H$23*(F14/G14)+(1-$H$23)*I10 -> 0.58720489 | J14: =(G13+H13)*I10 -> 16.566052
A15: =A14+1 -> 12 | B15: 12 Q4 | C15: 40 | E15: =B15 -> 12 Q4 | F15: =C15 -> 40 | G15: =$F$23*F15/I11+(1-$F$23)*(G14+H14) -> 30.398672 | H15: =$G$23*(G15-G14)+(1-$G$23)*H14 -> 1.9114883 | I15: =$H$23*(F15/G15)+(1-$H$23)*I11 -> 1.6545396 | J15: =(G14+H14)*I11 -> 52.818757
A16: =A15+1 -> 13 | B16: 13 Q1 | C16: 28 | E16: =B16 -> 13 Q1 | F16: =C16 -> 28 | G16: =$F$23*F16/I12+(1-$F$23)*(G15+H15) -> 32.581993 | H16: =$G$23*(G16-G15)+(1-$G$23)*H15 -> 2.0079101 | I16: =$H$23*(F16/G16)+(1-$H$23)*I12 -> 0.74563865 | J16: =(G15+H15)*I12 -> 23.386349
A17: =A16+1 -> 14 | B17: 13 Q2 | C17: 40 | E17: =B17 -> 13 Q2 | F17: =C17 -> 40 | G17: =$F$23*F17/I13+(1-$F$23)*(G16+H16) -> 34.795175 | H17: =$G$23*(G17-G16)+(1-$G$23)*H16 -> 2.0807219 | I17: =$H$23*(F17/G17)+(1-$H$23)*I13 -> 1.0367944 | J17: =(G16+H16)*I13 -> 35.113746
A18: =A17+1 -> 15 | B18: 13 Q3 | C18: 25 | E18: =B18 -> 13 Q3 | F18: =C18 -> 25 | G18: =$F$23*F18/I14+(1-$F$23)*(G17+H17) -> 37.118925 | H18: =$G$23*(G18-G17)+(1-$G$23)*H17 -> 2.166926 | I18: =$H$23*(F18/G18)+(1-$H$23)*I14 -> 0.60110347 | J18: =(G17+H17)*I14 -> 21.653707
A19: =A18+1 -> 16 | B19: 13 Q4 | C19: 65 | E19: =B19 -> 13 Q4 | F19: =C19 -> 65 | G19: =$F$23*F19/I15+(1-$F$23)*(G18+H18) -> 39.285851 | H19: =$G$23*(G19-G18)+(1-$G$23)*H18 -> 2.166926 | I19: =$H$23*(F19/G19)+(1-$H$23)*I15 -> 1.6545396 | J19: =(G18+H18)*I15 -> 64.999997
E20: > | I20: =I16 -> 0.74563865 | J20: =($G$19+$H$19*(ROW(G20)-ROW($G$19)))*I20 -> 30.908793
F22: alpha | G22: beta | H22: gamma | I22: MAE | J22: MSE | K22: MAPE
F23: 0.042646276 | G23: 0.35470931 | H23: 0.16103843 | I23: =SUMPRODUCT(ABS(F8:F19-J8:J19))/COUNT(J8:J19) -> 3.9007675 | J23: =SUMXMY2(F8:F19,J8:J19)/COUNT(J8:J19) -> 25.403927 | K23: =SUMPRODUCT(ABS(1-J8:J19/F8:F19))/COUNT(J8:J19) -> 0.15396223
G24: α+γ | H24: =F23+H23 -> 0.20368471

Sheet Holt-Winters 5
A1: Holt-Winters (Real Statistics) | E1: Holt-Winter Additive
A3: t | B3: qtr | C3: y | E3: =B3 -> qtr | F3: =C3 -> y | G3: u | H3: v | I3: s | J3: forecast
A4: 1 | B4: 10 Q1 | C4: 10 | E4: =B4 -> 10 Q1 | F4: =C4 -> 10 | I4: =F4-AVERAGE($F$4:$F$7) -> -4.25
A5: =A4+1 -> 2 | B5: 10 Q2 | C5: 14 | E5: =B5 -> 10 Q2 | F5: =C5 -> 14 | I5: =F5-AVERAGE($F$4:$F$7) -> -0.25
A6: =A5+1 -> 3 | B6: 10 Q3 | C6: 8 | E6: =B6 -> 10 Q3 | F6: =C6 -> 8 | I6: =F6-AVERAGE($F$4:$F$7) -> -6.25
A7: =A6+1 -> 4 | B7: 10 Q4 | C7: 25 | E7: =B7 -> 10 Q4 | F7: =C7 -> 25 | G7: =F7-I7 -> 14.25 | H7: =(AVERAGE(F8:F11)-AVERAGE(F4:F7))/4 -> 1.875 | I7: =F7-AVERAGE($F$4:$F$7) -> 10.75
A8: =A7+1 -> 5 | B8: 11 Q1 | C8: 16 | E8: =B8 -> 11 Q1 | F8: =C8 -> 16 | G8: =$F$26*(F8-I4)+(1-$F$26)*(G7+H7) -> 16.18907 | H8: =$G$26*(G8-G7)+(1-$G$26)*H7 -> 1.9390704 | I8: =$H$26*(F8-G8)+(1-$H$26)*I4 -> -3.3124054 | J8: =G7+H7+I4 -> 11.875
A9: =A8+1 -> 6 | B9: 11 Q2 | C9: 22 | E9: =B9 -> 11 Q2 | F9: =C9 -> 22 | G9: =$F$26*(F9-I5)+(1-$F$26)*(G8+H8) -> 18.192162 | H9: =$G$26*(G9-G8)+(1-$G$26)*H8 -> 2.003092 | I9: =$H$26*(F9-G9)+(1-$H$26)*I5 -> 0.68688075 | J9: =G8+H8+I5 -> 17.878141
A10: =A9+1 -> 7 | B10: 11 Q3 | C10: 14 | E10: =B10 -> 11 Q3 | F10: =C10 -> 14 | G10: =$F$26*(F10-I6)+(1-$F$26)*(G9+H9) -> 20.196105 | H10: =$G$26*(G10-G9)+(1-$G$26)*H9 -> 2.0039423 | I10: =$H$26*(F10-G10)+(1-$H$26)*I6 -> -6.2375565 | J10: =G9+H9+I6 -> 13.945254
A11: =A10+1 -> 8 | B11: 11 Q4 | C11: 35 | E11: =B11 -> 11 Q4 | F11: =C11 -> 35 | G11: =$F$26*(F11-I7)+(1-$F$26)*(G10+H10) -> 22.231887 | H11: =$G$26*(G11-G10)+(1-$G$26)*H10 -> 2.0357826 | I11: =$H$26*(F11-G11)+(1-$H$26)*I7 -> 11.215945 | J11: =G10+H10+I7 -> 32.950047
A12: =A11+1 -> 9 | B12: 12 Q1 | C12: 15 | E12: =B12 -> 12 Q1 | F12: =C12 -> 15 | G12: =$F$26*(F12-I8)+(1-$F$26)*(G11+H11) -> 24.175171 | H12: =$G$26*(G12-G11)+(1-$G$26)*H11 -> 1.9432842 | I12: =$H$26*(F12-G12)+(1-$H$26)*I8 -> -4.6660112 | J12: =G11+H11+I8 -> 20.955264
A13: =A12+1 -> 10 | B13: 12 Q2 | C13: 27 | E13: =B13 -> 12 Q2 | F13: =C13 -> 27 | G13: =$F$26*(F13-I9)+(1-$F$26)*(G12+H12) -> 26.121479 | H13: =$G$26*(G13-G12)+(1-$G$26)*H12 -> 1.9463077 | I13: =$H$26*(F13-G13)+(1-$H$26)*I9 -> 0.73112697 | J13: =G12+H12+I9 -> 26.805336
A14: =A13+1 -> 11 | B14: 12 Q3 | C14: 18 | E14: =B14 -> 12 Q3 | F14: =C14 -> 18 | G14: =$F$26*(F14-I10)+(1-$F$26)*(G13+H13) -> 28.008295 | H14: =$G$26*(G14-G13)+(1-$G$26)*H13 -> 1.8868158 | I14: =$H$26*(F14-G14)+(1-$H$26)*I10 -> -7.1081513 | J14: =G13+H13+I10 -> 21.83023
A15: =A14+1 -> 12 | B15: 12 Q4 | C15: 40 | E15: =B15 -> 12 Q4 | F15: =C15 -> 40 | G15: =$F$26*(F15-I11)+(1-$F$26)*(G14+H14) -> 29.877853 | H15: =$G$26*(G15-G14)+(1-$G$26)*H14 -> 1.8695586 | I15: =$H$26*(F15-G15)+(1-$H$26)*I11 -> 10.963407 | J15: =G14+H14+I11 -> 41.111056
A16: =A15+1 -> 13 | B16: 13 Q1 | C16: 28 | E16: =B16 -> 13 Q1 | F16: =C16 -> 28 | G16: =$F$26*(F16-I12)+(1-$F$26)*(G15+H15) -> 31.76168 | H16: =$G$26*(G16-G15)+(1-$G$26)*H15 -> 1.8838265 | I16: =$H$26*(F16-G16)+(1-$H$26)*I12 -> -4.4572176 | J16: =G15+H15+I12 -> 27.081401
A17: =A16+1 -> 14 | B17: 13 Q2 | C17: 40 | E17: =B17 -> 13 Q2 | F17: =C17 -> 40 | G17: =$F$26*(F17-I13)+(1-$F$26)*(G16+H16) -> 33.73285 | H17: =$G$26*(G17-G16)+(1-$G$26)*H16 -> 1.9711698 | I17: =$H$26*(F17-G17)+(1-$H$26)*I13 -> 2.0092938 | J17: =G16+H16+I13 -> 34.376633
A18: =A17+1 -> 15 | B18: 13 Q3 | C18: 25 | E18: =B18 -> 13 Q3 | F18: =C18 -> 25 | G18: =$F$26*(F18-I14)+(1-$F$26)*(G17+H17) -> 35.648168 | H18: =$G$26*(G18-G17)+(1-$G$26)*H17 -> 1.915318 | I18: =$H$26*(F18-G18)+(1-$H$26)*I14 -> -7.9254766 | J18: =G17+H17+I14 -> 28.595868
A19: =A18+1 -> 16 | B19: 13 Q4 | C19: 65 | E19: =B19 -> 13 Q4 | F19: =C19 -> 65 | G19: =$F$26*(F19-I15)+(1-$F$26)*(G18+H18) -> 37.81935 | H19: =$G$26*(G19-G18)+(1-$G$26)*H18 -> 2.1711818 | I19: =$H$26*(F19-G19)+(1-$H$26)*I15 -> 14.707673 | J19: =G18+H18+I15 -> 48.526893
E20: 14 Q1 | I20: =I16 -> -4.4572176 | J20: =$G$19+$H$19*(ROW(G20)-ROW($G$19))+I20 -> 35.533314
E21: 14 Q2 | I21: =I17 -> 2.0092938 | J21: =$G$19+$H$19*(ROW(G21)-ROW($G$19))+I21 -> 44.171007
E22: 14 Q3 | I22: =I18 -> -7.9254766 | J22: =$G$19+$H$19*(ROW(G22)-ROW($G$19))+I22 -> 36.407418
E23: 14 Q4 | I23: =I19 -> 14.707673 | J23: =$G$19+$H$19*(ROW(G23)-ROW($G$19))+I23 -> 61.21175
F25: alpha | G25: beta | H25: gamma | I25: MAE | J25: MSE | K25: MAPE
F26: 0.015532211 | G26: 1 | H26: 0.23088177 | I26: =SUMPRODUCT(ABS(F8:F19-J8:J19))/COUNT(J8:J19) -> 4.0044761 | J26: =SUMXMY2(F8:F19,J8:J19)/COUNT(J8:J19) -> 33.864869 | K26: =SUMPRODUCT(ABS(1-J8:J19/F8:F19))/COUNT(J8:J19) -> 0.14359192
G27: α+γ | H27: =F26+H26 -> 0.24641398

Sheet HoltWinters 6
A1: Holt-Winters (additive)
A3: t | B3: qtr | C3: y | E3: Holt-Winter Additive | J3: sig level | K3: 0.05
A4: 1 | B4: 10 Q1 | C4: 10
A5: =A4+1 -> 2 | B5: 10 Q2 | C5: 14 | E5: =B3 -> qtr | F5: =C3 -> y | G5: u | H5: v | I5: s | J5: forecast | K5: s.e. | L5: lower | M5: upper
A6: =A5+1 -> 3 | B6: 10 Q3 | C6: 8 | E6: =B4 -> 10 Q1 | F6: =C4 -> 10 | I6: =F6-AVERAGE($F$6:$F$9) -> -4.25
A7: =A6+1 -> 4 | B7: 10 Q4 | C7: 25 | E7: =B5 -> 10 Q2 | F7: =C5 -> 14 | I7: =F7-AVERAGE($F$6:$F$9) -> -0.25
A8: =A7+1 -> 5 | B8: 11 Q1 | C8: 16 | E8: =B6 -> 10 Q3 | F8: =C6 -> 8 | I8: =F8-AVERAGE($F$6:$F$9) -> -6.25
A9: =A8+1 -> 6 | B9: 11 Q2 | C9: 22 | E9: =B7 -> 10 Q4 | F9: =C7 -> 25 | G9: =F9-I9 -> 14.25 | H9: =(AVERAGE(F10:F13)-AVERAGE(F6:F9))/4 -> 1.875 | I9: =F9-AVERAGE($F$6:$F$9) -> 10.75
A10: =A9+1 -> 7 | B10: 11 Q3 | C10: 14 | E10: =B8 -> 11 Q1 | F10: =C8 -> 16 | G10: =$F$30*(F10-I6)+(1-$F$30)*(G9+H9) -> 16.18907 | H10: =$G$30*(G10-G9)+(1-$G$30)*H9 -> 1.9390702 | I10: =$H$30*(F10-G10)+(1-$H$30)*I6 -> -3.312403 | J10: =G9+H9+I6 -> 11.875
A11: =A10+1 -> 8 | B11: 11 Q4 | C11: 35 | E11: =B9 -> 11 Q2 | F11: =C9 -> 22 | G11: =$F$30*(F11-I7)+(1-$F$30)*(G10+H10) -> 18.192162 | H11: =$G$30*(G11-G10)+(1-$G$30)*H10 -> 2.0030916 | I11: =$H$30*(F11-G11)+(1-$H$30)*I7 -> 0.68688318 | J11: =G10+H10+I7 -> 17.87814 | K11: =SQRT(SUMXMY2(F$10:F10,J$10:J10)/COUNT(J$10:J10)) -> 4.125 | L11: =J11-_xlfn.NORM.S.INV(1-K$3/2)*K11 -> 9.7932894 | M11: =J11+_xlfn.NORM.S.INV(1-K$3/2)*K11 -> 25.962991
A12: =A11+1 -> 9 | B12: 12 Q1 | C12: 15 | E12: =B10 -> 11 Q3 | F12: =C10 -> 14 | G12: =$F$30*(F12-I8)+(1-$F$30)*(G11+H11) -> 20.196104 | H12: =$G$30*(G12-G11)+(1-$G$30)*H11 -> 2.003942 | I12: =$H$30*(F12-G12)+(1-$H$30)*I8 -> -6.2375563 | J12: =G11+H11+I8 -> 13.945253 | K12: =SQRT(SUMXMY2(F$10:F11,J$10:J11)/COUNT(J$10:J11)) -> 4.1234301 | L12: =J12-_xlfn.NORM.S.INV(1-K$3/2)*K12 -> 5.8634793 | M12: =J12+_xlfn.NORM.S.INV(1-K$3/2)*K12 -> 22.027028
A13: =A12+1 -> 10 | B13: 12 Q2 | C13: 27 | E13: =B11 -> 11 Q4 | F13: =C11 -> 35 | G13: =$F$30*(F13-I9)+(1-$F$30)*(G12+H12) -> 22.231886 | H13: =$G$30*(G13-G12)+(1-$G$30)*H12 -> 2.0357822 | I13: =$H$30*(F13-G13)+(1-$H$30)*I9 -> 11.215947 | J13: =G12+H12+I9 -> 32.950046 | K13: =SQRT(SUMXMY2(F$10:F12,J$10:J12)/COUNT(J$10:J12)) -> 3.3669149 | L13: =J13-_xlfn.NORM.S.INV(1-K$3/2)*K13 -> 26.351014 | M13: =J13+_xlfn.NORM.S.INV(1-K$3/2)*K13 -> 39.549077
A14: =A13+1 -> 11 | B14: 12 Q3 | C14: 18 | E14: =B12 -> 12 Q1 | F14: =C12 -> 15 | G14: =$F$30*(F14-I10)+(1-$F$30)*(G13+H13) -> 24.17517 | H14: =$G$30*(G14-G13)+(1-$G$30)*H13 -> 1.943284 | I14: =$H$30*(F14-G14)+(1-$H$30)*I10 -> -4.6660124 | J14: =G13+H13+I10 -> 20.955265 | K14: =SQRT(SUMXMY2(F$10:F13,J$10:J13)/COUNT(J$10:J13)) -> 3.0907386 | L14: =J14-_xlfn.NORM.S.INV(1-K$3/2)*K14 -> 14.897529 | M14: =J14+_xlfn.NORM.S.INV(1-K$3/2)*K14 -> 27.013001
A15: =A14+1 -> 12 | B15: 12 Q4 | C15: 40 | E15: =B13 -> 12 Q2 | F15: =C13 -> 27 | G15: =$F$30*(F15-I11)+(1-$F$30)*(G14+H14) -> 26.121478 | H15: =$G$30*(G15-G14)+(1-$G$30)*H14 -> 1.9463075 | I15: =$H$30*(F15-G15)+(1-$H$30)*I11 -> 0.73112932 | J15: =G14+H14+I11 -> 26.805337 | K15: =SQRT(SUMXMY2(F$10:F14,J$10:J14)/COUNT(J$10:J14)) -> 3.8386415 | L15: =J15-_xlfn.NORM.S.INV(1-K$3/2)*K15 -> 19.281738 | M15: =J15+_xlfn.NORM.S.INV(1-K$3/2)*K15 -> 34.328936
A16: =A15+1 -> 13 | B16: 13 Q1 | C16: 28 | E16: =B14 -> 12 Q3 | F16: =C14 -> 18 | G16: =$F$30*(F16-I12)+(1-$F$30)*(G15+H15) -> 28.008293 | H16: =$G$30*(G16-G15)+(1-$G$30)*H15 -> 1.8868158 | I16: =$H$30*(F16-G16)+(1-$H$30)*I12 -> -7.1081529 | J16: =G15+H15+I12 -> 21.830229 | K16: =SQRT(SUMXMY2(F$10:F15,J$10:J15)/COUNT(J$10:J15)) -> 3.5050853 | L16: =J16-_xlfn.NORM.S.INV(1-K$3/2)*K16 -> 14.960388 | M16: =J16+_xlfn.NORM.S.INV(1-K$3/2)*K16 -> 28.700069
A17: =A16+1 -> 14 | B17: 13 Q2 | C17: 40 | E17: =B15 -> 12 Q4 | F17: =C15 -> 40 | G17: =$F$30*(F17-I13)+(1-$F$30)*(G16+H16) -> 29.877852 | H17: =$G$30*(G17-G16)+(1-$G$30)*H16 -> 1.8695587 | I17: =$H$30*(F17-G17)+(1-$H$30)*I13 -> 10.963408 | J17: =G16+H16+I13 -> 41.111056 | K17: =SQRT(SUMXMY2(F$10:F16,J$10:J16)/COUNT(J$10:J16)) -> 3.5533564 | L17: =J17-_xlfn.NORM.S.INV(1-K$3/2)*K17 -> 34.146606 | M17: =J17+_xlfn.NORM.S.INV(1-K$3/2)*K17 -> 48.075506
A18: =A17+1 -> 15 | B18: 13 Q3 | C18: 25 | E18: =B16 -> 13 Q1 | F18: =C16 -> 28 | G18: =$F$30*(F18-I14)+(1-$F$30)*(G17+H17) -> 31.761678 | H18: =$G$30*(G18-G17)+(1-$G$30)*H17 -> 1.8838265 | I18: =$H$30*(F18-G18)+(1-$H$30)*I14 -> -4.4572177 | J18: =G17+H17+I14 -> 27.081398 | K18: =SQRT(SUMXMY2(F$10:F17,J$10:J17)/COUNT(J$10:J17)) -> 3.3469918 | L18: =J18-_xlfn.NORM.S.INV(1-K$3/2)*K18 -> 20.521415 | M18: =J18+_xlfn.NORM.S.INV(1-K$3/2)*K18 -> 33.641381
A19: =A18+1 -> 16 | B19: 13 Q4 | C19: 65 | E19: =B17 -> 13 Q2 | F19: =C17 -> 40 | G19: =$F$30*(F19-I15)+(1-$F$30)*(G18+H18) -> 33.732848 | H19: =$G$30*(G19-G18)+(1-$G$30)*H18 -> 1.9711696 | I19: =$H$30*(F19-G19)+(1-$H$30)*I15 -> 2.0092992 | J19: =G18+H18+I15 -> 34.376634 | K19: =SQRT(SUMXMY2(F$10:F18,J$10:J18)/COUNT(J$10:J18)) -> 3.1703954 | L19: =J19-_xlfn.NORM.S.INV(1-K$3/2)*K19 -> 28.162774 | M19: =J19+_xlfn.NORM.S.INV(1-K$3/2)*K19 -> 40.590495
E20: =B18 -> 13 Q3 | F20: =C18 -> 25 | G20: =$F$30*(F20-I16)+(1-$F$30)*(G19+H19) -> 35.648166 | H20: =$G$30*(G20-G19)+(1-$G$30)*H19 -> 1.915318 | I20: =$H$30*(F20-G20)+(1-$H$30)*I16 -> -7.9254794 | J20: =G19+H19+I16 -> 28.595865 | K20: =SQRT(SUMXMY2(F$10:F19,J$10:J19)/COUNT(J$10:J19)) -> 3.494065 | L20: =J20-_xlfn.NORM.S.INV(1-K$3/2)*K20 -> 21.747624 | M20: =J20+_xlfn.NORM.S.INV(1-K$3/2)*K20 -> 35.444106
E21: =B19 -> 13 Q4 | F21: =C19 -> 65 | G21: =$F$30*(F21-I17)+(1-$F$30)*(G20+H20) -> 37.819347 | H21: =$G$30*(G21-G20)+(1-$G$30)*H20 -> 2.1711811 | I21: =$H$30*(F21-G21)+(1-$H$30)*I17 -> 14.707683 | J21: =G20+H20+I17 -> 48.526892 | K21: =SQRT(SUMXMY2(F$10:F20,J$10:J20)/COUNT(J$10:J20)) -> 3.5034418 | L21: =J21-_xlfn.NORM.S.INV(1-K$3/2)*K21 -> 41.660273 | M21: =J21+_xlfn.NORM.S.INV(1-K$3/2)*K21 -> 55.393512
E22: 14 Q1 | I22: =I18 -> -4.4572177 | J22: =$G$21+$H$21*(ROW(G22)-ROW($G$21))+I22 -> 35.533311 | K22: =SQRT(SUMXMY2(F$10:F21,J$10:J21)/COUNT(J$10:J21)) -> 5.819353 | L22: =J22-_xlfn.NORM.S.INV(1-K$3/2)*K22 -> 24.127589 | M22: =J22+_xlfn.NORM.S.INV(1-K$3/2)*K22 -> 46.939032
E23: 14 Q2 | I23: =I19 -> 2.0092992 | J23: =$G$21+$H$21*(ROW(G23)-ROW($G$21))+I23 -> 44.171009 | K23: =K$22*SQRT((K22/K$22)^2-1+(F$30*(1+(ROW(J23)-ROW(J$22))*G$30))^2+1) -> 5.8221601 | L23: =J23-_xlfn.NORM.S.INV(1-K$3/2)*K23 -> 32.759785 | M23: =J23+_xlfn.NORM.S.INV(1-K$3/2)*K23 -> 55.582232
E24: 14 Q3 | I24: =I20 -> -7.9254794 | J24: =$G$21+$H$21*(ROW(G24)-ROW($G$21))+I24 -> 36.407411 | K24: =K$22*SQRT((K23/K$22)^2-1+(F$30*(1+(ROW(J24)-ROW(J$22))*G$30))^2+1) -> 5.8284712 | L24: =J24-_xlfn.NORM.S.INV(1-K$3/2)*K24 -> 24.983818 | M24: =J24+_xlfn.NORM.S.INV(1-K$3/2)*K24 -> 47.831004
E25: 14 Q4 | I25: =I21 -> 14.707683 | J25: =$G$21+$H$21*(ROW(G25)-ROW($G$21))+I25 -> 61.211755 | K25: =K$22*SQRT((K24/K$22)^2-1+(F$30*(1+(ROW(J25)-ROW(J$22))*G$30))^2+1) -> 5.8396742 | L25: =J25-_xlfn.NORM.S.INV(1-K$3/2)*K25 -> 49.766205 | M25: =J25+_xlfn.NORM.S.INV(1-K$3/2)*K25 -> 72.657306
E26: 15 Q1 | I26: =I22 -> -4.4572177 | J26: =$G$21+$H$21*(ROW(G26)-ROW($G$21))+I26 -> 44.218035 | K26: =K$22*SQRT((K25/K$22)^2-1+(F$30*(1+(ROW(J26)-ROW(J$22))*G$30+(1-F$30)*H$30))^2+1) -> 5.8587569 | L26: =J26-_xlfn.NORM.S.INV(1-K$3/2)*K26 -> 32.735083 | M26: =J26+_xlfn.NORM.S.INV(1-K$3/2)*K26 -> 55.700987
E27: 16 Q2 | I27: =I23 -> 2.0092992 | J27: =$G$21+$H$21*(ROW(G27)-ROW($G$21))+I27 -> 52.855733 | K27: =K$22*SQRT((K26/K$22)^2-1+(F$30*(1+(ROW(J27)-ROW(J$22))*G$30))^2+1) -> 5.8838038 | L27: =J27-_xlfn.NORM.S.INV(1-K$3/2)*K27 -> 41.32369 | M27: =J27+_xlfn.NORM.S.INV(1-K$3/2)*K27 -> 64.387776
F29: alpha | G29: beta | H29: gamma | I29: MAE | J29: MSE | K29: MAPE
F30: 0.015532169 | G30: 1 | H30: 0.23088234 | I30: =SUMPRODUCT(ABS(F10:F21-J10:J21))/COUNT(J10:J21) -> 4.0044761 | J30: =SUMXMY2(F10:F21,J10:J21)/COUNT(J10:J21) -> 33.864869 | K30: =SUMPRODUCT(ABS(1-J10:J21/F10:F21))/COUNT(J10:J21) -> 0.14359192

Sheet Stationary
A1: Stationary Time Series
A3: Date | B3: Dow | L3: Date | M3: Dow | N3: Diff
A4: 37165 | B4: 16272.01 | L4: 37165 | M4: 16272.01
A5: 37530 | B5: 16472.37 | L5: 37530 | M5: 16472.37 | N5: =M5-M4 -> 200.36
A6: 38626 | B6: 16776.43 | L6: 38626 | M6: 16776.43 | N6: =M6-M5 -> 304.06
A7: 38991 | B7: 16790.19 | L7: 38991 | M7: 16790.19 | N7: =M7-M6 -> 13.76
A8: 39356 | B8: 16912.29 | L8: 39356 | M8: 16912.29 | N8: =M8-M7 -> 122.1
A9: 39722 | B9: 17050.75 | L9: 39722 | M9: 17050.75 | N9: =M9-M8 -> 138.46
A10: 40087 | B10: 17084.49 | L10: 40087 | M10: 17084.49 | N10: =M10-M9 -> 33.74
A11: 41183 | B11: 17131.86 | L11: 41183 | M11: 17131.86 | N11: =M11-M10 -> 47.37
A12: 41548 | B12: 17081.89 | L12: 41548 | M12: 17081.89 | N12: =M12-M11 -> -49.97
A13: 41913 | B13: 16924.75 | L13: 41913 | M13: 16924.75 | N13: =M13-M12 -> -157.14
A14: 42278 | B14: 17141.75 | L14: 42278 | M14: 17141.75 | N14: =M14-M13 -> 217
A15: 42644 | B15: 17215.97 | L15: 42644 | M15: 17215.97 | N15: =M15-M14 -> 74.22
A16: 43739 | B16: 17230.54 | L16: 43739 | M16: 17230.54 | N16: =M16-M15 -> 14.57
... A25: 11232 | B25: 17663.54 | L25: 11232 | M25: 17663.54 | N25: =M25-M24 -> -92.26

Sheet ACF 0
A1: Autocorrelation Function (ACF)
A3: t | B3: y
A4: 1 | B4: 23.4 | D4: s2 | E4: #NAME? | G4: =COVARIANCE.S(B4:B21,B6:B23)
A5: =A4+1 -> 2 | B5: 24.1 | D5: r2 | E5: =CORREL(B4:B21,B6:B23) -> 0.33869118 | G5: #NAME?
A6: =A5+1 -> 3 | B6: 44.4
A7: =A6+1 -> 4 | B7: 25.5 | D7: mean | E7: =AVERAGE(B4:B23) -> 49.915 | G7: #NAME?
A8: =A7+1 -> 5 | B8: 19.2 | D8: s0 | E8: =VARP(B4:B23) -> 564.36727 | G8: =VAR.P(B4:B23)
A9: =A8+1 -> 6 | B9: 37.1 | D9: devsq | E9: =DEVSQ(B4:B23) -> 11287.345 | G9: #NAME?
A10: =A9+1 -> 7 | B10: 45 | D10: n | E10: =COUNT(B4:B23) -> 20 | G10: #NAME?
A11: =A10+1 -> 8 | B11: 61.8 | D11: s2 | E11: =SUMPRODUCT(B4:B21-E7,B6:B23-E7)/E10 -> 151.94013 | G11: #NAME?
A12: =A11+1 -> 9 | B12: 56.7 | D12: r2 | E12: =E11/E8 -> 0.26922207 | G12: #NAME?
A13: =A12+1 -> 10 | B13: 62.3 | G13: =SUMPRODUCT(B4:B21-E7,B6:B23-E7)/E9
A14: =A13+1 -> 11 | B14: 30.9
A15: =A14+1 -> 12 | B15: 69.6
A16: =A15+1 -> 13 | B16: 11
A17: =A16+1 -> 14 | B17: 56.6
A18: =A17+1 -> 15 | B18: 83.4
A19: =A18+1 -> 16 | B19: 33.9
A20: =A19+1 -> 17 | B20: 75.5
A21: =A20+1 -> 18 | B21: 87.3
A22: =A21+1 -> 19 | B22: 55.4
A23: =A22+1 -> 20 | B23: 95.2

Sheet ACF
A1: Autocorrelation Function (ACF) | O1: Bartlett | T1: Box-Pierce | Y1: Ljung-Box
A3: Date | B3: Dow | D3: Lag | E3: ACF | O3: n | P3: =COUNTA(A4:A25) -> 22 | R3: #NAME? | T3: n | U3: =COUNTA(A4:A25) -> 22 | W3: #NAME? | Y3: n | Z3: =COUNTA(A4:A25) -> 22 | AB3: #NAME?
A4: Oct 1, 2015 | B4: 16272.01 | O4: s.e. | P4: =1/SQRT(P3) -> 0.21320072 | R4: #NAME? | T4: df | U4: 5 | Y4: df | Z4: 5
A5: Oct 2, 2015 | B5: 16472.37 | D5: 1 | E5: #NAME? | O5: alpha | P5: 0.05 | T5: alpha | U5: 0.05 | Y5: alpha | Z5: 0.05
A6: Oct 5, 2015 | B6: 16776.43 | D6: =D5+1 -> 2 | E6: #NAME? | O6: crit | P6: =NORMINV(1-P5/2,0,P4) -> 0.4178657 | R6: =NORM.INV(1-P5/2,0,P4) | T6: crit | U6: =CHIINV(U5,U4) -> 11.070498 | W6: =CHISQ.INV.RT(U5,U4) | Y6: crit | Z6: =CHIINV(Z5,Z4) -> 11.070498 | AB6: =CHISQ.INV.RT(Z5,Z4)
A7: Oct 6, 2015 | B7: 16790.19 | D7: =D6+1 -> 3 | E7: #NAME? | O7: k | P7: 5 | T7: Q | U7: =U3*SUMSQ(E5:E9) -> #NAME? | W7: #NAME? | Y7: LB | Z7: =Z3*(Z3+2)*SUMPRODUCT((E5:E9)^2/(Z3-D5:D9)) -> #NAME? | AB7: #NAME?
A8: Oct 7, 2015 | B8: 16912.29 | D8: =D7+1 -> 4 | E8: #NAME? | O8: ACF | P8: =OFFSET(E4,P7,0) -> #NAME? | R8: #NAME? | T8: p-value | U8: =CHIDIST(U7,U4) -> #NAME? | W8: =CHISQ.DIST.RT(U7,U4) | Y8: p-value | Z8: =CHIDIST(Z7,Z4) -> #NAME? | AB8: =CHISQ.DIST.RT(Z7,Z4)
A9: Oct 8, 2015 | B9: 17050.75 | D9: =D8+1 -> 5 | E9: #NAME? | O9: p-value | P9: =1-NORMDIST(P8,0,P4,TRUE) -> #NAME? | R9: =1-NORM.DIST(P8,0,P4,TRUE) | T9: sig | U9: =IF(U8<U5,"yes","no") -> #NAME? | W9: #NAME? | Y9: sig | Z9: =IF(Z8<Z5,"yes","no") -> #NAME? | AB9: #NAME?
A10: Oct 9, 2015 | B10: 17084.49 | D10: =D9+1 -> 6 | E10: #NAME? | O10: sig | P10: =IF(P8>P6,"yes","no") -> #NAME? | R10: #NAME?
A11: Oct 12, 2015 | B11: 17131.86 | D11: =D10+1 -> 7 | E11: #NAME? | T11: Q | U11: #NAME? | W11: #NAME? | Y11: LB | Z11: #NAME? | AB11: #NAME?
A12: Oct 13, 2015 | B12: 17081.89 | D12: =D11+1 -> 8 | E12: #NAME? | O12: p-value | P12: #NAME? | R12: #NAME? | T12: p-value | U12: #NAME? | W12: #NAME? | Y12: p-value | Z12: #NAME? | AB12: #NAME?
A13: Oct 14, 2015 | B13: 16924.75 | D13: =D12+1 -> 9 | E13: #NAME? | O13: p-value | P13: #NAME? | R13: #NAME?
A14: Oct 15, 2015 | B14: 17141.75 | D14: =D13+1 -> 10 | E14: #NAME?
A15: Oct 16, 2015 | B15: 17215.97
A16: Oct 19, 2015 | B16: 17230.54
A17: Oct 20, 2015 | B17: 17217.11
A18: Oct 21, 2015 | B18: 17168.61
A19: Oct 22, 2015 | B19: 17489.16
A20: Oct 23, 2015 | B20: 17646.7
A21: Oct 26, 2015 | B21: 17623.05
A22: Oct 27, 2015 | B22: 17581.43
A23: Oct 28, 2015 | B23: 17779.52
A24: Oct 29, 2015 | B24: 17755.8
A25: Oct 30, 2015 | B25: 17663.54

Sheet PACF 1
A1: Partial Autocorrelation Function (PACF)
A3: Date | B3: Dow | D3: Lag | E3: ACVF | F3: ACF | G3: PACF | I3: 1 | L3: 2 | P3: 3 | U3: 4
A4: 37165 | B4: 16272.01 | D4: 0 | E4: #NAME? | G4: #NAME? | I4: #NAME? | K4: =E4 -> #NAME? | L4: =E5 -> #NAME? | N4: =E4 -> #NAME? | O4: =E5 -> #NAME? | P4: =E6 -> #NAME? | R4: =E4 -> #NAME? | S4: =E5 -> #NAME? | T4: =E6 -> #NAME? | U4: =E7 -> #NAME?
A5: 37530 | B5: 16472.37 | D5: 1 | E5: #NAME? | F5: #NAME? | G5: #NAME? | K5: =L4 -> #NAME? | L5: =K4 -> #NAME? | N5: =O4 -> #NAME? | O5: =N4 -> #NAME? | P5: =O4 -> #NAME? | R5: =S4 -> #NAME? | S5: =R4 -> #NAME? | T5: =S4 -> #NAME? | U5: =T4 -> #NAME?
A6: 38626 | B6: 16776.43 | D6: =D5+1 -> 2 | E6: #NAME? | F6: #NAME? | G6: #NAME? | I6: =E5 -> #NAME? | N6: =P4 -> #NAME? | O6: =P5 -> #NAME? | P6: =O5 -> #NAME? | R6: =T4 -> #NAME? | S6: =T5 -> #NAME? | T6: =S5 -> #NAME? | U6: =T5 -> #NAME?
A7: 38991 | B7: 16790.19 | D7: =D6+1 -> 3 | E7: #NAME? | F7: #NAME? | G7: #NAME? | K7: =E5 -> #NAME? | R7: =U4 -> #NAME? | S7: =U5 -> #NAME? | T7: =U6 -> #NAME? | U7: =T6 -> #NAME?
A8: 39356 | B8: 16912.29 | D8: =D7+1 -> 4 | E8: #NAME? | F8: #NAME? | G8: #NAME? | I8: {=MMULT(MINVERSE(I4),I6)} -> #NAME? | K8: =E6 -> #NAME? | N8: =E5 -> #NAME? | P8: {=MMULT(MINVERSE(N4:P6),N8:N10)} -> #NAME?
A9: 39722 | B9: 17050.75 | D9: =D8+1 -> 5 | E9: #NAME? | F9: #NAME? | G9: #NAME? | N9: =E6 -> #NAME? | P9: #NAME? | R9: =E5 -> #NAME? | T9: {=MMULT(MINVERSE(R4:U7),R9:R12)} -> #NAME?
A10: 40087 | B10: 17084.49 | D10: =D9+1 -> 6 | E10: #NAME? | F10: #NAME? | G10: #NAME? | K10: {=MMULT(MINVERSE(K4:L5),K7:K8)} -> #NAME? | N10: =E7 -> #NAME? | P10: #NAME? | R10: =E6 -> #NAME? | T10: #NAME?
A11: 41183 | B11: 17131.86 | D11: =D10+1 -> 7 | E11: #NAME? | F11: #NAME? | G11: #NAME? | K11: #NAME? | R11: =E7 -> #NAME? | T11: #NAME?
A12: 41548 | B12: 17081.89 | R12: =E8 -> #NAME? | T12: #NAME?
A13: 41913 | B13: 16924.75 | F13: p4 | G13: #NAME?
A14: 42278 | B14: 17141.75 | F14: p2,4 | G14: #NAME? | R14: {=R4:U7/E4} -> #NAME? | S14: #NAME? | T14: #NAME? | U14: #NAME? | W14: #NAME? | X14: #NAME? | Y14: #NAME? | Z14: #NAME?
A15: 42644 | B15: 17215.97 | R15: #NAME? | S15: #NAME? | T15: #NAME? | U15: #NAME? | W15: #NAME? | X15: #NAME? | Y15: #NAME? | Z15: #NAME?
A16: 43739 | B16: 17230.54 | R16: #NAME? | S16: #NAME? | T16: #NAME? | U16: #NAME? | W16: #NAME? | X16: #NAME? | Y16: #NAME? | Z16: #NAME?
A17: 44105 | B17: 17217.11 | R17: #NAME? | S17: #NAME? | T17: #NAME? | U17: #NAME? | W17: #NAME? | X17: #NAME? | Y17: #NAME? | Z17: #NAME?
A18: 44470 | B18: 17168.61
A19: 44835 | B19: 17489.16 | I19: #NAME? | K19: #NAME? | L19: #NAME? | N19: #NAME? | O19: #NAME? | P19: #NAME?
A20: 45200 | B20: 17646.7 | K20: #NAME? | L20: #NAME? | N20: #NAME? | O20: #NAME? | P20: #NAME?
A21: 46296 | B21: 17623.05 | I21: #NAME? | N21: #NAME? | O21: #NAME? | P21: #NAME?
A22: 46661 | B22: 17581.43 | K22: #NAME?
A23: 47027 | B23: 17779.52 | N23: #NAME?
A24: 47392 | B24: 17755.8
A25: 11232 | B25: 17663.54
J27: Bartlett
J29: n | K29: =COUNT(B4:B25) -> 22 | M29: #NAME?
J30: s.e. | K30: =1/SQRT(K29) -> 0.21320072 | M30: #NAME?
J31: alpha | K31: 0.05
J32: crit | K32: =NORMINV(1-K31/2,0,K30) -> 0.4178657 | M32: =NORM.INV(1-P5/2,0,P4)
J33: k | K33: 2
J34: PACF | K34: =G6 -> #NAME? | M34: #NAME?
J35: p-value | K35: =1-NORMDIST(K34,0,K30,TRUE) -> #NAME? | M35: =1-NORM.DIST(K34,0,K30,TRUE)
J36: sig | K36: =IF(K34>K32,"yes","no") -> #NAME? | M36: #NAME?

Sheet Correlogram
A1: Correlogram
A3: data | C3: Correlogram | E3: alpha | F3: 0.05 | P3: Correlogram | R3: alpha | S3: 0.05
A4: 10.31778
A5: 10.292349 | C5: lags | D5: acf | E5: lower | F5: upper | P5: lags | Q5: pacf | R5: lower | S5: upper
A6: 10.300752 | C6: 0 | D6: #NAME? | P6: 0 | Q6: #NAME?
A7: 10.292078 | C7: =C6+1 -> 1 | D7: #NAME? | E7: =-F7 -> -0.26191119 | F7: =NORMSINV(1-$F$3/2)/SQRT(COUNT($A$4:$A$59)) -> 0.26191119 | P7: =P6+1 -> 1 | Q7: #NAME? | R7: =-S7 -> -0.26191119 | S7: =NORMSINV(1-$S$3/2)/SQRT(COUNT(A4:A59)) -> 0.26191119
A8: 10.313044 | C8: =C7+1 -> 2 | D8: #NAME? | E8: =-F8 -> #NAME? | F8: =NORMSINV(1-$F$3/2)*SQRT((1+2*SUMSQ(D$7:D7))/COUNT($A$4:$A$59)) -> #NAME? | P8: =P7+1 -> 2 | Q8: #NAME? | R8: =R7 -> -0.26191119 | S8: =S7 -> 0.26191119
A9: 10.32042 | C9: =C8+1 -> 3 | D9: #NAME? | E9: =-F9 -> #NAME? | F9: =NORMSINV(1-$F$3/2)*SQRT((1+2*SUMSQ(D$7:D8))/COUNT($A$4:$A$59)) -> #NAME? | P9: =P8+1 -> 3 | Q9: #NAME? | R9: =R8 -> -0.26191119 | S9: =S8 -> 0.26191119
A10: 10.366435 | C10: =C9+1 -> 4 | D10: #NAME? | E10: =-F10 -> #NAME? | F10: =NORMSINV(1-$F$3/2)*SQRT((1+2*SUMSQ(D$7:D9))/COUNT($A$4:$A$59)) -> #NAME? | P10: =P9+1 -> 4 | Q10: #NAME? | R10: =R9 -> -0.26191119 | S10: =S9 -> 0.26191119
A11: 10.367442 | C11: =C10+1 -> 5 | D11: #NAME? | E11: =-F11 -> #NAME? | F11: =NORMSINV(1-$F$3/2)*SQRT((1+2*SUMSQ(D$7:D10))/COUNT($A$4:$A$59)) -> #NAME? | P11: =P10+1 -> 5 | Q11: #NAME? | R11: =R10 -> -0.26191119 | S11: =S10 -> 0.26191119
A12: 10.395528 | C12: =C11+1 -> 6 | D12: #NAME? | E12: =-F12 -> #NAME? | F12: =NORMSINV(1-$F$3/2)*SQRT((1+2*SUMSQ(D$7:D11))/COUNT($A$4:$A$59)) -> #NAME? | P12: =P11+1 -> 6 | Q12: #NAME? | R12: =R11 -> -0.26191119 | S12: =S11 -> 0.26191119
A13: 10.485619 | C13: =C12+1 -> 7 | D13: #NAME? | E13: =-F13 -> #NAME? | F13: =NORMSINV(1-$F$3/2)*SQRT((1+2*SUMSQ(D$7:D12))/COUNT($A$4:$A$59)) -> #NAME? | P13: =P12+1 -> 7 | Q13: #NAME? | R13: =R12 -> -0.26191119 | S13: =S12 -> 0.26191119
A14: 10.476189 | C14: =C13+1 -> 8 | D14: #NAME? | E14: =-F14 -> #NAME? | F14: =NORMSINV(1-$F$3/2)*SQRT((1+2*SUMSQ(D$7:D13))/COUNT($A$4:$A$59)) -> #NAME? | P14: =P13+1 -> 8 | Q14: #NAME? | R14: =R13 -> -0.26191119 | S14: =S13 -> 0.26191119
A15: 10.46396 | C15: =C14+1 -> 9 | D15: #NAME? | E15: =-F15 -> #NAME? | F15: =NORMSINV(1-$F$3/2)*SQRT((1+2*SUMSQ(D$7:D14))/COUNT($A$4:$A$59)) -> #NAME? | P15: =P14+1 -> 9 | Q15: #NAME? | R15: =R14 -> -0.26191119 | S15: =S14 -> 0.26191119
A16: 10.341452 | C16: =C15+1 -> 10 | D16: #NAME? | E16: =-F16 -> #NAME? | F16: =NORMSINV(1-$F$3/2)*SQRT((1+2*SUMSQ(D$7:D15))/COUNT($A$4:$A$59)) -> #NAME? | P16: =P15+1 -> 10 | Q16: #NAME? | R16: =R15 -> -0.26191119 | S16: =S15 -> 0.26191119
A17: 10.402473 | C17: =C16+1 -> 11 | D17: #NAME? | E17: =-F17 -> #NAME? | F17: =NORMSINV(1-$F$3/2)*SQRT((1+2*SUMSQ(D$7:D16))/COUNT($A$4:$A$59)) -> #NAME? | P17: =P16+1 -> 11 | Q17: #NAME? | R17: =R16 -> -0.26191119 | S17: =S16 -> 0.26191119
A18: 10.391577 | C18: =C17+1 -> 12 | D18: #NAME? | E18: =-F18 -> #NAME? | F18: =NORMSINV(1-$F$3/2)*SQRT((1+2*SUMSQ(D$7:D17))/COUNT($A$4:$A$59)) -> #NAME? | P18: =P17+1 -> 12 | Q18: #NAME? | R18: =R17 -> -0.26191119 | S18: =S17 -> 0.26191119
A19: 10.355168 | C19: =C18+1 -> 13 | D19: #NAME? | E19: =-F19 -> #NAME? | F19: =NORMSINV(1-$F$3/2)*SQRT((1+2*SUMSQ(D$7:D18))/COUNT($A$4:$A$59)) -> #NAME? | P19: =P18+1 -> 13 | Q19: #NAME? | R19: =R18 -> -0.26191119 | S19: =S18 -> 0.26191119
... A36: 10.502214 | C36: =C35+1 -> 30 | D36: #NAME? | E36: =-F36 -> #NAME? | F36: =NORMSINV(1-$F$3/2)*SQRT((1+2*SUMSQ(D$7:D35))/COUNT($A$4:$A$59)) -> #NAME? | P36: =P35+1 -> 30 | Q36: #NAME? | R36: =R35 -> -0.26191119 | S36: =S35 -> 0.26191119
A37: 10.511431
A38: 10.488242
A39: 10.453457
A40: 10.461216
A41: 10.451551
A42: 10.454293
A43: 10.464303
A44: 10.473817
A45: 10.479286
A46: 10.48891
A47: 10.502983
A48: 10.561862
... A59: 10.625265

Sheet WN 1
A1: White Noise
A3: 1 | B3: -0.87534793 | D3: Lag | E3: ACF | F3: PACF
A4: =A3+1 -> 2 | B4: 2.1810847 | D4: 1 | E4: #NAME? | F4: #NAME?
A5: =A4+1 -> 3 | B5: -0.74146415 | D5: =D4+1 -> 2 | E5: #NAME? | F5: #NAME?
A6: =A5+1 -> 4 | B6: 0.79927288 | D6: =D5+1 -> 3 | E6: #NAME? | F6: #NAME?
A7: =A6+1 -> 5 | B7: 1.3671695 | D7: =D6+1 -> 4 | E7: #NAME? | F7: #NAME?
A8: =A7+1 -> 6 | B8: 0.89321583 | D8: =D7+1 -> 5 | E8: #NAME? | F8: #NAME?
A9: =A8+1 -> 7 | B9: 0.60867978 | D9: =D8+1 -> 6 | E9: #NAME? | F9: #NAME?
A10: =A9+1 -> 8 | B10: 0.079728609 | D10: =D9+1 -> 7 | E10: #NAME? | F10: #NAME?
A11: =A10+1 -> 9 | B11: 0.10834484 | D11: =D10+1 -> 8 | E11: #NAME? | F11: #NAME?
A12: =A11+1 -> 10 | B12: 0.97544728 | D12: =D11+1 -> 9 | E12: #NAME? | F12: #NAME?
A13: =A12+1 -> 11 | B13: -0.045408091 | D13: =D12+1 -> 10 | E13: #NAME? | F13: #NAME?
A14: =A13+1 -> 12 | B14: -1.6656957 | D14: =D13+1 -> 11 | E14: #NAME? | F14: #NAME?
A15: =A14+1 -> 13 | B15: -0.69961361 | D15: =D14+1 -> 12 | E15: #NAME? | F15: #NAME?
A16: =A15+1 -> 14 | B16: 0.73776091 | D16: =D15+1 -> 13 | E16: #NAME? | F16: #NAME?
... A18: =A17+1 -> 16 | B18: -0.084435176 | D18: =D17+1 -> 15 | E18: #NAME? | F18: #NAME?
A19: =A18+1 -> 17 | B19: 0.85106579 | D19: =D18+1 -> 16 | E19: #NAME? | F19: #NAME? | Q19: Confidence Interval | T19: Ljung-Box Test
A20: =A19+1 -> 18 | B20: -1.7562333 | D20: =D19+1 -> 17 | E20: #NAME? | F20: #NAME?
A21: =A20+1 -> 19 | B21: 0.055644922 | D21: =D20+1 -> 18 | E21: #NAME? | F21: #NAME? | Q21: conf int | R21: =NORMSINV(0.975)/SQRT(300) -> 0.11315857 | T21: n | U21: =A302 -> 300
A22: =A21+1 -> 20 | B22: -1.4999753 | D22: =D21+1 -> 19 | E22: #NAME? | F22: #NAME? | Q22: right crit | R22: =COUNTIF(E4:E43,">="&R21) -> 0 | T22: df | U22: =D43 -> 40
A23: =A22+1 -> 21 | B23: 1.3121465 | D23: =D22+1 -> 20 | E23: #NAME? | F23: #NAME? | Q23: left crit | R23: =COUNTIF(E4:E43,"<="&-R21) -> 0 | T23: alpha | U23: 0.05
A24: =A23+1 -> 22 | B24: -0.92935196 | D24: =D23+1 -> 21 | E24: #NAME? | F24: #NAME? | T24: crit | U24: =CHIINV(U23/2,U22) -> 59.341698
A25: =A24+1 -> 23 | B25: -0.74417827 | D25: =D24+1 -> 22 | E25: #NAME? | F25: #NAME? | T25: LB | U25: =U21*(U21+2)*SUMPRODUCT((E4:E43)^2/(U21-E4:E43)) -> #NAME?
A26: =A25+1 -> 24 | B26: -0.8098411 | D26: =D25+1 -> 23 | E26: #NAME? | F26: #NAME? | T26: p-value | U26: =CHIDIST(U25,U22) -> #NAME?
A27: =A26+1 -> 25 | B27: -0.77945229 | D27: =D26+1 -> 24 | E27: #NAME? | F27: #NAME? | T27: sig | U27: =IF(U26<U23,"yes","no") -> #NAME?
A28: =A27+1 -> 26 | B28: -0.89700177 | D28: =D27+1 -> 25 | E28: #NAME? | F28: #NAME?
A29: =A28+1 -> 27 | B29: -0.92377469 | D29: =D28+1 -> 26 | E29: #NAME? | F29: #NAME?
A30: =A29+1 -> 28 | B30: 0.39381573 | D30: =D29+1 -> 27 | E30: #NAME? | F30: #NAME?
A31: =A30+1 -> 29 | B31: 0.26044842 | D31: =D30+1 -> 28 | E31: #NAME? | F31: #NAME?
A32: =A31+1 -> 30 | B32: -0.73046412 | D32: =D31+1 -> 29 | E32: #NAME? | F32: #NAME?
A33: =A32+1 -> 31 | B33: -1.3223939 | D33: =D32+1 -> 30 | E33: #NAME? | F33: #NAME?
A34: =A33+1 -> 32 | B34: -0.3751385 | D34: =D33+1 -> 31 | E34: #NAME? | F34: #NAME?
A35: =A34+1 -> 33 | B35: -0.17790958 | D35: =D34+1 -> 32 | E35: #NAME? | F35: #NAME?
A36: =A35+1 -> 34 | B36: 0.18760947 | D36: =D35+1 -> 33 | E36: #NAME? | F36: #NAME?
A37: =A36+1 -> 35 | B37: 0.64942363 | D37: =D36+1 -> 34 | E37: #NAME? | F37: #NAME?
A38: =A37+1 -> 36 | B38: -0.83782676 | D38: =D37+1 -> 35 | E38: #NAME? | F38: #NAME?
A39: =A38+1 -> 37 | B39: -0.25645273 | D39: =D38+1 -> 36 | E39: #NAME? | F39: #NAME?
... A43: =A42+1 -> 41 | B43: -0.64774417 | D43: =D42+1 -> 40 | E43: #NAME? | F43: #NAME?
A44: =A43+1 -> 42 | B44: 0.23112219
A45: =A44+1 -> 43 | B45: -1.1908591
A46: =A45+1 -> 44 | B46: -0.5869784
A47: =A46+1 -> 45 | B47: 0.14645782
A48: =A47+1 -> 46 | B48: 0.5111848 | D48: var | E48: =VAR(B3:B302) -> 1.0092262
A49: =A48+1 -> 47 | B49: 0.4128321
A50: =A49+1 -> 48 | B50: -1.1518928
A51: =A50+1 -> 49 | B51: -1.7145003
A52: =A51+1 -> 50 | B52: -0.67634312
A53: =A52+1 -> 51 | B53: -1.7051703
A54: =A53+1 -> 52 | B54: 0.92720693
A55: =A54+1 -> 53 | B55: 0.7986775
A56: =A55+1 -> 54 | B56: -1.9186791
A57: =A56+1 -> 55 | B57: -0.21246685
A58: =A57+1 -> 56 | B58: 0.2234776
A59: =A58+1 -> 57 | B59: -0.69417844
A60: =A59+1 -> 58 | B60: -0.52508802
... A302: =A301+1 -> 300 | B302: 2.0122453

Sheet RW 1
A1: Random Walk
B3: Residual | C3: Y | E3: Lag | F3: ACF
A4: 1 | B4: 0.52844539 | C4: =1+B4 -> 1.5284454 | E4: 1 | F4: #NAME?
A5: =A4+1 -> 2 | B5: -0.54093604 | C5: =1+C4+B5 -> 1.9875094 | E5: =E4+1 -> 2 | F5: #NAME?
A6: =A5+1 -> 3 | B6: 1.2017515 | C6: =1+C5+B6 -> 4.1892608 | E6: =E5+1 -> 3 | F6: #NAME?
A7: =A6+1 -> 4 | B7: -0.20977118 | C7: =1+C6+B7 -> 4.9794896 | E7: =E6+1 -> 4 | F7: #NAME?
A8: =A7+1 -> 5 | B8: 0.12407124 | C8: =1+C7+B8 -> 6.1035609 | E8: =E7+1 -> 5 | F8: #NAME?
A9: =A8+1 -> 6 | B9: 0.30824899 | C9: =1+C8+B9 -> 7.4118099 | E9: =E8+1 -> 6 | F9: #NAME?
A10: =A9+1 -> 7 | B10: -0.48565773 | C10: =1+C9+B10 -> 7.9261521 | E10: =E9+1 -> 7 | F10: #NAME?
A11: =A10+1 -> 8 | B11: -0.39680993 | C11: =1+C10+B11 -> 8.5293422
A12: =A11+1 -> 9 | B12: 0.021439211 | C12: =1+C11+B12 -> 9.5507814 | E12: Ljung-Box | F12: #NAME?
A13: =A12+1 -> 10 | B13: -0.40173691 | C13: =1+C12+B13 -> 10.149045 | E13: p-value | F13: #NAME?
A14: =A13+1 -> 11 | B14: -0.11847396 | C14: =1+C13+B14 -> 11.030571
A15: =A14+1 -> 12 | B15: 0.76264316 | C15: =1+C14+B15 -> 12.793214
A16: =A15+1 -> 13 | B16: 1.1477413 | C16: =1+C15+B16 -> 14.940955
A17: =A16+1 -> 14 | B17: -0.26551095 | C17: =1+C16+B17 -> 15.675444
A18: =A17+1 -> 15 | B18: -0.40737495 | C18: =1+C17+B18 -> 16.268069
A19: =A18+1 -> 16 | B19: -0.54822366 | C19: =1+C18+B19 -> 16.719845
A20: =A19+1 -> 17 | B20: -0.18775562 | C20: =1+C19+B20 -> 17.53209
A21: =A20+1 -> 18 | B21: 0.21686806 | C21: =1+C20+B21 -> 18.748958
A22: =A21+1 -> 19 | B22: -0.3507473 | C22: =1+C21+B22 -> 19.398211
A23: =A22+1 -> 20 | B23: -0.88846167 | C23: =1+C22+B23 -> 19.509749
B25: B1 | C25: =NORM.INV(RAND(),0,.5)
B26: C1 | C26: #NAME?
B27: C2 | C27: #NAME?

Sheet RW 1a
A1: Random Walk
B3: Y | C3: Diff | E3: Lag | F3: ACF
A4: 1 | B4: ='RW 1'!C4 -> 1.5284454 | E4: 1 | F4: #NAME?
A5: =A4+1 -> 2 | B5: ='RW 1'!C5 -> 1.9875094 | C5: =B5-B4 -> 0.45906396 | E5: =E4+1 -> 2 | F5: #NAME?
A6: =A5+1 -> 3 | B6: ='RW 1'!C6 -> 4.1892608 | C6: =B6-B5 -> 2.2017515 | E6: =E5+1 -> 3 | F6: #NAME?
A7: =A6+1 -> 4 | B7: ='RW 1'!C7 -> 4.9794896 | C7: =B7-B6 -> 0.79022882 | E7: =E6+1 -> 4 | F7: #NAME?
A8: =A7+1 -> 5 | B8: ='RW 1'!C8 -> 6.1035609 | C8: =B8-B7 -> 1.1240712 | E8: =E7+1 -> 5 | F8: #NAME?
A9: =A8+1 -> 6 | B9: ='RW 1'!C9 -> 7.4118099 | C9: =B9-B8 -> 1.308249 | E9: =E8+1 -> 6 | F9: #NAME?
A10: =A9+1 -> 7 | B10: ='RW 1'!C10 -> 7.9261521 | C10: =B10-B9 -> 0.51434227 | E10: =E9+1 -> 7 | F10: #NAME?
A11: =A10+1 -> 8 | B11: ='RW 1'!C11 -> 8.5293422 | C11: =B11-B10 -> 0.60319007
A12: =A11+1 -> 9 | B12: ='RW 1'!C12 -> 9.5507814 | C12: =B12-B11 -> 1.0214392 | E12: Ljung-Box | F12: #NAME?
A13: =A12+1 -> 10 | B13: ='RW 1'!C13 -> 10.149045 | C13: =B13-B12 -> 0.59826309 | E13: p-value | F13: #NAME?
A14: =A13+1 -> 11 | B14: ='RW 1'!C14 -> 11.030571 | C14: =B14-B13 -> 0.88152604
A15: =A14+1 -> 12 | B15: ='RW 1'!C15 -> 12.793214 | C15: =B15-B14 -> 1.7626432
A16: =A15+1 -> 13 | B16: ='RW 1'!C16 -> 14.940955 | C16: =B16-B15 -> 2.1477413
A17: =A16+1 -> 14 | B17: ='RW 1'!C17 -> 15.675444 | C17: =B17-B16 -> 0.73448905
A18: =A17+1 -> 15 | B18: ='RW 1'!C18 -> 16.268069 | C18: =B18-B17 -> 0.59262505
A19: =A18+1 -> 16 | B19: ='RW 1'!C19 -> 16.719845 | C19: =B19-B18 -> 0.45177634
A20: =A19+1 -> 17 | B20: ='RW 1'!C20 -> 17.53209 | C20: =B20-B19 -> 0.81224438
A21: =A20+1 -> 18 | B21: ='RW 1'!C21 -> 18.748958 | C21: =B21-B20 -> 1.2168681
A22: =A21+1 -> 19 | B22: ='RW 1'!C22 -> 19.398211 | C22: =B22-B21 -> 0.6492527
A23: =A22+1 -> 20 | B23: ='RW 1'!C23 -> 19.509749 | C23: =B23-B22 -> 0.11153833
B25: B1 | C25: #NAME?
B26: C1 | C26: #NAME?
B27: C2 | C27: #NAME?

Sheet DT 1
A1: Deterministic Trend
B3: Residual | C3: Y | E3: Lag | F3: ACF
A4: 1 | B4: 0.92105927 | C4: =A4+B4 -> 1.9210593 | E4: 1 | F4: #NAME?
A5: =A4+1 -> 2 | B5: -0.13841982 | C5: =A5+B5 -> 1.8615802 | E5: =E4+1 -> 2 | F5: #NAME?
A6: =A5+1 -> 3 | B6: 1.1781452 | C6: =A6+B6 -> 4.1781452 | E6: =E5+1 -> 3 | F6: #NAME?
A7: =A6+1 -> 4 | B7: 0.27578309 | C7: =A7+B7 -> 4.2757831 | E7: =E6+1 -> 4 | F7: #NAME?
A8: =A7+1 -> 5 | B8: 0.74754162 | C8: =A8+B8 -> 5.7475416 | E8: =E7+1 -> 5 | F8: #NAME?
A9: =A8+1 -> 6 | B9: 1.2179009 | C9: =A9+B9 -> 7.2179009 | E9: =E8+1 -> 6 | F9: #NAME?
A10: =A9+1 -> 7 | B10: -0.68939665 | C10: =A10+B10 -> 6.3106034 | E10: =E9+1 -> 7 | F10: #NAME?
A11: =A10+1 -> 8 | B11: -0.906466 | C11: =A11+B11 -> 7.093534
A12: =A11+1 -> 9 | B12: 0.98723265 | C12: =A12+B12 -> 9.9872327 | E12: Ljung-Box | F12: #NAME?
A13: =A12+1 -> 10 | B13: 0.11392742 | C13: =A13+B13 -> 10.113927 | E13: p-value | F13: #NAME?
A14: =A13+1 -> 11 | B14: 2.2363177 | C14: =A14+B14 -> 13.236318
A15: =A14+1 -> 12 | B15: 0.35867535 | C15: =A15+B15 -> 12.358675
A16: =A15+1 -> 13 | B16: -0.51422501 | C16: =A16+B16 -> 12.485775
A17: =A16+1 -> 14 | B17: 1.338981 | C17: =A17+B17 -> 15.338981
A18: =A17+1 -> 15 | B18: -1.0881663 | C18: =A18+B18 -> 13.911834
A19: =A18+1 -> 16 | B19: 1.141485 | C19: =A19+B19 -> 17.141485
A20: =A19+1 -> 17 | B20: -0.81466303 | C20: =A20+B20 -> 16.185337
A21: =A20+1 -> 18 | B21: 2.1576337 | C21: =A21+B21 -> 20.157634
A22: =A21+1 -> 19 | B22: -0.30655223 | C22: =A22+B22 -> 18.693448
A23: =A22+1 -> 20 | B23: -0.11064847 | C23: =A23+B23 -> 19.889352
B25: B1 | C25: =NORM.INV(RAND(),0,1)
B26: C1 | C26: #NAME?
B27: C2 | C27: #NAME?

Sheet DT 1a
A1: Deterministic Trend
B3: Y | C3: Detrend | E3: Lag | F3: ACF
A4: 1 | B4: ='DT 1'!C4 -> 1.9210593 | C4: =B4-A4 -> 0.92105927 | E4: 1 | F4: #NAME?
A5: =A4+1 -> 2 | B5: ='DT 1'!C5 -> 1.8615802 | C5: =B5-A5 -> -0.13841982 | E5: =E4+1 -> 2 | F5: #NAME?
A6: =A5+1 -> 3 | B6: ='DT 1'!C6 -> 4.1781452 | C6: =B6-A6 -> 1.1781452 | E6: =E5+1 -> 3 | F6: #NAME?
A7: =A6+1 -> 4 | B7: ='DT 1'!C7 -> 4.2757831 | C7: =B7-A7 -> 0.27578309 | E7: =E6+1 -> 4 | F7: #NAME?
A8: =A7+1 -> 5 | B8: ='DT 1'!C8 -> 5.7475416 | C8: =B8-A8 -> 0.74754162 | E8: =E7+1 -> 5 | F8: #NAME?
A9: =A8+1 -> 6 | B9: ='DT 1'!C9 -> 7.2179009 | C9: =B9-A9 -> 1.2179009 | E9: =E8+1 -> 6 | F9: #NAME?
A10: =A9+1 -> 7 | B10: ='DT 1'!C10 -> 6.3106034 | C10: =B10-A10 -> -0.68939665 | E10: =E9+1 -> 7 | F10: #NAME?
A11: =A10+1 -> 8 | B11: ='DT 1'!C11 -> 7.093534 | C11: =B11-A11 -> -0.906466
A12: =A11+1 -> 9 | B12: ='DT 1'!C12 -> 9.9872327 | C12: =B12-A12 -> 0.98723265 | E12: Ljung-Box | F12: #NAME?
A13: =A12+1 -> 10 | B13: ='DT 1'!C13 -> 10.113927 | C13: =B13-A13 -> 0.11392742 | E13: p-value | F13: #NAME?
A14: =A13+1 -> 11 | B14: ='DT 1'!C14 -> 13.236318 | C14: =B14-A14 -> 2.2363177
A15: =A14+1 -> 12 | B15: ='DT 1'!C15 -> 12.358675 | C15: =B15-A15 -> 0.35867535
A16: =A15+1 -> 13 | B16: ='DT 1'!C16 -> 12.485775 | C16: =B16-A16 -> -0.51422501
A17: =A16+1 -> 14 | B17: ='DT 1'!C17 -> 15.338981 | C17: =B17-A17 -> 1.338981
A18: =A17+1 -> 15 | B18: ='DT 1'!C18 -> 13.911834 | C18: =B18-A18 -> -1.0881663
A19: =A18+1 -> 16 | B19: ='DT 1'!C19 -> 17.141485 | C19: =B19-A19 -> 1.141485
A20: =A19+1 -> 17 | B20: ='DT 1'!C20 -> 16.185337 | C20: =B20-A20 -> -0.81466303
A21: =A20+1 -> 18 | B21: ='DT 1'!C21 -> 20.157634 | C21: =B21-A21 -> 2.1576337
A22: =A21+1 -> 19 | B22: ='DT 1'!C22 -> 18.693448 | C22: =B22-A22 -> -0.30655223
A23: =A22+1 -> 20 | B23: ='DT 1'!C23 -> 19.889352 | C23: =B23-A23 -> -0.11064847
B25: B1 | C25: #NAME?
B26: C1 | C26: #NAME?
B27: C2 | C27: #NAME?

Sheet Test 1
A1: Time Series Testing data analysis tool
A3: Date | B3: Dow | D3: Diff Data: | E3: 0 | G3: Autcorrelation | J3: White noise test: | L3: acf | O3: ADF Test
A4: Oct 1, 2015 | B4: 16272.01
A5: Oct 2, 2015 | B5: 16472.37 | D5: time | E5: data | G5: lag | H5: acf | J5: test | K5: lag | L5: stat | M5: p-value | O5: criteria | P5: schwert
A6: Oct 5, 2015 | B6: 16776.43 | D6: 1 | E6: #NAME? | G6: 1 | H6: #NAME? | J6: ljung-box | K6: 5 | L6: #NAME? | M6: =CHIDIST(L6,K6) -> #NAME? | O6: drift | P6: yes
A7: Oct 6, 2015 | B7: 16790.19 | D7: =D6+1 -> 2 | E7: #NAME? | G7: =G6+1 -> 2 | H7: #NAME? | O7: trend | P7: no
A8: Oct 7, 2015 | B8: 16912.29 | D8: =D7+1 -> 3 | E8: #NAME? | G8: =G7+1 -> 3 | H8: #NAME? | O8: lag | P8: =IF(P5<>"schwert",0,ROUND(12*(COUNT(E6:E27)/100)^(1/4),0)) -> 0
A9: Oct 8, 2015 | B9: 17050.75 | D9: =D8+1 -> 4 | E9: #NAME? | G9: =G8+1 -> 4 | H9: #NAME? | O9: alpha | P9: 0.05
A10: Oct 9, 2015 | B10: 17084.49 | D10: =D9+1 -> 5 | E10: #NAME? | G10: =G9+1 -> 5 | H10: #NAME?
A11: Oct 12, 2015 | B11: 17131.86 | D11: =D10+1 -> 6 | E11: #NAME? | O11: #NAME? | P11: #NAME?
A12: Oct 13, 2015 | B12: 17081.89 | D12: =D11+1 -> 7 | E12: #NAME? | O12: #NAME? | P12: #NAME?
A13: Oct 14, 2015 | B13: 16924.75 | D13: =D12+1 -> 8 | E13: #NAME? | O13: #NAME? | P13: #NAME?
A14: Oct 15, 2015 | B14: 17141.75 | D14: =D13+1 -> 9 | E14: #NAME? | O14: #NAME? | P14: #NAME?
A15: Oct 16, 2015 | B15: 17215.97 | D15: =D14+1 -> 10 | E15: #NAME? | O15: #NAME? | P15: #NAME?
A16: Oct 19, 2015 | B16: 17230.54 | D16: =D15+1 -> 11 | E16: #NAME? | O16: #NAME? | P16: #NAME?
A17: Oct 20, 2015 | B17: 17217.11 | D17: =D16+1 -> 12 | E17: #NAME? | O17: #NAME? | P17: #NAME?
A18: Oct 21, 2015 | B18: 17168.61 | D18: =D17+1 -> 13 | E18: #NAME? | O18: #NAME? | P18: #NAME?
A19: Oct 22, 2015 | B19: 17489.16 | D19: =D18+1 -> 14 | E19: #NAME?
A20: Oct 23, 2015 | B20: 17646.7 | D20: =D19+1 -> 15 | E20: #NAME?
A21: Oct 26, 2015 | B21: 17623.05 | D21: =D20+1 -> 16 | E21: #NAME?
A22: Oct 27, 2015 | B22: 17581.43 | D22: =D21+1 -> 17 | E22: #NAME?
A23: Oct 28, 2015 | B23: 17779.52 | D23: =D22+1 -> 18 | E23: #NAME?
A24: Oct 29, 2015 | B24: 17755.8 | D24: =D23+1 -> 19 | E24: #NAME?
A25: Oct 30, 2015 | B25: 17663.54 | D25: =D24+1 -> 20 | E25: #NAME?
D26: =D25+1 -> 21 | E26: #NAME?
D27: =D26+1 -> 22 | E27: #NAME?

Sheet Test 2
A1: Time Series Testing data analysis tool with differencing
A3: Date | B3: Dow | D3: Diff Data: | E3: 1 | G3: Autcorrelation | J3: White noise test: | L3: acf | O3: ADF Test
A4: Oct 1, 2015 | B4: 16272.01
A5: Oct 2, 2015 | B5: 16472.37 | D5: time | E5: data | G5: lag | H5: acf | J5: test | K5: lag | L5: stat | M5: p-value | O5: criteria | P5: schwert
A6: Oct 5, 2015 | B6: 16776.43 | D6: 1 | E6: #NAME? | G6: 1 | H6: #NAME? | J6: ljung-box | K6: 5 | L6: #NAME? | M6: =CHIDIST(L6,K6) -> #NAME? | O6: drift | P6: no
A7: Oct 6, 2015 | B7: 16790.19 | D7: =D6+1 -> 2 | E7: #NAME? | G7: =G6+1 -> 2 | H7: #NAME? | O7: trend | P7: no
A8: Oct 7, 2015 | B8: 16912.29 | D8: =D7+1 -> 3 | E8: #NAME? | G8: =G7+1 -> 3 | H8: #NAME? | O8: lag | P8: =IF(P5<>"schwert",0,ROUND(12*(COUNT(E6:E26)/100)^(1/4),0)) -> 0
A9: Oct 8, 2015 | B9: 17050.75 | D9: =D8+1 -> 4 | E9: #NAME? | G9: =G8+1 -> 4 | H9: #NAME? | O9: alpha | P9: 0.05
A10: Oct 9, 2015 | B10: 17084.49 | D10: =D9+1 -> 5 | E10: #NAME? | G10: =G9+1 -> 5 | H10: #NAME?
A11: Oct 12, 2015 | B11: 17131.86 | D11: =D10+1 -> 6 | E11: #NAME? | O11: #NAME? | P11: #NAME?
A12: Oct 13, 2015 | B12: 17081.89 | D12: =D11+1 -> 7 | E12: #NAME? | O12: #NAME? | P12: #NAME?
A13: Oct 14, 2015 | B13: 16924.75 | D13: =D12+1 -> 8 | E13: #NAME? | O13: #NAME? | P13: #NAME?
A14: Oct 15, 2015 | B14: 17141.75 | D14: =D13+1 -> 9 | E14: #NAME? | O14: #NAME? | P14: #NAME?
A15: Oct 16, 2015 | B15: 17215.97 | D15: =D14+1 -> 10 | E15: #NAME? | O15: #NAME? | P15: #NAME?
A16: Oct 19, 2015 | B16: 17230.54 | D16: =D15+1 -> 11 | E16: #NAME? | O16: #NAME? | P16: #NAME?
A17: Oct 20, 2015 | B17: 17217.11 | D17: =D16+1 -> 12 | E17: #NAME? | O17: #NAME? | P17: #NAME?
A18: Oct 21, 2015 | B18: 17168.61 | D18: =D17+1 -> 13 | E18: #NAME? | O18: #NAME? | P18: #NAME?
A19: Oct 22, 2015 | B19: 17489.16 | D19: =D18+1 -> 14 | E19: #NAME?
A20: Oct 23, 2015 | B20: 17646.7 | D20: =D19+1 -> 15 | E20: #NAME?
A21: Oct 26, 2015 | B21: 17623.05 | D21: =D20+1 -> 16 | E21: #NAME?
A22: Oct 27, 2015 | B22: 17581.43 | D22: =D21+1 -> 17 | E22: #NAME?
A23: Oct 28, 2015 | B23: 17779.52 | D23: =D22+1 -> 18 | E23: #NAME?
A24: Oct 29, 2015 | B24: 17755.8 | D24: =D23+1 -> 19 | E24: #NAME?
A25: Oct 30, 2015 | B25: 17663.54 | D25: =D24+1 -> 20 | E25: #NAME?
D26: =D25+1 -> 21 | E26: #NAME?

Sheet DF 0
A1: Dickey-Fuller Test
A3: time | B3: profit | D3: Δ profit | F3: Regression Analysis | N3: DF Test | Q3: Diff Data: | R3: 0 | T3: ADF Test
A4: 1 | B4: 50
A5: =A4+1 -> 2 | B5: 120.83 | D5: =B5-B4 -> 70.83 | F5: OVERALL FIT | N5: n | O5: =A28 -> 25 | Q5: time | R5: data | T5: criteria | U5: none
A6: =A5+1 -> 3 | B6: -25.43 | D6: =B6-B5 -> -146.26 | F6: Multiple R | G6: =SQRT(G7) -> #NAME? | I6: AIC | J6: =G10*LN(H15/G10)+2*G14 -> #NAME? | N6: alpha | O6: =K12 -> 0.05 | Q6: 1 | R6: #NAME? | T6: drift | U6: no
A7: =A6+1 -> 4 | B7: 31.72 | D7: =B7-B6 -> 57.15 | F7: R Square | G7: =H14/H16 -> #NAME? | I7: AICc | J7: =J6+2*(G14+1)*(G14+2)/(G10-G14-2) -> #NAME? | N7: tau | O7: =I19 -> #NAME? | Q7: =Q6+1 -> 2 | R7: #NAME? | T7: trend | U7: no
A8: =A7+1 -> 5 | B8: 94.79 | D8: =B8-B7 -> 63.07 | F8: Adjusted R Square | G8: =1-(1-G7)*G10/(G10-G14) -> #NAME? | I8: BSC | J8: =G10*LN(H15/G10)+G14*LN(G10) -> #NAME? | N8: tau-crit | O8: #NAME? | Q8: =Q7+1 -> 3 | R8: #NAME? | T8: lag | U8: 0
A9: =A8+1 -> 6 | B9: 61.06 | D9: =B9-B8 -> -33.73 | F9: Standard Error | G9: =SQRT(I15) -> #NAME? | N9: stationary | O9: =IF(O7<O8,"yes","no") -> #NAME? | Q9: =Q8+1 -> 4 | R9: #NAME? | T9: alpha | U9: 0.05
A10: =A9+1 -> 7 | B10: 87.51 | D10: =B10-B9 -> 26.45 | F10: Observations | G10: =COUNT(D5:D28) -> 24 | Q10: =Q9+1 -> 5 | R10: #NAME?
A11: =A10+1 -> 8 | B11: -65.88 | D11: =B11-B10 -> -153.39 | Q11: =Q10+1 -> 6 | R11: #NAME? | T11: #NAME? | U11: #NAME?
A12: =A11+1 -> 9 | B12: 30.4 | D12: =B12-B11 -> 96.28 | F12: ANOVA | J12: Alpha | K12: 0.05 | Q12: =Q11+1 -> 7 | R12: #NAME? | T12: #NAME? | U12: #NAME?
A13: =A12+1 -> 10 | B13: 65.49 | D13: =B13-B12 -> 35.09 | G13: df | H13: SS | I13: MS | J13: F | K13: p-value | L13: sig | Q13: =Q12+1 -> 8 | R13: #NAME? | T13: #NAME? | U13: #NAME?
A14: =A13+1 -> 11 | B14: 15.13 | D14: =B14-B13 -> -50.36 | F14: Regression | G14: =COUNT(B4) -> 1 | H14: =SUMSQ(MMULT(B4:B27,G19)) -> #NAME? | I14: =H14/G14 -> #NAME? | J14: =I14/I15 -> #NAME? | K14: =FDIST(J14,G14,G15) -> #NAME? | L14: =IF(K14<K12,"yes","no") -> #NAME? | Q14: =Q13+1 -> 9 | R14: #NAME? | T14: #NAME? | U14: #NAME?
A15: =A14+1 -> 12 | B15: 8.23 | D15: =B15-B14 -> -6.9 | F15: Residual | G15: =G16-G14 -> 23 | H15: =H16-H14 -> #NAME? | I15: =H15/G15 -> #NAME? | Q15: =Q14+1 -> 10 | R15: #NAME? | T15: #NAME? | U15: #NAME?
A16: =A15+1 -> 13 | B16: -18.71 | D16: =B16-B15 -> -26.94 | F16: Total | G16: =G10 -> 24 | H16: =SUMSQ(D5:D28) -> 252859.37 | Q16: =Q15+1 -> 11 | R16: #NAME? | T16: #NAME? | U16: #NAME?
A17: =A16+1 -> 14 | B17: -29.79 | D17: =B17-B16 -> -11.08 | Q17: =Q16+1 -> 12 | R17: #NAME? | T17: #NAME? | U17: #NAME?
A18: =A17+1 -> 15 | B18: -97 | D18: =B18-B17 -> -67.21 | G18: coeff | H18: std err | I18: t stat | J18: p-value | K18: lower | L18: upper | Q18: =Q17+1 -> 13 | R18: #NAME? | T18: #NAME? | U18: #NAME?
A19: =A18+1 -> 16 | B19: 42.43 | D19: =B19-B18 -> 139.43 | F19: Profit | G19: #NAME? | H19: #NAME? | I19: =G19/H19 -> #NAME? | J19: =TDIST(ABS(I19),$G$15,2) -> #NAME? | K19: =G19-TINV(K$12,$G$15)*H19 -> #NAME? | L19: =G19+TINV(K$12,$G$15)*H19 -> #NAME? | Q19: =Q18+1 -> 14 | R19: #NAME?
A20: =A19+1 -> 17 | B20: 258.7 | D20: =B20-B19 -> 216.27 | Q20: =Q19+1 -> 15 | R20: #NAME?
A21: =A20+1 -> 18 | B21: 6.83 | D21: =B21-B20 -> -251.87 | Q21: =Q20+1 -> 16 | R21: #NAME?
A22: =A21+1 -> 19 | B22: 45.63 | D22: =B22-B21 -> 38.8 | Q22: =Q21+1 -> 17 | R22: #NAME?
A23: =A22+1 -> 20 | B23: -56.41 | D23: =B23-B22 -> -102.04 | Q23: =Q22+1 -> 18 | R23: #NAME?
A24: =A23+1 -> 21 | B24: -101.23 | D24: =B24-B23 -> -44.82 | Q24: =Q23+1 -> 19 | R24: #NAME?
A25: =A24+1 -> 22 | B25: -143.21 | D25: =B25-B24 -> -41.98 | Q25: =Q24+1 -> 20 | R25: #NAME?
A26: =A25+1 -> 23 | B26: -286.78 | D26: =B26-B25 -> -143.57 | Q26: =Q25+1 -> 21 | R26: #NAME?
A27: =A26+1 -> 24 | B27: -197.79 | D27: =B27-B26 -> 88.99 | Q27: =Q26+1 -> 22 | R27: #NAME?
A28: =A27+1 -> 25 | B28: -236.75 | D28: =B28-B27 -> -38.96 | Q28: =Q27+1 -> 23 | R28: #NAME?
Q29: =Q28+1 -> 24 | R29: #NAME?
A30: mean | B30: =AVERAGE(B4:B28) -> -13.6092 | Q30: =Q29+1 -> 25 | R30: #NAME?

Sheet DF 1
A1: Dickey-Fuller Test
A3: time | B3: profit | D3: Δ profit | F3: Regression Analysis | N3: DF Test | Q3: Diff Data: | R3: 0 | T3: ADF Test
A4: 1 | B4: 50
A5: =A4+1 -> 2 | B5: 120.83 | D5: =B5-B4 -> 70.83 | F5: OVERALL FIT | N5: n | O5: =A28 -> 25 | Q5: time | R5: data | T5: criteria | U5: none
A6: =A5+1 -> 3 | B6: -25.43 | D6: =B6-B5 -> -146.26 | F6: Multiple R | G6: =SQRT(G7) -> #NAME? | I6: AIC | J6: =G10*LN(H15/G10)+2*(G14+1) -> #NAME? | N6: alpha | O6: =K12 -> 0.05 | Q6: 1 | R6: #NAME? | T6: drift | U6: no
A7: =A6+1 -> 4 | B7: 31.72 | D7: =B7-B6 -> 57.15 | F7: R Square | G7: =H14/H16 -> #NAME? | I7: AICc | J7: =J6+2*(G14+2)*(G14+3)/(G10-G14-3) -> #NAME? | N7: tau | O7: =I20 -> #NAME? | Q7: =Q6+1 -> 2 | R7: #NAME? | T7: trend | U7: no
A8: =A7+1 -> 5 | B8: 94.79 | D8: =B8-B7 -> 63.07 | F8: Adjusted R Square | G8: =1-(1-G7)*(G10-1)/(G10-G14-1) -> #NAME? | I8: SBC | J8: =G10*LN(H15/G10)+(G14+1)*LN(G10) -> #NAME? | N8: tau-crit | O8: #NAME? | Q8: =Q7+1 -> 3 | R8: #NAME? | T8: lag | U8: 0
A9: =A8+1 -> 6 | B9: 61.06 | D9: =B9-B8 -> -33.73 | F9: Standard Error | G9: =SQRT(I15) -> #NAME? | N9: stationary | O9: =IF(O7<O8,"yes","no") -> #NAME? | Q9: =Q8+1 -> 4 | R9: #NAME? | T9: alpha | U9: 0.05
A10: =A9+1 -> 7 | B10: 87.51 | D10: =B10-B9 -> 26.45 | F10: Observations | G10: =COUNT(D5:D28) -> 24 | Q10: =Q9+1 -> 5 | R10: #NAME?
A11: =A10+1 -> 8 | B11: -65.88 | D11: =B11-B10 -> -153.39 | Q11: =Q10+1 -> 6 | R11: #NAME? | T11: #NAME? | U11: #NAME?
A12: =A11+1 -> 9 | B12: 30.4 | D12: =B12-B11 -> 96.28 | F12: ANOVA | J12: Alpha | K12: 0.05 | Q12: =Q11+1 -> 7 | R12: #NAME? | T12: #NAME? | U12: #NAME?
A13: =A12+1 -> 10 | B13: 65.49 | D13: =B13-B12 -> 35.09 | G13: df | H13: SS | I13: MS | J13: F | K13: p-value | L13: sig | Q13: =Q12+1 -> 8 | R13: #NAME? | T13: #NAME? | U13: #NAME?
A14: =A13+1 -> 11 | B14: 15.13 | D14: =B14-B13 -> -50.36 | F14: Regression | G14: =COUNT(B4) -> 1 | H14: #NAME? | I14: =H14/G14 -> #NAME? | J14: =I14/I15 -> #NAME? | K14: =FDIST(J14,G14,G15) -> #NAME? | L14: =IF(K14<K12,"yes","no") -> #NAME? | Q14: =Q13+1 -> 9 | R14: #NAME? | T14: #NAME? | U14: #NAME?
A15: =A14+1 -> 12 | B15: 8.23 | D15: =B15-B14 -> -6.9 | F15: Residual | G15: =G16-G14 -> 22 | H15: =H16-H14 -> #NAME? | I15: =H15/G15 -> #NAME? | Q15: =Q14+1 -> 10 | R15: #NAME? | T15: #NAME? | U15: #NAME?
A16: =A15+1 -> 13 | B16: -18.71 | D16: =B16-B15 -> -26.94 | F16: Total | G16: =G10-1 -> 23 | H16: =DEVSQ(D5:D28) -> 249433.3 | Q16: =Q15+1 -> 11 | R16: #NAME? | T16: #NAME? | U16: #NAME?
A17: =A16+1 -> 14 | B17: -29.79 | D17: =B17-B16 -> -11.08 | Q17: =Q16+1 -> 12 | R17: #NAME? | T17: #NAME? | U17: #NAME?
A18: =A17+1 -> 15 | B18: -97 | D18: =B18-B17 -> -67.21 | G18: coeff | H18: std err | I18: t stat | J18: p-value | K18: lower | L18: upper | Q18: =Q17+1 -> 13 | R18: #NAME? | T18: #NAME? | U18: #NAME?
A19: =A18+1 -> 16 | B19: 42.43 | D19: =B19-B18 -> 139.43 | F19: Intercept | G19: #NAME? | H19: #NAME? | I19: =G19/H19 -> #NAME? | J19: =TDIST(ABS(I19),$G$15,2) -> #NAME? | K19: =G19-TINV(K$12,$G$15)*H19 -> #NAME? | L19: =G19+TINV(K$12,$G$15)*H19 -> #NAME? | Q19: =Q18+1 -> 14 | R19: #NAME?
A20: =A19+1 -> 17 | B20: 258.7 | D20: =B20-B19 -> 216.27 | F20: Profit | G20: #NAME? | H20: #NAME? | I20: =G20/H20 -> #NAME? | J20: =TDIST(ABS(I20),$G$15,2) -> #NAME? | K20: =G20-TINV(K$12,$G$15)*H20 -> #NAME? | L20: =G20+TINV(K$12,$G$15)*H20 -> #NAME? | Q20: =Q19+1 -> 15 | R20: #NAME?
A21: =A20+1 -> 18 | B21: 6.83 | D21: =B21-B20 -> -251.87 | Q21: =Q20+1 -> 16 | R21: #NAME?
A22: =A21+1 -> 19 | B22: 45.63 | D22: =B22-B21 -> 38.8 | Q22: =Q21+1 -> 17 | R22: #NAME?
A23: =A22+1 -> 20 | B23: -56.41 | D23: =B23-B22 -> -102.04 | Q23: =Q22+1 -> 18 | R23: #NAME?
A24: =A23+1 -> 21 | B24: -101.23 | D24: =B24-B23 -> -44.82 | Q24: =Q23+1 -> 19 | R24: #NAME?
A25: =A24+1 -> 22 | B25: -143.21 | D25: =B25-B24 -> -41.98 | Q25: =Q24+1 -> 20 | R25: #NAME?
A26: =A25+1 -> 23 | B26: -286.78 | D26: =B26-B25 -> -143.57 | Q26: =Q25+1 -> 21 | R26: #NAME?
A27: =A26+1 -> 24 | B27: -197.79 | D27: =B27-B26 -> 88.99 | Q27: =Q26+1 -> 22 | R27: #NAME?
A28: =A27+1 -> 25 | B28: -236.75 | D28: =B28-B27 -> -38.96 | Q28: =Q27+1 -> 23 | R28: #NAME?
Q29: =Q28+1 -> 24 | R29: #NAME?
A30: mean | B30: =AVERAGE(B4:B28) -> -13.6092 | Q30: =Q29+1 -> 25 | R30: #NAME?

Sheet DF 2
A1: Dickey-Fuller Test
A3: time | B3: profit | D3: Δ profit | F3: Regression Analysis | N3: DF Test | Q3: Diff Data: | R3: 0 | T3: ADF Test
A4: 1 | B4: 50
A5: =A4+1 -> 2 | B5: 120.83 | D5: =B5-B4 -> 70.83 | F5: OVERALL FIT | N5: n | O5: =A28 -> 25 | Q5: time | R5: data | T5: criteria | U5: none
A6: =A5+1 -> 3 | B6: -25.43 | D6: =B6-B5 -> -146.26 | F6: Multiple R | G6: =SQRT(G7) -> #NAME? | I6: AIC | J6: =G10*LN(H15/G10)+2*(G14+1) -> #NAME? | N6: alpha | O6: =K12 -> 0.05 | Q6: 1 | R6: #NAME? | T6: drift | U6: no
A7: =A6+1 -> 4 | B7: 31.72 | D7: =B7-B6 -> 57.15 | F7: R Square | G7: =H14/H16 -> #NAME? | I7: AICc | J7: =J6+2*(G14+2)*(G14+3)/(G10-G14-3) -> #NAME? | N7: tau | O7: =I21 -> #NAME? | Q7: =Q6+1 -> 2 | R7: #NAME? | T7: trend | U7: no
A8: =A7+1 -> 5 | B8: 94.79 | D8: =B8-B7 -> 63.07 | F8: Adjusted R Square | G8: =1-(1-G7)*(G10-1)/(G10-G14-1) -> #NAME? | I8: SBC | J8: =G10*LN(H15/G10)+(G14+1)*LN(G10) -> #NAME? | N8: tau-crit | O8: #NAME? | Q8: =Q7+1 -> 3 | R8: #NAME? | T8: lag | U8: 0
A9: =A8+1 -> 6 | B9: 61.06 | D9: =B9-B8 -> -33.73 | F9: Standard Error | G9: =SQRT(I15) -> #NAME? | N9: stationary | O9: =IF(O7<O8,"yes","no") -> #NAME? | Q9: =Q8+1 -> 4 | R9: #NAME? | T9: alpha | U9: 0.05
A10: =A9+1 -> 7 | B10: 87.51 | D10: =B10-B9 -> 26.45 | F10: Observations | G10: =COUNT(D5:D28) -> 24 | N10: p-value | O10: #NAME? | Q10: =Q9+1 -> 5 | R10: #NAME?
A11: =A10+1 -> 8 | B11: -65.88 | D11: =B11-B10 -> -153.39 | Q11: =Q10+1 -> 6 | R11: #NAME? | T11: #NAME? | U11: #NAME?
A12: =A11+1 -> 9 | B12: 30.4 | D12: =B12-B11 -> 96.28 | F12: ANOVA | J12: Alpha | K12: 0.05 | Q12: =Q11+1 -> 7 | R12: #NAME? | T12: #NAME? | U12: #NAME?
A13: =A12+1 -> 10 | B13: 65.49 | D13: =B13-B12 -> 35.09 | G13: df | H13: SS | I13: MS | J13: F | K13: p-value | L13: sig | Q13: =Q12+1 -> 8 | R13: #NAME? | T13: #NAME? | U13: #NAME?
A14: =A13+1 -> 11 | B14: 15.13 | D14: =B14-B13 -> -50.36 | F14: Regression | G14: =COUNT(A4:B4) -> 2 | H14: #NAME? | I14: =H14/G14 -> #NAME? | J14: =I14/I15 -> #NAME? | K14: =FDIST(J14,G14,G15) -> #NAME? | L14: =IF(K14<K12,"yes","no") -> #NAME? | Q14: =Q13+1 -> 9 | R14: #NAME? | T14: #NAME? | U14: #NAME?
A15: =A14+1 -> 12 | B15: 8.23 | D15: =B15-B14 -> -6.9 | F15: Residual | G15: =G16-G14 -> 21 | H15: =H16-H14 -> #NAME? | I15: =H15/G15 -> #NAME? | Q15: =Q14+1 -> 10 | R15: #NAME? | T15: #NAME? | U15: #NAME?
A16: =A15+1 -> 13 | B16: -18.71 | D16: =B16-B15 -> -26.94 | F16: Total | G16: =G10-1 -> 23 | H16: =DEVSQ(D5:D28) -> 249433.3 | Q16: =Q15+1 -> 11 | R16: #NAME? | T16: #NAME? | U16: #NAME?
A17: =A16+1 -> 14 | B17: -29.79 | D17: =B17-B16 -> -11.08 | Q17: =Q16+1 -> 12 | R17: #NAME? | T17: #NAME? | U17: #NAME?
A18: =A17+1 -> 15 | B18: -97 | D18: =B18-B17 -> -67.21 | G18: coeff | H18: std err | I18: t stat | J18: p-value | K18: lower | L18: upper | M18: vif | Q18: =Q17+1 -> 13 | R18: #NAME? | T18: #NAME? | U18: #NAME?
A19: =A18+1 -> 16 | B19: 42.43 | D19: =B19-B18 -> 139.43 | F19: Intercept | G19: #NAME? | H19: #NAME? | I19: =G19/H19 -> #NAME? | J19: =TDIST(ABS(I19),$G$15,2) -> #NAME? | K19: =G19-TINV(K$12,$G$15)*H19 -> #NAME? | L19: =G19+TINV(K$12,$G$15)*H19 -> #NAME? | Q19: =Q18+1 -> 14 | R19: #NAME?
A20: =A19+1 -> 17 | B20: 258.7 | D20: =B20-B19 -> 216.27 | F20: Time | G20: #NAME? | H20: #NAME? | I20: =G20/H20 -> #NAME? | J20: =TDIST(ABS(I20),$G$15,2) -> #NAME? | K20: =G20-TINV(K$12,$G$15)*H20 -> #NAME? | L20: =G20+TINV(K$12,$G$15)*H20 -> #NAME? | M20: #NAME? | Q20: =Q19+1 -> 15 | R20: #NAME?
A21: =A20+1 -> 18 | B21: 6.83 | D21: =B21-B20 -> -251.87 | F21: Profit | G21: #NAME? | H21: #NAME? | I21: =G21/H21 -> #NAME? | J21: =TDIST(ABS(I21),$G$15,2) -> #NAME? | K21: =G21-TINV(K$12,$G$15)*H21 -> #NAME? | L21: =G21+TINV(K$12,$G$15)*H21 -> #NAME? | M21: #NAME? | Q21: =Q20+1 -> 16 | R21: #NAME? | T21: #NAME? | U21: #NAME?
A22: =A21+1 -> 19 | B22: 45.63 | D22: =B22-B21 -> 38.8 | Q22: =Q21+1 -> 17 | R22: #NAME? | T22: #NAME? | U22: #NAME?
A23: =A22+1 -> 20 | B23: -56.41 | D23: =B23-B22 -> -102.04 | Q23: =Q22+1 -> 18 | R23: #NAME? | T23: #NAME? | U23: #NAME?
A24: =A23+1 -> 21 | B24: -101.23 | D24: =B24-B23 -> -44.82 | Q24: =Q23+1 -> 19 | R24: #NAME?
A25: =A24+1 -> 22 | B25: -143.21 | D25: =B25-B24 -> -41.98 | Q25: =Q24+1 -> 20 | R25: #NAME? | T25: tau-crit | U25: #NAME?
A26: =A25+1 -> 23 | B26: -286.78 | D26: =B26-B25 -> -143.57 | Q26: =Q25+1 -> 21 | R26: #NAME?
A27: =A26+1 -> 24 | B27: -197.79 | D27: =B27-B26 -> 88.99 | Q27: =Q26+1 -> 22 | R27: #NAME?
A28: =A27+1 -> 25 | B28: -236.75 | D28: =B28-B27 -> -38.96 | Q28: =Q27+1 -> 23 | R28: #NAME?
Q29: =Q28+1 -> 24 | R29: #NAME?
A30: mean | B30: =AVERAGE(B4:B28) -> -13.6092 | Q30: =Q29+1 -> 25 | R30: #NAME?

Sheet ADF
A1: Augmented Dickey-Fuller (ADF)
M2: w/o const or trend | P2: w/ const, w/o trend | S2: w/ trend | V2: #NAME?
A3: 2.1954112
A4: 1.5564893 | J4: #NAME? | K4: #NAME? | M4: #NAME? | N4: #NAME? | P4: #NAME? | Q4: #NAME? | S4: #NAME? | T4: #NAME? | V4: #NAME? | W4: #NAME?
A5: 1.616608 | J5: #NAME? | K5: #NAME? | M5: #NAME? | N5: #NAME? | P5: #NAME? | Q5: #NAME? | S5: #NAME? | T5: #NAME? | V5: #NAME? | W5: #NAME?
A6: 1.4354933 | J6: #NAME? | K6: #NAME? | M6: #NAME? | N6: #NAME? | P6: #NAME? | Q6: #NAME? | S6: #NAME? | T6: #NAME? | V6: #NAME? | W6: #NAME?
A7: 1.472317 | J7: #NAME? | K7: #NAME? | M7: #NAME? | N7: #NAME? | P7: #NAME? | Q7: #NAME? | S7: #NAME? | T7: #NAME? | V7: #NAME? | W7: #NAME?
A8: 1.32457 | J8: #NAME? | K8: #NAME? | M8: #NAME? | N8: #NAME? | P8: #NAME? | Q8: #NAME? | S8: #NAME? | T8: #NAME? | V8: #NAME? | W8: #NAME?
A9: 2.6101003 | M9: #NAME? | N9: #NAME? | P9: #NAME? | Q9: #NAME? | S9: #NAME? | T9: #NAME? | V9: #NAME? | W9: #NAME?
A10: 1.8739673 | J10: max lags | K10: =ROUND(12*(K4/100)^0.25,0) -> #NAME? | M10: #NAME? | N10: #NAME? | P10: #NAME? | Q10: #NAME? | S10: #NAME? | T10: #NAME? | V10: #NAME? | W10: #NAME?
A11: 3.0006759 | M11: #NAME? | N11: #NAME? | P11: #NAME? | Q11: #NAME? | S11: #NAME? | T11: #NAME? | V11: #NAME? | W11: #NAME?
A12: 2.1606254
A13: 2.1565014
A14: 2.9629644
A15: 2.1250709
A16: 2.989708
A17: 3.2545925
A18: 3.7153992
A19: 2.9207517
A20: 2.3942978
A21: 2.224401
A22: 3.5258176

Sheet PP KPSS
A1: PP & KPSS Tests | F1: PP Test
A3: 2.1954112 | F3: w/o const or trend | I3: w/ const, w/o trend | L3: w/ trend
A4: 1.5564893 | C4: #NAME? | D4: #NAME?
A5: 1.616608 | C5: #NAME? | D5: #NAME? | F5: #NAME? | G5: #NAME? | I5: #NAME? | J5: #NAME? | L5: #NAME? | M5: #NAME?
A6: 1.4354933 | C6: #NAME? | D6: #NAME? | F6: #NAME? | G6: #NAME? | I6: #NAME? | J6: #NAME? | L6: #NAME? | M6: #NAME?
A7: 1.472317 | C7: #NAME? | D7: #NAME? | F7: #NAME? | G7: #NAME? | I7: #NAME? | J7: #NAME? | L7: #NAME? | M7: #NAME?
A8: 1.32457 | C8: #NAME? | D8: #NAME? | F8: #NAME? | G8: #NAME? | I8: #NAME? | J8: #NAME? | L8: #NAME? | M8: #NAME?
A9: 2.6101003 | F9: #NAME? | G9: #NAME? | I9: #NAME? | J9: #NAME? | L9: #NAME? | M9: #NAME?
A10: 1.8739673 | C10: max lags | D10: =ROUND(4*(D4/100)^0.25,0) -> #NAME? | F10: #NAME? | G10: #NAME? | I10: #NAME? | J10: #NAME? | L10: #NAME? | M10: #NAME?
A11: 3.0006759 | C11: (short)
A12: 2.1606254
A13: 2.1565014 | F13: KPSS Test
A14: 2.9629644
A15: 2.1250709 | F15: w/o trend | I15: w/ trend
A16: 2.989708
A17: 3.2545925 | F17: #NAME? | G17: #NAME? | I17: #NAME? | J17: #NAME?
A18: 3.7153992 | F18: #NAME? | G18: #NAME? | I18: #NAME? | J18: #NAME?
A19: 2.9207517 | F19: #NAME? | G19: #NAME? | I19: #NAME? | J19: #NAME?
A20: 2.3942978 | F20: #NAME? | G20: #NAME? | I20: #NAME? | J20: #NAME?
A21: 2.224401 | F21: #NAME? | G21: #NAME? | I21: #NAME? | J21: #NAME?
A22: 3.5258176

Sheet Missing 1
A1: Time series with missing data | O1: Spline Interpolation | AC1: Moving Average | AJ1: Weighted Moving Average | AO1: Exponential Moving Average
A3: t | B3: y | D3: t | E3: y | G3: linear | H3: spline | I3: prior | J3: next | K3: sma | L3: wma | M3: ema | O3: #NAME? | P3: #NAME? | R3: t | S3: y | AC3: t | AD3: y | AE3: linear | AF3: sma | AG3: wma | AH3: ema | AJ3: t | AK3: weight | AL3: linear | AM3: product | AO3: t | AP3: weight | AQ3: linear | AR3: product
A4: 1 | B4: 3 | D4: 1 | E4: 3 | G4: #NAME? | H4: #NAME? | I4: #NAME? | J4: #NAME? | K4: #NAME? | L4: #NAME? | M4: #NAME? | O4: #NAME? | P4: #NAME? | R4: 1 | S4: #NAME? | AC4: =D4 -> 1 | AD4: =IF(E4="","",E4) -> 3 | AE4: =G4 -> #NAME? | AF4: =IF(AD4="",AE4,AD4) -> 3 | AG4: =IF(AD4="",AE4,AD4) -> 3 | AH4: =IF(AD4="",AE4,AD4) -> 3 | AJ4: =AC6 -> 3 | AK4: =1/(ABS(AJ$7-AJ4)+1) -> 0.25 | AL4: =AE6 -> #NAME? | AM4: =AK4*AL4 -> #NAME? | AO4: =AC6 -> 3 | AP4: =1/2^ABS(AJ$7-AJ4) -> 0.125 | AQ4: =AE6 -> #NAME? | AR4: =AP4*AQ4 -> #NAME?
A5: =A4+1 -> 2 | B5: 5 | D5: =D4+1 -> 2 | E5: 5 | G5: #NAME? | H5: #NAME? | I5: #NAME? | J5: #NAME? | K5: #NAME? | L5: #NAME? | M5: #NAME? | O5: #NAME? | P5: #NAME? | R5: =R4+1 -> 2 | S5: #NAME? | AC5: =D5 -> 2 | AD5: =IF(E5="","",E5) -> 5 | AE5: =G5 -> #NAME? | AF5: =IF(AD5="",AE5,AD5) -> 5 | AG5: =IF(AD5="",AE5,AD5) -> 5 | AH5: =IF(AD5="",AE5,AD5) -> 5 | AJ5: =AC7 -> 4 | AK5: =1/(ABS(AJ$7-AJ5)+1) -> 0.33333333 | AL5: =AE7 -> #NAME? | AM5: =AK5*AL5 -> #NAME? | AO5: =AC7 -> 4 | AP5: =1/2^ABS(AJ$7-AJ5) -> 0.25 | AQ5: =AE7 -> #NAME? | AR5: =AP5*AQ5 -> #NAME?
A6: =A5+1 -> 3 | B6: 9 | D6: =D5+1 -> 3 | E6: 9 | G6: #NAME? | H6: #NAME? | I6: #NAME? | J6: #NAME? | K6: #NAME? | L6: #NAME? | M6: #NAME? | O6: #NAME? | P6: #NAME? | R6: =R5+1 -> 3 | S6: #NAME? | AC6: =D6 -> 3 | AD6: =IF(E6="","",E6) -> 9 | AE6: =G6 -> #NAME? | AF6: =IF(AD6="",AE6,AD6) -> 9 | AG6: =IF(AD6="",AE6,AD6) -> 9 | AH6: =IF(AD6="",AE6,AD6) -> 9 | AJ6: =AC8 -> 5 | AK6: =1/(ABS(AJ$7-AJ6)+1) -> 0.5 | AL6: =AE8 -> #NAME? | AM6: =AK6*AL6 -> #NAME? | AO6: =AC8 -> 5 | AP6: =1/2^ABS(AJ$7-AJ6) -> 0.5 | AQ6: =AE8 -> #NAME? | AR6: =AP6*AQ6 -> #NAME?
A7: =A6+1 -> 4 | B7: 20 | D7: =D6+1 -> 4 | E7: 20 | G7: #NAME? | H7: #NAME? | I7: #NAME? | J7: #NAME? | K7: #NAME? | L7: #NAME? | M7: #NAME? | O7: #NAME? | P7: #NAME? | R7: =R6+1 -> 4 | S7: #NAME? | AC7: =D7 -> 4 | AD7: =IF(E7="","",E7) -> 20 | AE7: =G7 -> #NAME? | AF7: =IF(AD7="",AVERAGE(AE4:AE10),AD7) -> 20 | AG7: =IF(AD7="",SUMPRODUCT(AE4:AE10,1/(ABS(AC4:AC10-AC7)+1))/AG$20,AD7) -> 20 | AH7: =IF(AD7="",SUMPRODUCT(AE4:AE10,1/2^ABS(AC4:AC10-AC7))/AH$20,AD7) -> 20 | AJ7: =AC9 -> 6 | AK7: =1/(ABS(AJ$7-AJ7)+1) -> 1 | AL7: =AE9 -> #NAME? | AM7: =AK7*AL7 -> #NAME? | AO7: =AC9 -> 6 | AP7: =1/2^ABS(AJ$7-AJ7) -> 1 | AQ7: =AE9 -> #NAME? | AR7: =AP7*AQ7 -> #NAME?
A8: =A7+1 -> 5 | B8: 12 | D8: =D7+1 -> 5 | E8: 12 | G8: #NAME? | H8: #NAME? | I8: #NAME? | J8: #NAME? | K8: #NAME? | L8: #NAME? | M8: #NAME? | O8: #NAME? | P8: #NAME? | R8: =R7+1 -> 5 | S8: #NAME? | AC8: =D8 -> 5 | AD8: =IF(E8="","",E8) -> 12 | AE8: =G8 -> #NAME? | AF8: =IF(AD8="",AVERAGE(AE5:AE11),AD8) -> 12 | AG8: =IF(AD8="",SUMPRODUCT(AE5:AE11,1/(ABS(AC5:AC11-AC8)+1))/AG$20,AD8) -> 12 | AH8: =IF(AD8="",SUMPRODUCT(AE5:AE11,1/2^ABS(AC5:AC11-AC8))/AH$20,AD8) -> 12 | AJ8: =AC10 -> 7 | AK8: =1/(ABS(AJ$7-AJ8)+1) -> 0.5 | AL8: =AE10 -> #NAME? | AM8: =AK8*AL8 -> #NAME? | AO8: =AC10 -> 7 | AP8: =1/2^ABS(AJ$7-AJ8) -> 0.5 | AQ8: =AE10 -> #NAME? | AR8: =AP8*AQ8 -> #NAME?
A9: =A8+1 -> 6 | B9: 17 | D9: =D8+1 -> 6 | G9: #NAME? | H9: #NAME? | I9: #NAME? | J9: #NAME? | K9: #NAME? | L9: #NAME? | M9: #NAME? | O9: #NAME? | P9: #NAME? | R9: =R8+1 -> 6 | S9: #NAME? | AC9: =D9 -> 6 | AD9: =IF(E9="","",E9) | AE9: =G9 -> #NAME? | AF9: =IF(AD9="",AVERAGE(AE6:AE12),AD9) -> #NAME? | AG9: =IF(AD9="",SUMPRODUCT(AE6:AE12,1/(ABS(AC6:AC12-AC9)+1))/AG$20,AD9) -> #NAME? | AH9: =IF(AD9="",SUMPRODUCT(AE6:AE12,1/2^ABS(AC6:AC12-AC9))/AH$20,AD9) -> #NAME? | AJ9: =AC11 -> 8 | AK9: =1/(ABS(AJ$7-AJ9)+1) -> 0.33333333 | AL9: =AE11 -> #NAME? | AM9: =AK9*AL9 -> #NAME? | AO9: =AC11 -> 8 | AP9: =1/2^ABS(AJ$7-AJ9) -> 0.25 | AQ9: =AE11 -> #NAME? | AR9: =AP9*AQ9 -> #NAME?
A10: =A9+1 -> 7 | B10: 22 | D10: =D9+1 -> 7 | G10: #NAME? | H10: #NAME? | I10: #NAME? | J10: #NAME? | K10: #NAME? | L10: #NAME? | M10: #NAME? | O10: #NAME? | P10: #NAME? | R10: =R9+1 -> 7 | S10: #NAME? | AC10: =D10 -> 7 | AD10: =IF(E10="","",E10) | AE10: =G10 -> #NAME? | AF10: =IF(AD10="",AVERAGE(AE7:AE13),AD10) -> #NAME? | AG10: =IF(AD10="",SUMPRODUCT(AE7:AE13,1/(ABS(AC7:AC13-AC10)+1))/AG$20,AD10) -> #NAME? | AH10: =IF(AD10="",SUMPRODUCT(AE7:AE13,1/2^ABS(AC7:AC13-AC10))/AH$20,AD10) -> #NAME? | AJ10: =AC12 -> 9 | AK10: =1/(ABS(AJ$7-AJ10)+1) -> 0.25 | AL10: =AE12 -> #NAME? | AM10: =AK10*AL10 -> #NAME? | AO10: =AC12 -> 9 | AP10: =1/2^ABS(AJ$7-AJ10) -> 0.125 | AQ10: =AE12 -> #NAME? | AR10: =AP10*AQ10 -> #NAME?
A11: =A10+1 -> 8 | B11: 23 | D11: =D10+1 -> 8 | E11: 23 | G11: #NAME? | H11: #NAME? | I11: #NAME? | J11: #NAME? | K11: #NAME? | L11: #NAME? | M11: #NAME? | O11: #NAME? | P11: #NAME? | R11: =R10+1 -> 8 | S11: #NAME? | AC11: =D11 -> 8 | AD11: =IF(E11="","",E11) -> 23 | AE11: =G11 -> #NAME? | AF11: =IF(AD11="",AVERAGE(AE8:AE14),AD11) -> 23 | AG11: =IF(AD11="",SUMPRODUCT(AE8:AE14,1/(ABS(AC8:AC14-AC11)+1))/AG$20,AD11) -> 23 | AH11: =IF(AD11="",SUMPRODUCT(AE8:AE14,1/2^ABS(AC8:AC14-AC11))/AH$20,AD11) -> 23 | AK11: =SUM(AK4:AK10) -> 3.1666667 | AM11: =SUM(AM4:AM10) -> #NAME? | AP11: =SUM(AP4:AP10) -> 2.75 | AR11: =SUM(AR4:AR10) -> #NAME?
A12: =A11+1 -> 9 | B12: 51 | D12: =D11+1 -> 9 | E12: 51 | G12: #NAME? | H12: #NAME? | I12: #NAME? | J12: #NAME? | K12: #NAME? | L12: #NAME? | M12: #NAME? | O12: #NAME? | P12: #NAME? | R12: =R11+1 -> 9 | S12: #NAME? | AC12: =D12 -> 9 | AD12: =IF(E12="","",E12) -> 51 | AE12: =G12 -> #NAME? | AF12: =IF(AD12="",AVERAGE(AE9:AE15),AD12) -> 51 | AG12: =IF(AD12="",SUMPRODUCT(AE9:AE15,1/(ABS(AC9:AC15-AC12)+1))/AG$20,AD12) -> 51 | AH12: =IF(AD12="",SUMPRODUCT(AE9:AE15,1/2^ABS(AC9:AC15-AC12))/AH$20,AD12) -> 51 | AM12: =AM11/AK11 -> #NAME? | AR12: =AR11/AP11 -> #NAME?
A13: =A12+1 -> 10 | B13: 41 | D13: =D12+1 -> 10 | E13: 41 | G13: #NAME? | H13: #NAME? | I13: #NAME? | J13: #NAME? | K13: #NAME? | L13: #NAME? | M13: #NAME? | O13: #NAME? | P13: #NAME? | R13: =R12+1 -> 10 | S13: #NAME? | AC13: =D13 -> 10 | AD13: =IF(E13="","",E13) -> 41 | AE13: =G13 -> #NAME? | AF13: =IF(AD13="",AVERAGE(AE10:AE16),AD13) -> 41 | AG13: =IF(AD13="",SUMPRODUCT(AE10:AE16,1/(ABS(AC10:AC16-AC13)+1))/AG$20,AD13) -> 41 | AH13: =IF(AD13="",SUMPRODUCT(AE10:AE16,1/2^ABS(AC10:AC16-AC13))/AH$20,AD13) -> 41
A14: =A13+1 -> 11 | B14: 56 | D14: =D13+1 -> 11 | E14: 56 | G14: #NAME? | H14: #NAME? | I14: #NAME? | J14: #NAME? | K14: #NAME? | L14: #NAME? | M14: #NAME? | O14: #NAME? | P14: #NAME? | R14: =R13+1 -> 11 | S14: #NAME? | AC14: =D14 -> 11 | AD14: =IF(E14="","",E14) -> 56 | AE14: =G14 -> #NAME? | AF14: =IF(AD14="",AVERAGE(AE11:AE17),AD14) -> 56 | AG14: =IF(AD14="",SUMPRODUCT(AE11:AE17,1/(ABS(AC11:AC17-AC14)+1))/AG$20,AD14) -> 56 | AH14: =IF(AD14="",SUMPRODUCT(AE11:AE17,1/2^ABS(AC11:AC17-AC14))/AH$20,AD14) -> 56
A15: =A14+1 -> 12 | B15: 75 | D15: =D14+1 -> 12 | G15: #NAME? | H15: #NAME? | I15: #NAME? | J15: #NAME? | K15: #NAME? | L15: #NAME? | M15: #NAME? | R15: =R14+1 -> 12 | S15: #NAME? | AC15: =D15 -> 12 | AD15: =IF(E15="","",E15) | AE15: =G15 -> #NAME? | AF15: =IF(AD15="",AVERAGE(AE12:AE18),AD15) -> #NAME? | AG15: =IF(AD15="",SUMPRODUCT(AE12:AE18,1/(ABS(AC12:AC18-AC15)+1))/AG$20,AD15) -> #NAME? | AH15: =IF(AD15="",SUMPRODUCT(AE12:AE18,1/2^ABS(AC12:AC18-AC15))/AH$20,AD15) -> #NAME?
A16: =A15+1 -> 13 | B16: 60 | D16: =D15+1 -> 13 | E16: 60 | G16: #NAME? | H16: #NAME? | I16: #NAME? | J16: #NAME? | K16: #NAME? | L16: #NAME? | M16: #NAME? | R16: =R15+1 -> 13 | S16: #NAME? | AC16: =D16 -> 13 | AD16: =IF(E16="","",E16) -> 60 | AE16: =G16 -> #NAME? | AF16: =IF(AD16="",AE16,AD16) -> 60 | AG16: =IF(AD16="",AE16,AD16) -> 60 | AH16: =IF(AD16="",AE16,AD16) -> 60
A17: =A16+1 -> 14 | B17: 75 | D17: =D16+1 -> 14 | E17: 75 | G17: #NAME? | H17: #NAME? | I17: #NAME? | J17: #NAME? | K17: #NAME? | L17: #NAME? | M17: #NAME? | R17: =R16+1 -> 14 | S17: #NAME? | AC17: =D17 -> 14 | AD17: =IF(E17="","",E17) -> 75 | AE17: =G17 -> #NAME? | AF17: =IF(AD17="",AE17,AD17) -> 75 | AG17: =IF(AD17="",AE17,AD17) -> 75 | AH17: =IF(AD17="",AE17,AD17) -> 75
A18: =A17+1 -> 15 | B18: 88 | D18: =D17+1 -> 15 | G18: #NAME? | H18: #NAME? | I18: #NAME? | J18: #NAME? | K18: #NAME? | L18: #NAME? | M18: #NAME? | R18: =R17+1 -> 15 | S18: #NAME? | AC18: =D18 -> 15 | AD18: =IF(E18="","",E18) | AE18: =G18 -> #NAME? | AF18: =IF(AD18="",AE18,AD18) -> #NAME? | AG18: =IF(AD18="",AE18,AD18) -> #NAME? | AH18: =IF(AD18="",AE18,AD18) -> #NAME?
AG20: =1+2*SUMPRODUCT(1/AC5:AC7) -> 3.1666667 | AH20: =1+2*SUMPRODUCT(1/2^AC4:AC6) -> 2.75

Sheet Missing 2
A1: Seasonal time series with missing data | I1: Linear | M1: WMA
A3: qtr | B3: t | C3: y | E3: qtr | F3: t | G3: y | I3: none | J3: seas | K3: split | M3: none | N3: seas | O3: split
A4: 10 Q1 | B4: 1 | C4: 10 | E4: 10 Q1 | F4: 1 | G4: 10 | I4: #NAME? | J4: #NAME? | K4: #NAME? | M4: #NAME? | N4: #NAME? | O4: #NAME?
A5: 10 Q2 | B5: =B4+1 -> 2 | C5: 14 | E5: 10 Q2 | F5: =F4+1 -> 2 | I5: #NAME? | J5: #NAME? | K5: #NAME? | M5: #NAME? | N5: #NAME? | O5: #NAME?
A6: 10 Q3 | B6: =B5+1 -> 3 | C6: 8 | E6: 10 Q3 | F6: =F5+1 -> 3 | G6: 8 | I6: #NAME? | J6: #NAME? | K6: #NAME? | M6: #NAME? | N6: #NAME? | O6: #NAME?
A7: 10 Q4 | B7: =B6+1 -> 4 | C7: 25 | E7: 10 Q4 | F7: =F6+1 -> 4 | G7: 25 | I7: #NAME? | J7: #NAME? | K7: #NAME? | M7: #NAME? | N7: #NAME? | O7: #NAME?
A8: 11 Q1 | B8: =B7+1 -> 5 | C8: 16 | E8: 11 Q1 | F8: =F7+1 -> 5 | G8: 16 | I8: #NAME? | J8: #NAME? | K8: #NAME? | M8: #NAME? | N8: #NAME? | O8: #NAME?
A9: 11 Q2 | B9: =B8+1 -> 6 | C9: 22 | E9: 11 Q2 | F9: =F8+1 -> 6 | G9: 22 | I9: #NAME? | J9: #NAME? | K9: #NAME? | M9: #NAME? | N9: #NAME? | O9: #NAME?
A10: 11 Q3 | B10: =B9+1 -> 7 | C10: 14 | E10: 11 Q3 | F10: =F9+1 -> 7 | G10: 14 | I10: #NAME? | J10: #NAME? | K10: #NAME? | M10: #NAME? | N10: #NAME? | O10: #NAME?
A11: 11 Q4 | B11: =B10+1 -> 8 | C11: 35 | E11: 11 Q4 | F11: =F10+1 -> 8 | G11: 35 | I11: #NAME? | J11: #NAME? | K11: #NAME? | M11: #NAME? | N11: #NAME? | O11: #NAME?
A12: 12 Q1 | B12: =B11+1 -> 9 | C12: 15 | E12: 12 Q1 | F12: =F11+1 -> 9 | G12: 15 | I12: #NAME? | J12: #NAME? | K12: #NAME? | M12: #NAME? | N12: #NAME? | O12: #NAME?
A13: 12 Q2 | B13: =B12+1 -> 10 | C13: 27 | E13: 12 Q2 | F13: =F12+1 -> 10 | I13: #NAME? | J13: #NAME? | K13: #NAME? | M13: #NAME? | N13: #NAME? | O13: #NAME?
A14: 12 Q3 | B14: =B13+1 -> 11 | C14: 18 | E14: 12 Q3 | F14: =F13+1 -> 11 | I14: #NAME? | J14: #NAME? | K14: #NAME? | M14: #NAME? | N14: #NAME? | O14: #NAME?
A15: 12 Q4 | B15: =B14+1 -> 12 | C15: 40 | E15: 12 Q4 | F15: =F14+1 -> 12 | G15: 40 | I15: #NAME? | J15: #NAME? | K15: #NAME? | M15: #NAME? | N15: #NAME? | O15: #NAME?
A16: 13 Q1 | B16: =B15+1 -> 13 | C16: 28 | E16: 13 Q1 | F16: =F15+1 -> 13 | G16: 28 | I16: #NAME? | J16: #NAME? | K16: #NAME? | M16: #NAME? | N16: #NAME? | O16: #NAME?
A17: 13 Q2 | B17: =B16+1 -> 14 | C17: 40 | E17: 13 Q2 | F17: =F16+1 -> 14 | G17: 40 | I17: #NAME? | J17: #NAME? | K17: #NAME? | M17: #NAME? | N17: #NAME? | O17: #NAME?
A18: 13 Q3 | B18: =B17+1 -> 15 | C18: 25 | E18: 13 Q3 | F18: =F17+1 -> 15 | G18: 25 | I18: #NAME? | J18: #NAME? | K18: #NAME? | M18: #NAME? | N18: #NAME? | O18: #NAME?
A19: 13 Q4 | B19: =B18+1 -> 16 | C19: 65 | E19: 13 Q4 | F19: =F18+1 -> 16 | I19: #NAME? | J19: #NAME? | K19: #NAME? | M19: #NAME? | N19: #NAME? | O19: #NAME?

Sheet Missing 3
A1: Split Seasons | Z1: Linear | AD1: WMA
A3: qtr | B3: t | C3: y | E3: qtr | F3: t | G3: y | H3: imputed | J3: qtr | K3: t | L3: y | M3: imputed | Z3: none | AA3: seas | AB3: split | AD3: none | AE3: seas | AF3: split
A4: 10 Q1 | B4: 1 | C4: 10 | E4: 10 Q1 | F4: 1 | G4: 10 | H4: #NAME? | J4: 10 Q1 | K4: =F4 -> 1 | L4: 10 | M4: #NAME? | Z4: #NAME? | AA4: #NAME? | AB4: #NAME? | AD4: #NAME? | AE4: #NAME? | AF4: #NAME?
A5: 10 Q2 | B5: =B4+1 -> 2 | C5: 14 | E5: 10 Q2 | F5: =F4+1 -> 2 | H5: #NAME? | J5: 11 Q1 | K5: =K4+4 -> 5 | L5: 16 | M5: #NAME? | Z5: #NAME? | AA5: #NAME? | AB5: #NAME? | AD5: #NAME? | AE5: #NAME? | AF5: #NAME?
A6: 10 Q3 | B6: =B5+1 -> 3 | C6: 8 | E6: 10 Q3 | F6: =F5+1 -> 3 | G6: 8 | H6: #NAME? | J6: 12 Q1 | K6: =K5+4 -> 9 | L6: 15 | M6: #NAME? | Z6: #NAME? | AA6: #NAME? | AB6: #NAME? | AD6: #NAME? | AE6: #NAME? | AF6: #NAME?
A7: 10 Q4 | B7: =B6+1 -> 4 | C7: 25 | E7: 10 Q4 | F7: =F6+1 -> 4 | G7: 25 | H7: #NAME? | J7: 13 Q1 | K7: =K6+4 -> 13 | L7: 28 | M7: #NAME? | Z7: #NAME? | AA7: #NAME? | AB7: #NAME? | AD7: #NAME? | AE7: #NAME? | AF7: #NAME?
A8: 11 Q1 | B8: =B7+1 -> 5 | C8: 16 | E8: 11 Q1 | F8: =F7+1 -> 5 | G8: 16 | H8: #NAME? | J8: =E5 -> 10 Q2 | K8: 2 | M8: #NAME? | Z8: #NAME? | AA8: #NAME? | AB8: #NAME? | AD8: #NAME? | AE8: #NAME? | AF8: #NAME?
A9: 11 Q2 | B9: =B8+1 -> 6 | C9: 22 | E9: 11 Q2 | F9: =F8+1 -> 6 | G9: 22 | H9: #NAME? | J9: 11 Q2 | K9: =K8+4 -> 6 | L9: 22 | M9: #NAME? | Z9: #NAME? | AA9: #NAME? | AB9: #NAME? | AD9: #NAME? | AE9: #NAME? | AF9: #NAME?
A10: 11 Q3 | B10: =B9+1 -> 7 | C10: 14 | E10: 11 Q3 | F10: =F9+1 -> 7 | G10: 14 | H10: #NAME? | J10: 12 Q2 | K10: =K9+4 -> 10 | M10: #NAME? | Z10: #NAME? | AA10: #NAME? | AB10: #NAME? | AD10: #NAME? | AE10: #NAME? | AF10: #NAME?
A11: 11 Q4 | B11: =B10+1 -> 8 | C11: 35 | E11: 11 Q4 | F11: =F10+1 -> 8 | G11: 35 | H11: #NAME? | J11: 13 Q2 | K11: =K10+4 -> 14 | L11: 40 | M11: #NAME? | Z11: #NAME? | AA11: #NAME? | AB11: #NAME? | AD11: #NAME? | AE11: #NAME? | AF11: #NAME?
A12: 12 Q1 | B12: =B11+1 -> 9 | C12: 15 | E12: 12 Q1 | F12: =F11+1 -> 9 | G12: 15 | H12: #NAME? | J12: 10 Q3 | K12: 3 | L12: 8 | M12: #NAME? | Z12: #NAME? | AA12: #NAME? | AB12: #NAME? | AD12: #NAME? | AE12: #NAME? | AF12: #NAME?
A13: 12 Q2 | B13: =B12+1 -> 10 | C13: 27 | E13: 12 Q2 | F13: =F12+1 -> 10 | H13: #NAME? | J13: 11 Q3 | K13: =K12+4 -> 7 | L13: 14 | M13: #NAME? | Z13: #NAME? | AA13: #NAME? | AB13: #NAME? | AD13: #NAME? | AE13: #NAME? | AF13: #NAME?
A14: 12 Q3 | B14: =B13+1 -> 11 | C14: 18 | E14: 12 Q3 | F14: =F13+1 -> 11 | H14: #NAME? | J14: 12 Q3 | K14: =K13+4 -> 11 | M14: #NAME? | Z14: #NAME? | AA14: #NAME? | AB14: #NAME? | AD14: #NAME? | AE14: #NAME? | AF14: #NAME?
A15: 12 Q4 | B15: =B14+1 -> 12 | C15: 40 | E15: 12 Q4 | F15: =F14+1 -> 12 | G15: 40 | H15: #NAME? | J15: 13 Q3 | K15: =K14+4 -> 15 | L15: 25 | M15: #NAME? | Z15: #NAME? | AA15: #NAME? | AB15: #NAME? | AD15: #NAME? | AE15: #NAME? | AF15: #NAME?
A16: 13 Q1 | B16: =B15+1 -> 13 | C16: 28 | E16: 13 Q1 | F16: =F15+1 -> 13 | G16: 28 | H16: #NAME? | J16: 10 Q4 | K16: =K15+1 -> 16 | L16: 25 | M16: #NAME? | Z16: #NAME? | AA16: #NAME? | AB16: #NAME? | AD16: #NAME? | AE16: #NAME? | AF16: #NAME?
A17: 13 Q2 | B17: =B16+1 -> 14 | C17: 40 | E17: 13 Q2 | F17: =F16+1 -> 14 | G17: 40 | H17: #NAME? | J17: 11 Q4 | K17: =K16+1 -> 17 | L17: 35 | M17: #NAME? | Z17: #NAME? | AA17: #NAME? | AB17: #NAME? | AD17: #NAME? | AE17: #NAME? | AF17: #NAME?
A18: 13 Q3 | B18: =B17+1 -> 15 | C18: 25 | E18: 13 Q3 | F18: =F17+1 -> 15 | G18: 25 | H18: #NAME? | J18: 12 Q4 | K18: =K17+1 -> 18 | L18: 40 | M18: #NAME? | Z18: #NAME? | AA18: #NAME? | AB18: #NAME? | AD18: #NAME? | AE18: #NAME? | AF18: #NAME?
A19: 13 Q4 | B19: =B18+1 -> 16 | C19: 65 | E19: 13 Q4 | F19: =F18+1 -> 16 | H19: #NAME? | J19: 13 Q4 | K19: =K18+1 -> 19 | M19: #NAME? | Z19: #NAME? | AA19: #NAME? | AB19: #NAME? | AD19: #NAME? | AE19: #NAME? | AF19: #NAME?

Sheet Missing 4
A1: Deseasonalizing
A3: qtr | B3: t | C3: y | E3: qtr | F3: t | G3: y | H3: split | I3: deseas | J3: imputed | K3: seas
A4: 10 Q1 | B4: 1 | C4: 10 | E4: 10 Q1 | F4: 1 | G4: 10 | H4: #NAME? | K4: =H4 -> #NAME?
A5: 10 Q2 | B5: =B4+1 -> 2 | C5: 14 | E5: 10 Q2 | F5: =F4+1 -> 2 | H5: #NAME? | K5: =H5 -> #NAME?
A6: 10 Q3 | B6: =B5+1 -> 3 | C6: 8 | E6: 10 Q3 | F6: =F5+1 -> 3 | G6: 8 | H6: #NAME? | K6: =H6 -> #NAME?
A7: 10 Q4 | B7: =B6+1 -> 4 | C7: 25 | E7: 10 Q4 | F7: =F6+1 -> 4 | G7: 25 | H7: #NAME? | K7: =H7 -> #NAME?
A8: 11 Q1 | B8: =B7+1 -> 5 | C8: 16 | E8: 11 Q1 | F8: =F7+1 -> 5 | G8: 16 | H8: =IF(G8="","",G8) -> 16 | I8: =IF(H4="","",IF(H8="","",H8-H4)) -> #NAME? | J8: #NAME? | K8: =IF(G8="",J8+K4,G8) -> 16
A9: 11 Q2 | B9: =B8+1 -> 6 | C9: 22 | E9: 11 Q2 | F9: =F8+1 -> 6 | G9: 22 | H9: =IF(G9="","",G9) -> 22 | I9: =IF(H5="","",IF(H9="","",H9-H5)) -> #NAME? | J9: #NAME? | K9: =IF(G9="",J9+K5,G9) -> 22
A10: 11 Q3 | B10: =B9+1 -> 7 | C10: 14 | E10: 11 Q3 | F10: =F9+1 -> 7 | G10: 14 | H10: =IF(G10="","",G10) -> 14 | I10: =IF(H6="","",IF(H10="","",H10-H6)) -> #NAME? | J10: #NAME? | K10: =IF(G10="",J10+K6,G10) -> 14
A11: 11 Q4 | B11: =B10+1 -> 8 | C11: 35 | E11: 11 Q4 | F11: =F10+1 -> 8 | G11: 35 | H11: =IF(G11="","",G11) -> 35 | I11: =IF(H7="","",IF(H11="","",H11-H7)) -> #NAME? | J11: #NAME? | K11: =IF(G11="",J11+K7,G11) -> 35
A12: 12 Q1 | B12: =B11+1 -> 9 | C12: 15 | E12: 12 Q1 | F12: =F11+1 -> 9 | G12: 15 | H12: =IF(G12="","",G12) -> 15 | I12: =IF(H8="","",IF(H12="","",H12-H8)) -> -1 | J12: #NAME? | K12: =IF(G12="",J12+K8,G12) -> 15
A13: 12 Q2 | B13: =B12+1 -> 10 | C13: 27 | E13: 12 Q2 | F13: =F12+1 -> 10 | H13: =IF(G13="","",G13) | I13: =IF(H9="","",IF(H13="","",H13-H9)) | J13: #NAME? | K13: =IF(G13="",J13+K9,G13) -> #NAME?
A14: 12 Q3 | B14: =B13+1 -> 11 | C14: 18 | E14: 12 Q3 | F14: =F13+1 -> 11 | H14: =IF(G14="","",G14) | I14: =IF(H10="","",IF(H14="","",H14-H10)) | J14: #NAME? | K14: =IF(G14="",J14+K10,G14) -> #NAME?
A15: 12 Q4 | B15: =B14+1 -> 12 | C15: 40 | E15: 12 Q4 | F15: =F14+1 -> 12 | G15: 40 | H15: =IF(G15="","",G15) -> 40 | I15: =IF(H11="","",IF(H15="","",H15-H11)) -> 5 | J15: #NAME? | K15: =IF(G15="",J15+K11,G15) -> 40
A16: 13 Q1 | B16: =B15+1 -> 13 | C16: 28 | E16: 13 Q1 | F16: =F15+1 -> 13 | G16: 28 | H16: =IF(G16="","",G16) -> 28 | I16: =IF(H12="","",IF(H16="","",H16-H12)) -> 13 | J16: #NAME? | K16: =IF(G16="",J16+K12,G16) -> 28
A17: 13 Q2 | B17: =B16+1 -> 14 | C17: 40 | E17: 13 Q2 | F17: =F16+1 -> 14 | G17: 40 | H17: =IF(G17="","",G17) -> 40 | I17: =IF(H13="","",IF(H17="","",H17-H13)) | J17: #NAME? | K17: =IF(G17="",J17+K13,G17) -> 40
A18: 13 Q3 | B18: =B17+1 -> 15 | C18: 25 | E18: 13 Q3 | F18: =F17+1 -> 15 | G18: 25 | H18: =IF(G18="","",G18) -> 25 | I18: =IF(H14="","",IF(H18="","",H18-H14)) | J18: #NAME? | K18: =IF(G18="",J18+K14,G18) -> 25
A19: 13 Q4 | B19: =B18+1 -> 16 | C19: 65 | E19: 13 Q4 | F19: =F18+1 -> 16 | H19: =IF(G19="","",G19) | I19: =IF(H15="","",IF(H19="","",H19-H15)) | J19: #NAME? | K19: =IF(G19="",J19+K15,G19) -> #NAME?

Sheet AR 1
A1: Autoregressive Model AR(1)
B3: Residual | C3: Y | E3: Lag | F3: ACF | G3: ACF (pop) | Y3: Lag | Z3: ACF
A4: 1 | B4: -0.69785249 | C4: =5+0.4*0+B4 -> 4.3021475
A5: =A4+1 -> 2 | B5: -0.57784409 | C5: =5+0.4*C4+B5 -> 6.1430149 | E5: 1 | F5: #NAME? | G5: =0.4^E5 -> 0.4 | Y5: 1 | Z5: =SUMPRODUCT(OFFSET($C$4:$C$103,0,0,COUNT($C$4:$C$103)-Y5)-AVERAGE($C$4:$C$103),OFFSET($C$4:$C$103,Y5,0,COUNT($C$4:$C$103)-Y5)-AVERAGE($C$4:$C$103))/DEVSQ($C$4:$C$103) -> 0.39437108
A6: =A5+1 -> 3 | B6: -1.1112487 | C6: =5+0.4*C5+B6 -> 6.3459573 | E6: =E5+1 -> 2 | F6: #NAME? | G6: =0.4^E6 -> 0.16 | Y6: =Y5+1 -> 2 | Z6: =SUMPRODUCT(OFFSET($C$4:$C$103,0,0,COUNT($C$4:$C$103)-Y6)-AVERAGE($C$4:$C$103),OFFSET($C$4:$C$103,Y6,0,COUNT($C$4:$C$103)-Y6)-AVERAGE($C$4:$C$103))/DEVSQ($C$4:$C$103) -> 0.15840974
A7: =A6+1 -> 4 | B7: -0.56033359 | C7: =5+0.4*C6+B7 -> 6.9780493 | E7: =E6+1 -> 3 | F7: #NAME? | G7: =0.4^E7 -> 0.064 | Y7: =Y6+1 -> 3 | Z7: =SUMPRODUCT(OFFSET($C$4:$C$103,0,0,COUNT($C$4:$C$103)-Y7)-AVERAGE($C$4:$C$103),OFFSET($C$4:$C$103,Y7,0,COUNT($C$4:$C$103)-Y7)-AVERAGE($C$4:$C$103))/DEVSQ($C$4:$C$103) -> 0.034080639
A8: =A7+1 -> 5 | B8: 1.656534 | C8: =5+0.4*C7+B8 -> 9.4477537 | E8: =E7+1 -> 4 | F8: #NAME? | G8: =0.4^E8 -> 0.0256 | Y8: =Y7+1 -> 4 | Z8: =SUMPRODUCT(OFFSET($C$4:$C$103,0,0,COUNT($C$4:$C$103)-Y8)-AVERAGE($C$4:$C$103),OFFSET($C$4:$C$103,Y8,0,COUNT($C$4:$C$103)-Y8)-AVERAGE($C$4:$C$103))/DEVSQ($C$4:$C$103) -> -0.17672085
A9: =A8+1 -> 6 | B9: -0.41484924 | C9: =5+0.4*C8+B9 -> 8.3642522 | E9: =E8+1 -> 5 | F9: #NAME? | G9: =0.4^E9 -> 0.01024 | Y9: =Y8+1 -> 5 | Z9: =SUMPRODUCT(OFFSET($C$4:$C$103,0,0,COUNT($C$4:$C$103)-Y9)-AVERAGE($C$4:$C$103),OFFSET($C$4:$C$103,Y9,0,COUNT($C$4:$C$103)-Y9)-AVERAGE($C$4:$C$103))/DEVSQ($C$4:$C$103) -> -0.044096355
A10: =A9+1 -> 7 | B10: -1.2749312 | C10: =5+0.4*C9+B10 -> 7.0707697 | E10: =E9+1 -> 6 | F10: #NAME? | G10: =0.4^E10 -> 0.004096 | Y10: =Y9+1 -> 6 | Z10: =SUMPRODUCT(OFFSET($C$4:$C$103,0,0,COUNT($C$4:$C$103)-Y10)-AVERAGE($C$4:$C$103),OFFSET($C$4:$C$103,Y10,0,COUNT($C$4:$C$103)-Y10)-AVERAGE($C$4:$C$103))/DEVSQ($C$4:$C$103) -> 0.044618058
A11: =A10+1 -> 8 | B11: -0.80593538 | C11: =5+0.4*C10+B11 -> 7.0223725 | E11: =E10+1 -> 7 | F11: #NAME? | G11: =0.4^E11 -> 0.0016384 | Y11: =Y10+1 -> 7 | Z11: =SUMPRODUCT(OFFSET($C$4:$C$103,0,0,COUNT($C$4:$C$103)-Y11)-AVERAGE($C$4:$C$103),OFFSET($C$4:$C$103,Y11,0,COUNT($C$4:$C$103)-Y11)-AVERAGE($C$4:$C$103))/DEVSQ($C$4:$C$103) -> 0.046570101
A12: =A11+1 -> 9 | B12: -0.17954156 | C12: =5+0.4*C11+B12 -> 7.6294074 | E12: =E11+1 -> 8 | F12: #NAME? | G12: =0.4^E12 -> 0.00065536 | Y12: =Y11+1 -> 8 | Z12: =SUMPRODUCT(OFFSET($C$4:$C$103,0,0,COUNT($C$4:$C$103)-Y12)-AVERAGE($C$4:$C$103),OFFSET($C$4:$C$103,Y12,0,COUNT($C$4:$C$103)-Y12)-AVERAGE($C$4:$C$103))/DEVSQ($C$4:$C$103) -> 0.077240785
A13: =A12+1 -> 10 | B13: -0.6000218 | C13: =5+0.4*C12+B13 -> 7.4517412 | E13: =E12+1 -> 9 | F13: #NAME? | G13: =0.4^E13 -> 0.000262144 | Y13: =Y12+1 -> 9 | Z13: =SUMPRODUCT(OFFSET($C$4:$C$103,0,0,COUNT($C$4:$C$103)-Y13)-AVERAGE($C$4:$C$103),OFFSET($C$4:$C$103,Y13,0,COUNT($C$4:$C$103)-Y13)-AVERAGE($C$4:$C$103))/DEVSQ($C$4:$C$103) -> 0.083525235
A14: =A13+1 -> 11 | B14: -0.66763334 | C14: =5+0.4*C13+B14 -> 7.3130631 | E14: =E13+1 -> 10 | F14: #NAME? | G14: =0.4^E14 -> 0.0001048576 | Y14: =Y13+1 -> 10 | Z14: =SUMPRODUCT(OFFSET($C$4:$C$103,0,0,COUNT($C$4:$C$103)-Y14)-AVERAGE($C$4:$C$103),OFFSET($C$4:$C$103,Y14,0,COUNT($C$4:$C$103)-Y14)-AVERAGE($C$4:$C$103))/DEVSQ($C$4:$C$103) -> -0.10317252
A15: =A14+1 -> 12 | B15: -1.1882741 | C15: =5+0.4*C14+B15 -> 6.7369512 | E15: =E14+1 -> 11 | F15: #NAME? | G15: =0.4^E15 -> 4.194304e-05 | Y15: =Y14+1 -> 11 | Z15: =SUMPRODUCT(OFFSET($C$4:$C$103,0,0,COUNT($C$4:$C$103)-Y15)-AVERAGE($C$4:$C$103),OFFSET($C$4:$C$103,Y15,0,COUNT($C$4:$C$103)-Y15)-AVERAGE($C$4:$C$103))/DEVSQ($C$4:$C$103) -> -0.13043409
A16: =A15+1 -> 13 | B16: -0.059362987 | C16: =5+0.4*C15+B16 -> 7.6354175 | E16: =E15+1 -> 12 | F16: #NAME? | G16: =0.4^E16 -> 1.6777216e-05 | Y16: =Y15+1 -> 12 | Z16: =SUMPRODUCT(OFFSET($C$4:$C$103,0,0,COUNT($C$4:$C$103)-Y16)-AVERAGE($C$4:$C$103),OFFSET($C$4:$C$103,Y16,0,COUNT($C$4:$C$103)-Y16)-AVERAGE($C$4:$C$103))/DEVSQ($C$4:$C$103) -> -0.14120536
A17: =A16+1 -> 14 | B17: 0.28008901 | C17: =5+0.4*C16+B17 -> 8.334256 | E17: =E16+1 -> 13 | F17: #NAME? | G17: =0.4^E17 -> 6.7108864e-06 | Y17: =Y16+1 -> 13 | Z17: =SUMPRODUCT(OFFSET($C$4:$C$103,0,0,COUNT($C$4:$C$103)-Y17)-AVERAGE($C$4:$C$103),OFFSET($C$4:$C$103,Y17,0,COUNT($C$4:$C$103)-Y17)-AVERAGE($C$4:$C$103))/DEVSQ($C$4:$C$103) -> -0.08148338
... A19: =A18+1 -> 16 | B19: 1.0704437 | C19: =5+0.4*C18+B19 -> 9.4761148 | E19: =E18+1 -> 15 | F19: #NAME? | G19: =0.4^E19 -> 1.0737418e-06 | Y19: =Y18+1 -> 15 | Z19: =SUMPRODUCT(OFFSET($C$4:$C$103,0,0,COUNT($C$4:$C$103)-Y19)-AVERAGE($C$4:$C$103),OFFSET($C$4:$C$103,Y19,0,COUNT($C$4:$C$103)-Y19)-AVERAGE($C$4:$C$103))/DEVSQ($C$4:$C$103) -> 0.08967585
A20: =A19+1 -> 17 | B20: -0.34072311 | C20: =5+0.4*C19+B20 -> 8.4497228
A21: =A20+1 -> 18 | B21: 1.1245741 | C21: =5+0.4*C20+B21 -> 9.5044632 | E21: μ | F21: =5/(1-0.4) -> 8.3333333 | H21: ӯ | I21: =AVERAGE(C4:C103) -> 8.227547
A22: =A21+1 -> 19 | B22: -2.1341842 | C22: =5+0.4*C21+B22 -> 6.6676011 | E22: pop var | F22: =1^2/(1-0.4^2) -> 1.1904762 | H22: s2 | I22: =VAR(C4:C103) -> 1.7005473
A23: =A22+1 -> 20 | B23: 0.18527521 | C23: =5+0.4*C22+B23 -> 7.8523156
A24: =A23+1 -> 21 | B24: -0.22206384 | C24: =5+0.4*C23+B24 -> 7.9188624 | E24: pop σ2 | F24: =VARP(B4:B103) -> 1.2706034
A25: =A24+1 -> 22 | B25: 0.60504116 | C25: =5+0.4*C24+B25 -> 8.7725861
A26: =A25+1 -> 23 | B26: 2.4090629 | C26: =5+0.4*C25+B26 -> 10.918097
A27: =A26+1 -> 24 | B27: -0.2278569 | C27: =5+0.4*C26+B27 -> 9.139382
A28: =A27+1 -> 25 | B28: 1.4933041 | C28: =5+0.4*C27+B28 -> 10.149057
A29: =A28+1 -> 26 | B29: 0.71349408 | C29: =5+0.4*C28+B29 -> 9.7731168
A30: =A29+1 -> 27 | B30: -0.76524343 | C30: =5+0.4*C29+B30 -> 8.1440033
A31: =A30+1 -> 28 | B31: -1.4191009 | C31: =5+0.4*C30+B31 -> 6.8385004
A32: =A31+1 -> 29 | B32: 1.474037 | C32: =5+0.4*C31+B32 -> 9.2094371
A33: =A32+1 -> 30 | B33: 0.1533737 | C33: =5+0.4*C32+B33 -> 8.8371486
A34: =A33+1 -> 31 | B34: -0.91392996 | C34: =5+0.4*C33+B34 -> 7.6209295
A35: =A34+1 -> 32 | B35: -0.25821379 | C35: =5+0.4*C34+B35 -> 7.790158
A36: =A35+1 -> 33 | B36: -0.49661123 | C36: =5+0.4*C35+B36 -> 7.619452
... A103: =A102+1 -> 100 | B103: 1.0086025 | C103: =5+0.4*C102+B103 -> 8.2498435

Sheet AR 1a
A1: Autoregressive Model AR(1)
B3: Residual | C3: Y | E3: Lag | F3: PACF | G3: PACF (pop)
A4: 1 | B4: -0.69785249 | C4: =5+0.4*0+B4 -> 4.3021475
A5: =A4+1 -> 2 | B5: -0.57784409 | C5: =5+0.4*C4+B5 -> 6.1430149
A6: =A5+1 -> 3 | B6: -1.1112487 | C6: =5+0.4*C5+B6 -> 6.3459573 | E6: 1 | F6: #NAME? | G6: =0.4^E6 -> 0.4
A7: =A6+1 -> 4 | B7: -0.56033359 | C7: =5+0.4*C6+B7 -> 6.9780493 | E7: =E6+1 -> 2 | F7: #NAME? | G7: 0
A8: =A7+1 -> 5 | B8: 1.656534 | C8: =5+0.4*C7+B8 -> 9.4477537 | E8: =E7+1 -> 3 | F8: #NAME? | G8: 0
A9: =A8+1 -> 6 | B9: -0.41484924 | C9: =5+0.4*C8+B9 -> 8.3642522 | E9: =E8+1 -> 4 | F9: #NAME? | G9: 0
A10: =A9+1 -> 7 | B10: -1.2749312 | C10: =5+0.4*C9+B10 -> 7.0707697 | E10: =E9+1 -> 5 | F10: #NAME? | G10: 0
A11: =A10+1 -> 8 | B11: -0.80593538 | C11: =5+0.4*C10+B11 -> 7.0223725 | E11: =E10+1 -> 6 | F11: #NAME? | G11: 0
A12: =A11+1 -> 9 | B12: -0.17954156 | C12: =5+0.4*C11+B12 -> 7.6294074 | E12: =E11+1 -> 7 | F12: #NAME? | G12: 0
A13: =A12+1 -> 10 | B13: -0.6000218 | C13: =5+0.4*C12+B13 -> 7.4517412 | E13: =E12+1 -> 8 | F13: #NAME? | G13: 0
A14: =A13+1 -> 11 | B14: -0.66763334 | C14: =5+0.4*C13+B14 -> 7.3130631 | E14: =E13+1 -> 9 | F14: #NAME? | G14: 0
A15: =A14+1 -> 12 | B15: -1.1882741 | C15: =5+0.4*C14+B15 -> 6.7369512 | E15: =E14+1 -> 10 | F15: #NAME? | G15: 0
A16: =A15+1 -> 13 | B16: -0.059362987 | C16: =5+0.4*C15+B16 -> 7.6354175 | E16: =E15+1 -> 11 | F16: #NAME? | G16: 0
A17: =A16+1 -> 14 | B17: 0.28008901 | C17: =5+0.4*C16+B17 -> 8.334256 | E17: =E16+1 -> 12 | F17: #NAME? | G17: 0
A18: =A17+1 -> 15 | B18: 0.18047524 | C18: =5+0.4*C17+B18 -> 8.5141776 | E18: =E17+1 -> 13 | F18: #NAME? | G18: 0
... A20: =A19+1 -> 17 | B20: -0.34072311 | C20: =5+0.4*C19+B20 -> 8.4497228 | E20: =E19+1 -> 15 | F20: #NAME? | G20: 0
A21: =A20+1 -> 18 | B21: 1.1245741 | C21: =5+0.4*C20+B21 -> 9.5044632
A22: =A21+1 -> 19 | B22: -2.1341842 | C22: =5+0.4*C21+B22 -> 6.6676011
A23: =A22+1 -> 20 | B23: 0.18527521 | C23: =5+0.4*C22+B23 -> 7.8523156
A24: =A23+1 -> 21 | B24: -0.22206384 | C24: =5+0.4*C23+B24 -> 7.9188624
A25: =A24+1 -> 22 | B25: 0.60504116 | C25: =5+0.4*C24+B25 -> 8.7725861
A26: =A25+1 -> 23 | B26: 2.4090629 | C26: =5+0.4*C25+B26 -> 10.918097
A27: =A26+1 -> 24 | B27: -0.2278569 | C27: =5+0.4*C26+B27 -> 9.139382
A28: =A27+1 -> 25 | B28: 1.4933041 | C28: =5+0.4*C27+B28 -> 10.149057
A29: =A28+1 -> 26 | B29: 0.71349408 | C29: =5+0.4*C28+B29 -> 9.7731168
A30: =A29+1 -> 27 | B30: -0.76524343 | C30: =5+0.4*C29+B30 -> 8.1440033
A31: =A30+1 -> 28 | B31: -1.4191009 | C31: =5+0.4*C30+B31 -> 6.8385004
A32: =A31+1 -> 29 | B32: 1.474037 | C32: =5+0.4*C31+B32 -> 9.2094371
... A103: =A102+1 -> 100 | B103: 1.0086025 | C103: =5+0.4*C102+B103 -> 8.2498435

Sheet AR 1b
A1: Autoregressive Model AR(1) - Least Squares
B3: Y | D3: X | G3: Y | I3: φ | K3: Act Y | L3: Pred Y | M3: Residual | O3: MSE
A4: 1 | B4: ='AR 1'!C4 -> 4.3021475 | K4: =B4 -> 4.3021475 | O4: =SUMSQ(M5:M103) -> 126.60512
A5: =A4+1 -> 2 | B5: ='AR 1'!C5 -> 6.1430149 | D5: 1 | E5: =B4 -> 4.3021475 | G5: =B5 -> 6.1430149 | I5: {=MMULT(MINVERSE(MMULT(TRANSPOSE(D5:E103),D5:E103)),MMULT(TRANSPOSE(D5:E103),G5:G103))} -> 5.0225268 | K5: =B5 -> 6.1430149 | L5: =I$5+K4*I$6 -> 6.7191971 | M5: =K5-L5 -> -0.57618214
A6: =A5+1 -> 3 | B6: ='AR 1'!C6 -> 6.3459573 | D6: 1 | E6: =B5 -> 6.1430149 | G6: =B6 -> 6.3459573 | I6: 0.39437751 | K6: =B6 -> 6.3459573 | L6: =I$5+K5*I$6 -> 7.4451938 | M6: =K6-L6 -> -1.0992365 | O6: Res Mean
A7: =A6+1 -> 4 | B7: ='AR 1'!C7 -> 6.9780493 | D7: 1 | E7: =B6 -> 6.3459573 | G7: =B7 -> 6.9780493 | K7: =B7 -> 6.9780493 | L7: =I$5+K6*I$6 -> 7.5252297 | M7: =K7-L7 -> -0.54718035 | O7: =AVERAGE(M5:M103) -> -1.1156059e-14
A8: =A7+1 -> 5 | B8: ='AR 1'!C8 -> 9.4477537 | D8: 1 | E8: =B7 -> 6.9780493 | G8: =B8 -> 9.4477537 | K8: =B8 -> 9.4477537 | L8: =I$5+K7*I$6 -> 7.7745125 | M8: =K8-L8 -> 1.6732412
A9: =A8+1 -> 6 | B9: ='AR 1'!C9 -> 8.3642522 | D9: 1 | E9: =B8 -> 9.4477537 | G9: =B9 -> 8.3642522 | K9: =B9 -> 8.3642522 | L9: =I$5+K8*I$6 -> 8.7485084 | M9: =K9-L9 -> -0.38425617 | O9: Res Var
A10: =A9+1 -> 7 | B10: ='AR 1'!C10 -> 7.0707697 | D10: 1 | E10: =B9 -> 8.3642522 | G10: =B10 -> 7.0707697 | K10: =B10 -> 7.0707697 | L10: =I$5+K9*I$6 -> 8.3211998 | M10: =K10-L10 -> -1.2504301 | O10: =VAR(M5:M103) -> 1.291889
A11: =A10+1 -> 8 | B11: ='AR 1'!C11 -> 7.0223725 | D11: 1 | E11: =B10 -> 7.0707697 | G11: =B11 -> 7.0223725 | K11: =B11 -> 7.0223725 | L11: =I$5+K10*I$6 -> 7.8110794 | M11: =K11-L11 -> -0.78870689
A12: =A11+1 -> 9 | B12: ='AR 1'!C12 -> 7.6294074 | D12: 1 | E12: =B11 -> 7.0223725 | G12: =B12 -> 7.6294074 | K12: =B12 -> 7.6294074 | L12: =I$5+K11*I$6 -> 7.7919926 | M12: =K12-L12 -> -0.16258517
A13: =A12+1 -> 10 | B13: ='AR 1'!C13 -> 7.4517412 | D13: 1 | E13: =B12 -> 7.6294074 | G13: =B13 -> 7.4517412 | K13: =B13 -> 7.4517412 | L13: =I$5+K12*I$6 -> 8.0313935 | M13: =K13-L13 -> -0.57965237
A14: =A13+1 -> 11 | B14: ='AR 1'!C14 -> 7.3130631 | D14: 1 | E14: =B13 -> 7.4517412 | G14: =B14 -> 7.3130631 | K14: =B14 -> 7.3130631 | L14: =I$5+K13*I$6 -> 7.961326 | M14: =K14-L14 -> -0.64826284
A15: =A14+1 -> 12 | B15: ='AR 1'!C15 -> 6.7369512 | D15: 1 | E15: =B14 -> 7.3130631 | G15: =B15 -> 6.7369512 | K15: =B15 -> 6.7369512 | L15: =I$5+K14*I$6 -> 7.9066345 | M15: =K15-L15 -> -1.1696833
A16: =A15+1 -> 13 | B16: ='AR 1'!C16 -> 7.6354175 | D16: 1 | E16: =B15 -> 6.7369512 | G16: =B16 -> 7.6354175 | K16: =B16 -> 7.6354175 | L16: =I$5+K15*I$6 -> 7.6794289 | M16: =K16-L16 -> -0.044011383
A17: =A16+1 -> 14 | B17: ='AR 1'!C17 -> 8.334256 | D17: 1 | E17: =B16 -> 7.6354175 | G17: =B17 -> 8.334256 | K17: =B17 -> 8.334256 | L17: =I$5+K16*I$6 -> 8.0337638 | M17: =K17-L17 -> 0.30049223
A18: =A17+1 -> 15 | B18: ='AR 1'!C18 -> 8.5141776 | D18: 1 | E18: =B17 -> 8.334256 | G18: =B18 -> 8.5141776 | K18: =B18 -> 8.5141776 | L18: =I$5+K17*I$6 -> 8.30937 | M18: =K18-L18 -> 0.20480767
A19: =A18+1 -> 16 | B19: ='AR 1'!C19 -> 9.4761148 | D19: 1 | E19: =B18 -> 8.5141776 | G19: =B19 -> 9.4761148 | K19: =B19 -> 9.4761148 | L19: =I$5+K18*I$6 -> 8.380327 | M19: =K19-L19 -> 1.0957878
A20: =A19+1 -> 17 | B20: ='AR 1'!C20 -> 8.4497228 | D20: 1 | E20: =B19 -> 9.4761148 | G20: =B20 -> 8.4497228 | K20: =B20 -> 8.4497228 | L20: =I$5+K19*I$6 -> 8.7596934 | M20: =K20-L20 -> -0.30997059
A21: =A20+1 -> 18 | B21: ='AR 1'!C21 -> 9.5044632 | D21: 1 | E21: =B20 -> 8.4497228 | G21: =B21 -> 9.5044632 | K21: =B21 -> 9.5044632 | L21: =I$5+K20*I$6 -> 8.3549075 | M21: =K21-L21 -> 1.1495557
A22: =A21+1 -> 19 | B22: ='AR 1'!C22 -> 6.6676011 | D22: 1 | E22: =B21 -> 9.5044632 | G22: =B22 -> 6.6676011 | K22: =B22 -> 6.6676011 | L22: =I$5+K21*I$6 -> 8.7708734 | M22: =K22-L22 -> -2.1032723 | O22: PACF(1) | P22: #NAME?
A23: =A22+1 -> 20 | B23: ='AR 1'!C23 -> 7.8523156 | D23: 1 | E23: =B22 -> 6.6676011 | G23: =B23 -> 7.8523156 | K23: =B23 -> 7.8523156 | L23: =I$5+K22*I$6 -> 7.6520787 | M23: =K23-L23 -> 0.2002369 | O23: PACF(2) | P23: #NAME?
A24: =A23+1 -> 21 | B24: ='AR 1'!C24 -> 7.9188624 | D24: 1 | E24: =B23 -> 7.8523156 | G24: =B24 -> 7.9188624 | K24: =B24 -> 7.9188624 | L24: =I$5+K23*I$6 -> 8.1193035 | M24: =K24-L24 -> -0.20044111 | O24: mean | P24: =AVERAGE(B4:B103) -> 8.227547
A25: =A24+1 -> 22 | B25: ='AR 1'!C25 -> 8.7725861 | D25: 1 | E25: =B24 -> 7.9188624 | G25: =B25 -> 8.7725861 | K25: =B25 -> 8.7725861 | L25: =I$5+K24*I$6 -> 8.1455481 | M25: =K25-L25 -> 0.62703805 | O25: φ0 | P25: =P24*(1-P26) -> #NAME?
A26: =A25+1 -> 23 | B26: ='AR 1'!C26 -> 10.918097 | D26: 1 | E26: =B25 -> 8.7725861 | G26: =B26 -> 10.918097 | K26: =B26 -> 10.918097 | L26: =I$5+K25*I$6 -> 8.4822375 | M26: =K26-L26 -> 2.4358598 | O26: φ1 | P26: =P22 -> #NAME?
A27: =A26+1 -> 24 | B27: ='AR 1'!C27 -> 9.139382 | D27: 1 | E27: =B26 -> 10.918097 | G27: =B27 -> 9.139382 | K27: =B27 -> 9.139382 | L27: =I$5+K26*I$6 -> 9.3283789 | M27: =K27-L27 -> -0.18899685
A28: =A27+1 -> 25 | B28: ='AR 1'!C28 -> 10.149057 | D28: 1 | E28: =B27 -> 9.139382 | G28: =B28 -> 10.149057 | K28: =B28 -> 10.149057 | L28: =I$5+K27*I$6 -> 8.6268936 | M28: =K28-L28 -> 1.5221633
A29: =A28+1 -> 26 | B29: ='AR 1'!C29 -> 9.7731168 | D29: 1 | E29: =B28 -> 10.149057 | G29: =B29 -> 9.7731168 | K29: =B29 -> 9.7731168 | L29: =I$5+K28*I$6 -> 9.0250866 | M29: =K29-L29 -> 0.74803021
A30: =A29+1 -> 27 | B30: ='AR 1'!C30 -> 8.1440033 | D30: 1 | E30: =B29 -> 9.7731168 | G30: =B30 -> 8.1440033 | K30: =B30 -> 8.1440033 | L30: =I$5+K29*I$6 -> 8.8768243 | M30: =K30-L30 -> -0.73282102
A31: =A30+1 -> 28 | B31: ='AR 1'!C31 -> 6.8385004 | D31: 1 | E31: =B30 -> 8.1440033 | G31: =B31 -> 6.8385004 | K31: =B31 -> 6.8385004 | L31: =I$5+K30*I$6 -> 8.2343386 | M31: =K31-L31 -> -1.3958382
A32: =A31+1 -> 29 | B32: ='AR 1'!C32 -> 9.2094371 | D32: 1 | E32: =B31 -> 6.8385004 | G32: =B32 -> 9.2094371 | K32: =B32 -> 9.2094371 | L32: =I$5+K31*I$6 -> 7.7194776 | M32: =K32-L32 -> 1.4899596
A33: =A32+1 -> 30 | B33: ='AR 1'!C33 -> 8.8371486 | D33: 1 | E33: =B32 -> 9.2094371 | G33: =B33 -> 8.8371486 | K33: =B33 -> 8.8371486 | L33: =I$5+K32*I$6 -> 8.6545217 | M33: =K33-L33 -> 0.18262683
A34: =A33+1 -> 31 | B34: ='AR 1'!C34 -> 7.6209295 | D34: 1 | E34: =B33 -> 8.8371486 | G34: =B34 -> 7.6209295 | K34: =B34 -> 7.6209295 | L34: =I$5+K33*I$6 -> 8.5076995 | M34: =K34-L34 -> -0.88677002
A35: =A34+1 -> 32 | B35: ='AR 1'!C35 -> 7.790158 | D35: 1 | E35: =B34 -> 7.6209295 | G35: =B35 -> 7.790158 | K35: =B35 -> 7.790158 | L35: =I$5+K34*I$6 -> 8.02805 | M35: =K35-L35 -> -0.23789202
A36: =A35+1 -> 33 | B36: ='AR 1'!C36 -> 7.619452 | D36: 1 | E36: =B35 -> 7.790158 | G36: =B36 -> 7.619452 | K36: =B36 -> 7.619452 | L36: =I$5+K35*I$6 -> 8.09479 | M36: =K36-L36 -> -0.47533798
A37: =A36+1 -> 34 | B37: ='AR 1'!C37 -> 9.1279009 | D37: 1 | E37: =B36 -> 7.619452 | G37: =B37 -> 9.1279009 | K37: =B37 -> 9.1279009 | L37: =I$5+K36*I$6 -> 8.0274673 | M37: =K37-L37 -> 1.1004335
A38: =A37+1 -> 35 | B38: ='AR 1'!C38 -> 9.2788576 | D38: 1 | E38: =B37 -> 9.1279009 | G38: =B38 -> 9.2788576 | K38: =B38 -> 9.2788576 | L38: =I$5+K37*I$6 -> 8.6223657 | M38: =K38-L38 -> 0.65649196
... A103: =A102+1 -> 100 | B103: ='AR 1'!C103 -> 8.2498435 | D103: 1 | E103: =B102 -> 5.6031024 | G103: =B103 -> 8.2498435 | K103: =B103 -> 8.2498435 | L103: =I$5+K102*I$6 -> 7.2322644 | M103: =K103-L103 -> 1.0175791

Sheet AR 1c
A1: Autoregressive Model AR(1) - Solver
B3: Residual | C3: Y | D3: Pred | F3: φ
A4: 1 | B4: -0.69785249 | C4: ='AR 1'!C4 -> 4.3021475
A5: =A4+1 -> 2 | B5: -0.57784409 | C5: ='AR 1'!C5 -> 6.1430149 | D5: =$F$5+C4*$F$6 -> 6.7192044 | F5: 5.0225533
A6: =A5+1 -> 3 | B6: -1.1112487 | C6: ='AR 1'!C6 -> 6.3459573 | D6: =$F$5+C5*$F$6 -> 7.4451929 | F6: 0.39437307
A7: =A6+1 -> 4 | B7: -0.56033359 | C7: ='AR 1'!C7 -> 6.9780493 | D7: =$F$5+C6*$F$6 -> 7.5252279
A8: =A7+1 -> 5 | B8: 1.656534 | C8: ='AR 1'!C8 -> 9.4477537 | D8: =$F$5+C7*$F$6 -> 7.774508 | F8: MSE
A9: =A8+1 -> 6 | B9: -0.41484924 | C9: ='AR 1'!C9 -> 8.3642522 | D9: =$F$5+C8*$F$6 -> 8.7484929 | F9: =SUMXMY2(C5:C103,D5:D103) -> 126.60512
A10: =A9+1 -> 7 | B10: -1.2749312 | C10: ='AR 1'!C10 -> 7.0707697 | D10: =$F$5+C9*$F$6 -> 8.3211891
A11: =A10+1 -> 8 | B11: -0.80593538 | C11: ='AR 1'!C11 -> 7.0223725 | D11: =$F$5+C10*$F$6 -> 7.8110744 | F11: |φ1| | G11: < 1
A12: =A11+1 -> 9 | B12: -0.17954156 | C12: ='AR 1'!C12 -> 7.6294074 | D12: =$F$5+C11*$F$6 -> 7.7919879 | F12: =ABS(F6) -> 0.39437307
A13: =A12+1 -> 10 | B13: -0.6000218 | C13: ='AR 1'!C13 -> 7.4517412 | D13: =$F$5+C12*$F$6 -> 8.0313861
A14: =A13+1 -> 11 | B14: -0.66763334 | C14: ='AR 1'!C14 -> 7.3130631 | D14: =$F$5+C13*$F$6 -> 7.9613193
A15: =A14+1 -> 12 | B15: -1.1882741 | C15: ='AR 1'!C15 -> 6.7369512 | D15: =$F$5+C14*$F$6 -> 7.9066284
A16: =A15+1 -> 13 | B16: -0.059362987 | C16: ='AR 1'!C16 -> 7.6354175 | D16: =$F$5+C15*$F$6 -> 7.6794254
A17: =A16+1 -> 14 | B17: 0.28008901 | C17: ='AR 1'!C17 -> 8.334256 | D17: =$F$5+C16*$F$6 -> 8.0337563
A18: =A17+1 -> 15 | B18: 0.18047524 | C18: ='AR 1'!C18 -> 8.5141776 | D18: =$F$5+C17*$F$6 -> 8.3093594
A19: =A18+1 -> 16 | B19: 1.0704437 | C19: ='AR 1'!C19 -> 9.4761148 | D19: =$F$5+C18*$F$6 -> 8.3803157
A20: =A19+1 -> 17 | B20: -0.34072311 | C20: ='AR 1'!C20 -> 8.4497228 | D20: =$F$5+C19*$F$6 -> 8.7596778
A21: =A20+1 -> 18 | B21: 1.1245741 | C21: ='AR 1'!C21 -> 9.5044632 | D21: =$F$5+C20*$F$6 -> 8.3548964
A22: =A21+1 -> 19 | B22: -2.1341842 | C22: ='AR 1'!C22 -> 6.6676011 | D22: =$F$5+C21*$F$6 -> 8.7708576
A23: =A22+1 -> 20 | B23: 0.18527521 | C23: ='AR 1'!C23 -> 7.8523156 | D23: =$F$5+C22*$F$6 -> 7.6520756
A24: =A23+1 -> 21 | B24: -0.22206384 | C24: ='AR 1'!C24 -> 7.9188624 | D24: =$F$5+C23*$F$6 -> 8.1192951
... A103: =A102+1 -> 100 | B103: 1.0086025 | C103: ='AR 1'!C103 -> 8.2498435 | D103: =$F$5+C102*$F$6 -> 7.232266

Sheet AR 1d
A1: Autoregressive Model AR(1)
B3: Data | D3: mean | E3: =AVERAGE(B4:B103) -> 8.227547 | G3: #NAME?
A4: 1 | B4: 4.3021475 | D4: varp | E4: =VARP(B4:B103) -> 1.6835418 | G4: #NAME?
A5: =A4+1 -> 2 | B5: 6.1430149 | D5: ACF(1) | E5: #NAME? | G5: #NAME?
A6: =A5+1 -> 3 | B6: 6.3459573 | D6: PACF(1) | E6: #NAME? | G6: #NAME?
A7: =A6+1 -> 4 | B7: 6.9780493
A8: =A7+1 -> 5 | B8: 9.4477537 | D8: φ1 | E8: =E6 -> #NAME? | G8: #NAME?
A9: =A8+1 -> 6 | B9: 8.3642522 | D9: φ0 | E9: =E3*(1-E8) -> #NAME? | G9: #NAME?
A10: =A9+1 -> 7 | B10: 7.0707697 | D10: σ2 | E10: =E4*(1-E8^2) -> #NAME? | G10: #NAME?
A11: =A10+1 -> 8 | B11: 7.0223725
A12: =A11+1 -> 9 | B12: 7.6294074
A13: =A12+1 -> 10 | B13: 7.4517412
A14: =A13+1 -> 11 | B14: 7.3130631
A15: =A14+1 -> 12 | B15: 6.7369512
A16: =A15+1 -> 13 | B16: 7.6354175
A17: =A16+1 -> 14 | B17: 8.334256
A18: =A17+1 -> 15 | B18: 8.5141776
A19: =A18+1 -> 16 | B19: 9.4761148
A20: =A19+1 -> 17 | B20: 8.4497228
A21: =A20+1 -> 18 | B21: 9.5044632
A22: =A21+1 -> 19 | B22: 6.6676011
... A103: =A102+1 -> 100 | B103: 8.2498435

Sheet AR 2
A1: Autoregressive Model AR(2)
B3: Residual | C3: Y | E3: Lag | F3: ACF | G3: ACF (pop) | Y3: Lag | Z3: PACF | AA3: PACF (pop)
A4: 1 | B4: -0.47324253 | C4: =5+0.4*0-0.1*0+B4 -> 4.5267575
A5: =A4+1 -> 2 | B5: 0.08266779 | C5: =5+0.4*C4-0.1*0+B5 -> 6.8933708
A6: =A5+1 -> 3 | B6: 1.1207226 | C6: =5+0.4*C5-0.1*C4+B6 -> 8.4253951 | E6: 1 | F6: #NAME? | G6: =0.4^E6 -> 0.4 | Y6: 1 | Z6: #NAME? | AA6: =M22 -> 0.4
A7: =A6+1 -> 4 | B7: -0.68131888 | C7: =5+0.4*C6-0.1*C5+B7 -> 6.9995021 | E7: =E6+1 -> 2 | F7: #NAME? | G7: =0.4^E7 -> 0.16 | Y7: =Y6+1 -> 2 | Z7: #NAME? | AA7: =M23 -> -0.1
A8: =A7+1 -> 5 | B8: -0.76966716 | C8: =5+0.4*C7-0.1*C6+B8 -> 6.1875942 | E8: =E7+1 -> 3 | F8: #NAME? | G8: =0.4^E8 -> 0.064 | Y8: =Y7+1 -> 3 | Z8: #NAME? | AA8: 0
A9: =A8+1 -> 6 | B9: -0.96211099 | C9: =5+0.4*C8-0.1*C7+B9 -> 5.8129765 | E9: =E8+1 -> 4 | F9: #NAME? | G9: =0.4^E9 -> 0.0256 | Y9: =Y8+1 -> 4 | Z9: #NAME? | AA9: 0
A10: =A9+1 -> 7 | B10: 0.41364152 | C10: =5+0.4*C9-0.1*C8+B10 -> 7.1200727 | E10: =E9+1 -> 5 | F10: #NAME? | G10: =0.4^E10 -> 0.01024 | Y10: =Y9+1 -> 5 | Z10: #NAME? | AA10: 0
A11: =A10+1 -> 8 | B11: 1.2351835 | C11: =5+0.4*C10-0.1*C9+B11 -> 8.5019149 | E11: =E10+1 -> 6 | F11: #NAME? | G11: =0.4^E11 -> 0.004096 | Y11: =Y10+1 -> 6 | Z11: #NAME? | AA11: 0
A12: =A11+1 -> 9 | B12: -0.3875366 | C12: =5+0.4*C11-0.1*C10+B12 -> 7.3012221 | E12: =E11+1 -> 7 | F12: #NAME? | G12: =0.4^E12 -> 0.0016384 | Y12: =Y11+1 -> 7 | Z12: #NAME? | AA12: 0
A13: =A12+1 -> 10 | B13: -1.0314205 | C13: =5+0.4*C12-0.1*C11+B13 -> 6.0388768 | E13: =E12+1 -> 8 | F13: #NAME? | G13: =0.4^E13 -> 0.00065536 | Y13: =Y12+1 -> 8 | Z13: #NAME? | AA13: 0
A14: =A13+1 -> 11 | B14: -1.9393388 | C14: =5+0.4*C13-0.1*C12+B14 -> 4.7460897 | E14: =E13+1 -> 9 | F14: #NAME? | G14: =0.4^E14 -> 0.000262144 | Y14: =Y13+1 -> 9 | Z14: #NAME? | AA14: 0
A15: =A14+1 -> 12 | B15: 0.35912853 | C15: =5+0.4*C14-0.1*C13+B15 -> 6.6536767 | E15: =E14+1 -> 10 | F15: #NAME? | G15: =0.4^E15 -> 0.0001048576 | Y15: =Y14+1 -> 10 | Z15: #NAME? | AA15: 0
A16: =A15+1 -> 13 | B16: 1.0071142 | C16: =5+0.4*C15-0.1*C14+B16 -> 8.1939759 | E16: =E15+1 -> 11 | F16: #NAME? | G16: =0.4^E16 -> 4.194304e-05 | Y16: =Y15+1 -> 11 | Z16: #NAME? | AA16: 0
A17: =A16+1 -> 14 | B17: -0.051959162 | C17: =5+0.4*C16-0.1*C15+B17 -> 7.5602635 | E17: =E16+1 -> 12 | F17: #NAME? | G17: =0.4^E17 -> 1.6777216e-05 | Y17: =Y16+1 -> 12 | Z17: #NAME? | AA17: 0
A18: =A17+1 -> 15 | B18: -0.41025652 | C18: =5+0.4*C17-0.1*C16+B18 -> 6.7944513 | E18: =E17+1 -> 13 | F18: #NAME? | G18: =0.4^E18 -> 6.7108864e-06 | Y18: =Y17+1 -> 13 | Z18: #NAME? | AA18: 0
A19: =A18+1 -> 16 | B19: -2.2372876 | C19: =5+0.4*C18-0.1*C17+B19 -> 4.7244665 | E19: =E18+1 -> 14 | F19: #NAME? | G19: =0.4^E19 -> 2.6843546e-06 | Y19: =Y18+1 -> 14 | Z19: #NAME? | AA19: 0
A20: =A19+1 -> 17 | B20: -0.18318636 | C20: =5+0.4*C19-0.1*C18+B20 -> 6.0271551 | E20: =E19+1 -> 15 | F20: #NAME? | G20: =0.4^E20 -> 1.0737418e-06 | Y20: =Y19+1 -> 15 | Z20: #NAME? | AA20: 0
A21: =A20+1 -> 18 | B21: 0.18749463 | C21: =5+0.4*C20-0.1*C19+B21 -> 7.12591 | L21: φ0 | M21: 5
A22: =A21+1 -> 19 | B22: -0.056400668 | C22: =5+0.4*C21-0.1*C20+B22 -> 7.1912478 | E22: μ | F22: =M21/(1-M22-M23) -> 7.1428571 | H22: ӯ | I22: =AVERAGE(C4:C103) -> 7.0839834 | L22: φ1 | M22: 0.4
A23: =A22+1 -> 20 | B23: -0.48121649 | C23: =5+0.4*C22-0.1*C21+B23 -> 6.6826916 | E23: pop var | F23: =(1-M23)/(1+M23)*M24/((1-M23)^2-M22^2) -> 1.1640212 | H23: s2 | I23: =VAR(C4:C103) -> 1.2688527 | L23: φ2 | M23: -0.1
A24: =A23+1 -> 21 | B24: -0.38179475 | C24: =5+0.4*C23-0.1*C22+B24 -> 6.5721571 | L24: σ2 | M24: 1
A25: =A24+1 -> 22 | B25: -0.20785477 | C25: =5+0.4*C24-0.1*C23+B25 -> 6.7527389
A26: =A25+1 -> 23 | B26: -1.3964798 | C26: =5+0.4*C25-0.1*C24+B26 -> 5.6474001
A27: =A26+1 -> 24 | B27: -0.10631713 | C27: =5+0.4*C26-0.1*C25+B27 -> 6.477369
A28: =A27+1 -> 25 | B28: 0.26416614 | C28: =5+0.4*C27-0.1*C26+B28 -> 7.2903737
A29: =A28+1 -> 26 | B29: 0.5620941 | C29: =5+0.4*C28-0.1*C27+B29 -> 7.8305067
A30: =A29+1 -> 27 | B30: 0.34951765 | C30: =5+0.4*C29-0.1*C28+B30 -> 7.752683
A31: =A30+1 -> 28 | B31: -1.4196433 | C31: =5+0.4*C30-0.1*C29+B31 -> 5.8983792
A32: =A31+1 -> 29 | B32: 0.41292683 | C32: =5+0.4*C31-0.1*C30+B32 -> 6.9970102
A33: =A32+1 -> 30 | B33: 0.35807 | C33: =5+0.4*C32-0.1*C31+B33 -> 7.5670362
A34: =A33+1 -> 31 | B34: -1.394531 | C34: =5+0.4*C33-0.1*C32+B34 -> 5.9325824
A35: =A34+1 -> 32 | B35: -0.34465536 | C35: =5+0.4*C34-0.1*C33+B35 -> 6.271674
A36: =A35+1 -> 33 | B36: 0.67732604 | C36: =5+0.4*C35-0.1*C34+B36 -> 7.5927374
... A103: =A102+1 -> 100 | B103: 1.5582131 | C103: =5+0.4*C102-0.1*C101+B103 -> 8.4658442

Sheet AR 2a
A1: Autoregressive Model AR(2)
B3: Residual | C3: Y | E3: Lag | F3: PACF | G3: PACF (pop)
A4: 1 | B4: -0.47324253 | C4: =5+0.4*0-0.1*0+B4 -> 4.5267575
A5: =A4+1 -> 2 | B5: 0.08266779 | C5: =5+0.4*C4-0.1*0+B5 -> 6.8933708
A6: =A5+1 -> 3 | B6: 1.1207226 | C6: =5+0.4*C5-0.1*C4+B6 -> 8.4253951 | E6: 1 | F6: #NAME? | G6: =0.4^E6 -> 0.4
A7: =A6+1 -> 4 | B7: -0.68131888 | C7: =5+0.4*C6-0.1*C5+B7 -> 6.9995021 | E7: =E6+1 -> 2 | F7: #NAME? | G7: -0.1
A8: =A7+1 -> 5 | B8: -0.76966716 | C8: =5+0.4*C7-0.1*C6+B8 -> 6.1875942 | E8: =E7+1 -> 3 | F8: #NAME? | G8: 0
A9: =A8+1 -> 6 | B9: -0.96211099 | C9: =5+0.4*C8-0.1*C7+B9 -> 5.8129765 | E9: =E8+1 -> 4 | F9: #NAME? | G9: 0
A10: =A9+1 -> 7 | B10: 0.41364152 | C10: =5+0.4*C9-0.1*C8+B10 -> 7.1200727 | E10: =E9+1 -> 5 | F10: #NAME? | G10: 0
A11: =A10+1 -> 8 | B11: 1.2351835 | C11: =5+0.4*C10-0.1*C9+B11 -> 8.5019149 | E11: =E10+1 -> 6 | F11: #NAME? | G11: 0
A12: =A11+1 -> 9 | B12: -0.3875366 | C12: =5+0.4*C11-0.1*C10+B12 -> 7.3012221 | E12: =E11+1 -> 7 | F12: #NAME? | G12: 0
A13: =A12+1 -> 10 | B13: -1.0314205 | C13: =5+0.4*C12-0.1*C11+B13 -> 6.0388768 | E13: =E12+1 -> 8 | F13: #NAME? | G13: 0
A14: =A13+1 -> 11 | B14: -1.9393388 | C14: =5+0.4*C13-0.1*C12+B14 -> 4.7460897 | E14: =E13+1 -> 9 | F14: #NAME? | G14: 0
A15: =A14+1 -> 12 | B15: 0.35912853 | C15: =5+0.4*C14-0.1*C13+B15 -> 6.6536767 | E15: =E14+1 -> 10 | F15: #NAME? | G15: 0
A16: =A15+1 -> 13 | B16: 1.0071142 | C16: =5+0.4*C15-0.1*C14+B16 -> 8.1939759 | E16: =E15+1 -> 11 | F16: #NAME? | G16: 0
A17: =A16+1 -> 14 | B17: -0.051959162 | C17: =5+0.4*C16-0.1*C15+B17 -> 7.5602635 | E17: =E16+1 -> 12 | F17: #NAME? | G17: 0
A18: =A17+1 -> 15 | B18: -0.41025652 | C18: =5+0.4*C17-0.1*C16+B18 -> 6.7944513 | E18: =E17+1 -> 13 | F18: #NAME? | G18: 0
... A20: =A19+1 -> 17 | B20: -0.18318636 | C20: =5+0.4*C19-0.1*C18+B20 -> 6.0271551 | E20: =E19+1 -> 15 | F20: #NAME? | G20: 0
A21: =A20+1 -> 18 | B21: 0.18749463 | C21: =5+0.4*C20-0.1*C19+B21 -> 7.12591
A22: =A21+1 -> 19 | B22: -0.056400668 | C22: =5+0.4*C21-0.1*C20+B22 -> 7.1912478
A23: =A22+1 -> 20 | B23: -0.48121649 | C23: =5+0.4*C22-0.1*C21+B23 -> 6.6826916
A24: =A23+1 -> 21 | B24: -0.38179475 | C24: =5+0.4*C23-0.1*C22+B24 -> 6.5721571
A25: =A24+1 -> 22 | B25: -0.20785477 | C25: =5+0.4*C24-0.1*C23+B25 -> 6.7527389
A26: =A25+1 -> 23 | B26: -1.3964798 | C26: =5+0.4*C25-0.1*C24+B26 -> 5.6474001
A27: =A26+1 -> 24 | B27: -0.10631713 | C27: =5+0.4*C26-0.1*C25+B27 -> 6.477369
A28: =A27+1 -> 25 | B28: 0.26416614 | C28: =5+0.4*C27-0.1*C26+B28 -> 7.2903737
A29: =A28+1 -> 26 | B29: 0.5620941 | C29: =5+0.4*C28-0.1*C27+B29 -> 7.8305067
A30: =A29+1 -> 27 | B30: 0.34951765 | C30: =5+0.4*C29-0.1*C28+B30 -> 7.752683
A31: =A30+1 -> 28 | B31: -1.4196433 | C31: =5+0.4*C30-0.1*C29+B31 -> 5.8983792
A32: =A31+1 -> 29 | B32: 0.41292683 | C32: =5+0.4*C31-0.1*C30+B32 -> 6.9970102
... A103: =A102+1 -> 100 | B103: 1.5582131 | C103: =5+0.4*C102-0.1*C101+B103 -> 8.4658442

Sheet AR 2b
A1: Autoregressive Model AR(2) | AK1: ARMap
B3: Y | D3: X | H3: Y | J3: φ | L3: Act Y | M3: Pred Y | N3: Residual | P3: MSE | X3: X1 | Y3: X2 | Z3: Y | AB3: Regression Analysis | AK3: X1 | AL3: X2 | AM3: Y
A4: 1 | B4: 4.5267575 | L4: =B4 -> 4.5267575 | P4: =SUMSQ(N6:N103) -> 98.440741 | X4: =B5 -> 6.8933708 | Y4: =B4 -> 4.5267575 | Z4: =B6 -> 8.4253951 | AK4: #NAME? | AL4: #NAME? | AM4: #NAME?
A5: =A4+1 -> 2 | B5: 6.8933708 | L5: =B5 -> 6.8933708 | X5: =B6 -> 8.4253951 | Y5: =B5 -> 6.8933708 | Z5: =B7 -> 6.9995021 | AB5: OVERALL FIT | AK5: #NAME? | AL5: #NAME? | AM5: #NAME?
A6: =A5+1 -> 3 | B6: 8.4253951 | D6: 1 | E6: =B5 -> 6.8933708 | F6: =B4 -> 4.5267575 | H6: =B6 -> 8.4253951 | J6: {=MMULT(MINVERSE(MMULT(TRANSPOSE(D6:F103),D6:F103)),MMULT(TRANSPOSE(D6:F103),H6:H103))} -> 5.0109466 | L6: =B6 -> 8.4253951 | M6: =J$6+L5*J$7+L4*J$8 -> 7.4236069 | N6: =L6-M6 -> 1.0017882 | P6: Res Mean | X6: =B7 -> 6.9995021 | Y6: =B6 -> 8.4253951 | Z6: =B8 -> 6.1875942 | AB6: Multiple R | AC6: =SQRT(AC7) -> #NAME? | AE6: AIC | AF6: =AC10*LN(AD15/AC10)+2*(AC14+1) -> #NAME? | AK6: #NAME? | AL6: #NAME? | AM6: #NAME?
