Workbook
Name CHANGE: #REF!
Name BALANCES: 'Bank balances'!$A$1:$G$64

Sheet Auditors notes
A2: Where payments to restricted and designated funds are gift aided, the gift aid has been credited to the fund at the time of payment.
A3: When VAT is reclaimable, payments from designated funds are entered nett in the Deposit Account records.
A5: The analysis of Sundry items for Receipts and Payments is carried out in the spreadsheets of those names and then transposed to the right of the tables in the R&PforReport sheet here.
A7: The sum of £1167.00 received from St Martin's Cambridge and paid to Jon Cook is excluded from the Accounts.

Sheet R&PforReport
A1: NB: Years here (C5, E5) used in other sheets
A3: GENERAL ACCOUNT
C5: 2022 | E5: 2021 | G5: Change
A6: Receipts: | C6: £ | E6: £ | G6: £ | M6: Analysis of Sundry
A7: Collections - gift aid | C7: =K16 -> 139.45 | E7: 210 | G7: =C7-E7 -> -70.55 | J7: Sundry | K7: 12497.91 | M7: Source | O7: Details | P7: Sundry | Q7: Itemized | R7: sundry | S7: heating | T7: For FOALs | U7: Omit
A8: Charitable collections | C8: 0 | E8: 0 | G8: =C8-E8 -> 0 | J8: Donata - Gift aid | K8: 693.47 | L8: y
A9: Collections - other | C9: =K15-C8 -> 1869.67 | E9: 1363.54 | G9: =C9-E9 -> 506.13 | J9: Donata - Other | K9: 275 | L9: y | M9: Goodbox | O9: Event 25/3, collection 20/3 | P9: 3.7 | R9: 3.7
A10: Gift aided regular giving | C10: =K21 -> 8318.64 | E10: 7811.92 | G10: =C10-E10 -> 506.72 | J10: Church hire | K10: 0 | M10: FoALS - heating | O10: CCCCC Concert | P10: 10 | S10: 10
A11: Donations - gift aid | C11: =K8 -> 693.47 | E11: 2344.5 | G11: =C11-E11 -> -1651.03 | H11: =SUM(G7:G11) -> -708.73 | J11: Community lunches | K11: 1507.6 | O11: Tea towels | P11: 21 | T11: =P11 -> 21
A12: Donations - other | C12: =K9 -> 275 | E12: 238.09 | G12: =C12-E12 -> 36.91 | J12: Events - General | K12: 222.5 | L12: y | M12: FOALS - St Augustine's concert | O12: Heating | P12: 22.5 | S12: 22.5
A13: Income tax recovered | C13: =K22-K33 -> 2630.19 | E13: 2796.26 | G13: =C13-E13 -> -166.07 | J13: Events - Restrict'd | O13: Presentation by Lucy Frazer | P13: 23 | R13: 23
A14: Church fees | C14: =K17 -> 1009 | E14: 2663 | G14: =C14-E14 -> -1654 | J14: Wall safe | K14: 87.44 | L14: y | M14: Goodbox | O14: Presentation 14/4, collections 17/4 | P14: 38.6 | R14: 38.6
A15: Dividends | C15: =K23 -> 2659.12 | E15: 3003.33 | G15: =C15-E15 -> -344.21 | J15: Collection - not GA | K15: 1869.67 | L15: y | M15: Donation re heating | O15: FOALS | P15: 40 | S15: 40
A16: CCLA and Bank Interest | C16: ='Assets and RFs'!E34 -> 419 | E16: 2.95 | G16: =C16-E16 -> 416.05 | J16: Collection - Gift Aid | K16: 139.45 | L16: y | M16: Cambridge ACRE | O16: Warm Hub refreshments | P16: 40 | Q16: 40
A17: Wall safe | C17: =K14 -> 87.44 | E17: 99.01 | G17: =C17-E17 -> -11.57 | J17: PCC Fees | K17: 1009 | L17: y | M17: SumUp | O17: Tea towels | P17: 62.21 | T17: =P17 -> 62.21
A18: Church hire | C18: =K10 -> 0 | E18: 0 | G18: =C18-E18 -> 0 | J18: Other Fund NGA | M18: Parish Share Rebate 2021 | P18: 209 | Q18: 209
A19: Fundraising | C19: =K12 -> 222.5 | E19: 567.06 | G19: =C19-E19 -> -344.56 | J19: Other Fund GA | K19: 6366.5 | M19: LPOW scheme - VAT reclaimed | O19: APP-00002577 | P19: 248.4 | Q19: 248.4
A20: Community lunches | C20: =K11 -> 1507.6 | E20: 0 | G20: =C20-E20 -> 1507.6 | J20: Fund | M20: ELY DIOCSN GEN T | O20: Heating grant | P20: 600 | Q20: 600
A21: Rebate on Parish Share | C21: =P18 -> 209 | E21: 154 | G21: =C21-E21 -> 55 | J21: GA Planned Giving | K21: 8318.64 | L21: y | M21: St Martin's, Cambridge | O21: For Jon Cook | P21: 1167 | U21: 1167
A22: Grant from Diocese for energy costs | C22: =P20 -> 600 | E22: 0 | G22: =C22-E22 -> 600 | J22: Tax on GA Amounts | K22: 4221.81 | L22: y | M22: Bequest | O22: Marjorie Baldwin | P22: 10000 | Q22: 10000
A23: Warm Hub grant | C23: =P16 -> 40 | E23: 0 | G23: =C23-E23 -> 40 | J23: Dividends and Interest | K23: 2659.12 | L23: y | M23: Foals - Pudding evening | O23: Heating | P23: 12.5 | S23: 12.5
A24: Ride & Stride sponsorship | C24: 0 | E24: 0 | G24: =C24-E24 -> 0 | J24: Bells / Verger / Organist | K24: 90 | L24: y | P24: =SUM(P9:P23) -> 12497.91 | Q24: =SUM(Q9:Q23) -> 11097.4 | R24: =SUM(R9:R23) -> 65.3 | S24: =SUM(S9:S23) -> 85 | T24: =SUM(T9:T23) -> 83.21 | U24: =SUM(U9:U23) -> 1167 | V24: =SUM(Q24:U24) -> 12497.91
A25: LPW Scheme - VAT reclaimed | C25: =P19 -> 248.4 | E25: 234.6 | G25: =C25-E25 -> 13.8
A26: Sundry | C26: =R24+S24+T24 -> 233.51 | E26: 0 | G26: =C26-E26 -> 233.51
A27: Fees for verger/organist/ringers | C27: =K24 -> 90 | E27: 80 | G27: =C27-E27 -> 10 | J27: Interest | K27: =C16 -> 419 | L27: y
A28: Bequest | C28: =P22 -> 10000 | E28: 18285.33 | G28: =C28-E28 -> -8285.33
A30: Total Receipts | C30: =SUM(C7:C28) -> 31251.99 | E30: =SUM(E7:E28) -> 39853.59 | G30: =SUM(G7:G29) -> -8601.6 | K30: =SUM(K7:K28) -> 40377.11 | M30: Sundries in col A: | O30: =SUM(C21:C26)+C28 -> 11330.91
M31: Sundries less Omit: | O31: =P24-U24 -> 11330.91
A33: Adjustments to Current Account data: | C33: Add: | E33: CCLA interest | H33: Subtract: | K33: =FLOOR(K19/4,0.01) -> 1591.62 | L33: Receipts: GA Tax reclaimed for Rest/Des.
K35: =K30-U24-K33 -> 37618.49 | L35: Receipts for General, less Omit
A39: Payments: | C39: £ | E39: £
A40: Parish Share | C40: =K45 -> 11709.68 | E40: 11532.64 | G40: =C40-E40 -> 177.04 | J40: Sundry | K40: 1407.8
A41: Stipendiary Fees | C41: =K46 -> 475 | E41: 879 | G41: =C41-E41 -> -404 | J41: Telecoms | K41: 148.52 | M41: Analysis of Sundry
A42: Charitable Giving | C42: =K47 -> 827.55 | E42: 519.1 | G42: =C42-E42 -> 308.45 | J42: Maint. of Services | K42: 336.43 | M42: CHCT Subscription | N42: 50
A43: Insurance | C43: =K52 -> 4280.74 | E43: 4163.48 | G43: =C43-E43 -> 117.26 | J43: Comm. Lunches | K43: 28.18 | M43: Flower arrangers | N43: 120
A44: Light, Heating & Water | C44: =K48 -> 2079.19 | E44: 2164.81 | G44: =C44-E44 -> -85.62 | J44: Priest's expenses | K44: 75 | M44: Purchase of SumUp Solo | N44: 70.8
A45: Maintenance | C45: =K49 -> 1556.62 | E45: 1068.05 | G45: =C45-E45 -> 488.57 | J45: Parish Share | K45: 11709.68 | M45: Re St Martin's, Cambridge | N45: 1167 | O45: Omit
A46: Priest's expenses | C46: =K44 -> 75 | E46: 75 | G46: =C46-E46 -> 0 | J46: Stip. Fees | K46: 475
A47: Verger, organist, bell ringers | C47: =K50 -> 110 | E47: 60 | G47: =C47-E47 -> 50 | J47: Charitable Giving | K47: 827.55
A48: Community lunches | C48: =K43 -> 28.18 | E48: 0 | G48: =C48-E48 -> 28.18 | J48: Heating, Lighting, Water | K48: 2079.19 | N48: =SUM(N42:N47) -> 1407.8
...

Sheet Assets and RFs
A4: Assets summary: | C4: ='R&PforReport'!C5 -> 2022 | E4: ='R&PforReport'!E5 -> 2021 | F4: ='R&PforReport'!E5 -> 2021
C5: £ | F5: £
A6: General Fund
A7: Current Account | C7: ='Bank balances'!G42 -> 12796.55 | F7: 14881.16
A8: Deposit Account - CCLA | C8: =F34 -> 38290.43 | F8: 26834.04
A10: Total | C10: =SUM(C7:C9) -> 51086.98 | F10: 41715.2
A12: Restricted & Designated Funds
A13: Deposit Account - CCLA | C13: =F38 -> 41278.48 | F13: 11951.49
A16: Nett assets | C16: =C10+C13 -> 92365.46 | F16: 53666.69
A17: Change | C17: =C16-F16 -> 38698.77 | F17: 48153.78 | H17: =H31+'R&PforReport'!C56 -> 38711.27 | I17: Change
A21: Restricted & Designated Funds | B21: =C4 -> 2022
B22: Balance at 1 Jan | C22: Receipts | D22: Payments | E22: Interest | F22: Balance at 31 Dec
B23: £ | C23: £ | D23: £ | E23: £ | F23: £
A24: Bell Ringers' Fund | B24: ='Deposit Account'!B9 -> 2542.13 | C24: ='Deposit Account'!S9 -> 30952.45 | D24: ='Deposit Account'!T9 -> 221.46 | E24: ='Deposit Account'!U9 -> 252.7 | F24: =B24+C24-D24+E24 -> 33525.82
A25: William Belton Memorial Fund | B25: ='Deposit Account'!B10 -> 145.97 | C25: ='Deposit Account'!S10 -> 0 | D25: ='Deposit Account'!T10 -> 0 | E25: ='Deposit Account'!U10 -> 1.97 | F25: =B25+C25-D25+E25 -> 147.94
A26: Organ Fund | B26: ='Deposit Account'!B11 -> 177.36 | C26: ='Deposit Account'!S11 -> 100 | D26: ='Deposit Account'!T11 -> 160 | E26: ='Deposit Account'!U11 -> 1.87 | F26: =B26+C26-D26+E26 -> 119.23
A27: Mission Projects Fund | B27: ='Deposit Account'!B12 -> 1892.29 | C27: ='Deposit Account'!S12 -> 100 | D27: ='Deposit Account'!T12 -> 286.57 | E27: ='Deposit Account'!U12 -> 23.18 | F27: =B27+C27-D27+E27 -> 1728.9
A28: Servery/QI Fund | B28: ='Deposit Account'!B13 -> 3824.41 | C28: ='Deposit Account'!S13 -> 0 | D28: ='Deposit Account'!T13 -> 1275.48 | E28: ='Deposit Account'!U13 -> 43.12 | F28: =B28+C28-D28+E28 -> 2592.05
A29: South Porch Fund | B29: 0 | C29: 333.67 | D29: 0 | E29: 0 | F29: =B29+C29-D29+E29 -> 333.67
A30: Churchyard Maintenance Fund | B30: ='Deposit Account'!B15 -> 3369.33 | C30: ='Deposit Account'!S15 -> 0 | D30: ='Deposit Account'!T15 -> 580 | E30: ='Deposit Account'!U15 -> 41.54 | F30: =B30+C30-D30+E30 -> 2830.87
A31: Totals | B31: =SUM(B24:B30) -> 11951.49 | C31: =SUM(C24:C30) -> 31486.12 | D31: =SUM(D24:D30) -> 2523.51 | E31: =SUM(E24:E30) -> 364.38 | F31: =SUM(F24:F30) -> 41278.48 | H31: =F31-B31 -> 29326.99 | I31: Change
H32: =H17-H31-'R&PforReport'!C56 -> 0 | I32: Discrepancy
A34: General Fund deposit (derived) | B34: ='Deposit Account'!B16 -> 26834.04 | C34: ='Deposit Account'!S16 -> 0 | D34: ='Deposit Account'!T16 -> 0 | E34: =E35-SUM(E24:E30) -> 419 | F34: =F35-SUM(F24:F30) -> 38290.43
B35: =SUM(B24:B30)+B34 -> 38785.53 | C35: =SUM(C24:C30)+C34 -> 31486.12 | D35: =SUM(D24:D30)+D34 -> 2523.51 | E35: ='Bank balances'!G51 -> 783.38 | F35: ='Deposit Account'!R24 -> 79568.91
A37: Total restricted | B37: =SUM(B24:B28) -> 8582.16 | C37: =SUM(C24:C28) -> 31152.45 | D37: =SUM(D24:D28) -> 1943.51 | E37: =SUM(E24:E28) -> 322.84 | F37: =SUM(F24:F28) -> 38113.94
A38: Total, restricted+designated | B38: =SUM(B24:B30) -> 11951.49 | C38: =SUM(C24:C30) -> 31486.12 | D38: =SUM(D24:D30) -> 2523.51 | E38: =SUM(E24:E30) -> 364.38 | F38: =SUM(F24:F30) -> 41278.48
A39: Unrestricted | F39: =C16-F37 -> 54251.52 | G39: =C10+F29+F30 -> 54251.52

Sheet Deposit Account
A1: The balance from CCLA (or estimate thereof) should be entered in the row indicated (currently 24).
A2: The General Fund deposit is derived as that which is neither restricted nor designated. It may vary slightly from expected because interest attributed to the R/D funds is estimated;
A3: larger variations may arise when R/D deposits are made to the current account and notionally transferred to CCLA, together with GA tax that has yet to be received.
A4: NB: Where applicable, Gift Aid is added at the same time as the gift.
A6: Used to flag estimate of DA interest: | O6: 1 m | U6: (Estimated)
A7: Use (Q pa rate) /4 as approx rate | B7: O B | C7: Q1 int | D7: Q1 dep | E7: Q1 exp | F7: Q1 end | G7: Q2 int | H7: Q2 dep | I7: Q2 exp | J7: Q2 end | K7: Q3 int | L7: Q3 dep | M7: Q3 exp | N7: Q3 end | O7: Q4 int | P7: Q4 dep | Q7: Q4 exp | R7: C B | S7: Deposits | T7: Expenditure | U7: Interest | V7: For accounts
A8: Interest rate | C8: =0.0035/4 -> 0.000875 | G8: =0.00797/4 -> 0.0019925 | K8: =0.016/4 -> 0.004 | O8: =0.0261/4 -> 0.006525
A9: The Bell Ringers Fund | B9: 2542.13 | C9: =ROUND(B9*C$8,2) -> 2.22 | D9: =(40+4000+40)*5/4 -> 5100 | F9: =SUM(B9:D9)-E9 -> 7644.35 | G9: =ROUND(F9*G$8,2) -> 15.23 | H9: =FLOOR(5.5+80+79.24+230+69.28+30+(25+9.5+20+4.5+20+31.5+50+100+45)*5/4,0.01) -> 875.89 | I9: 221.46 | J9: =SUM(F9:H9)-I9 -> 8314.01 | K9: =ROUND(J9*K$8,2) -> 33.26 | L9: =25+588.26+62.28+175.53+172.9+(50+6+1000+55+50)*5/4+20000+134 -> 22609.22 | N9: =SUM(J9:L9)-M9 -> 30956.49 | O9: =ROUND(N9*O$8,2) -> 201.99 | P9: =(26+70+500+150+7+37+30)*5/4+74.15+158.24+36.56+121.04+370.25+274.2+62.22+59.06+186.62 -> 2367.34 | R9: =SUM(N9:P9)-Q9 -> 33525.82 | S9: =D9+H9+L9+P9 -> 30952.45 | T9: =E9+I9+M9+Q9 -> 221.46 | U9: =C9+G9+K9+O9 -> 252.7
A10: The William Belton Memorial Fund | B10: 145.97 | C10: =ROUND(B10*C$8,2) -> 0.13 | F10: =SUM(B10:D10)-E10 -> 146.1 | G10: =ROUND(F10*G$8,2) -> 0.29 | J10: =SUM(F10:H10)-I10 -> 146.39 | K10: =ROUND(J10*K$8,2) -> 0.59 | N10: =SUM(J10:L10)-M10 -> 146.98 | O10: =ROUND(N10*O$8,2) -> 0.96 | R10: =SUM(N10:P10)-Q10 -> 147.94 | S10: =D10+H10+L10+P10 -> 0 | T10: =E10+I10+M10+Q10 -> 0 | U10: =C10+G10+K10+O10 -> 1.97
A11: The Organ Fund | B11: 177.36 | C11: =ROUND(B11*C$8,2) -> 0.16 | F11: =SUM(B11:D11)-E11 -> 177.52 | G11: =ROUND(F11*G$8,2) -> 0.35 | I11: 80 | J11: =SUM(F11:H11)-I11 -> 97.87 | K11: =ROUND(J11*K$8,2) -> 0.39 | L11: 50 | N11: =SUM(J11:L11)-M11 -> 148.26 | O11: =ROUND(N11*O$8,2) -> 0.97 | P11: 50 | Q11: 80 | R11: =SUM(N11:P11)-Q11 -> 119.23 | S11: =D11+H11+L11+P11 -> 100 | T11: =E11+I11+M11+Q11 -> 160 | U11: =C11+G11+K11+O11 -> 1.87
A12: Mission Projects Fund | B12: 1892.29 | C12: =ROUND(B12*C$8,2) -> 1.66 | E12: =33.64*3 -> 100.92 | F12: =SUM(B12:D12)-E12 -> 1793.03 | G12: =ROUND(F12*G$8,2) -> 3.57 | I12: 111.39 | J12: =SUM(F12:H12)-I12 -> 1685.21 | K12: =ROUND(J12*K$8,2) -> 6.74 | L12: 100 | M12: 74.26 | N12: =SUM(J12:L12)-M12 -> 1717.69 | O12: =ROUND(N12*O$8,2) -> 11.21 | R12: =SUM(N12:P12)-Q12 -> 1728.9 | S12: =D12+H12+L12+P12 -> 100 | T12: =E12+I12+M12+Q12 -> 286.57 | U12: =C12+G12+K12+O12 -> 23.18
A13: Servery/QI Fund | B13: 3824.41 | C13: =ROUND(B13*C$8,2) -> 3.35 | F13: =SUM(B13:D13)-E13 -> 3827.76 | G13: =ROUND(F13*G$8,2) -> 7.63 | J13: =SUM(F13:H13)-I13 -> 3835.39 | K13: =ROUND(J13*K$8,2) -> 15.34 | M13: =1530.57-255.09 -> 1275.48 | N13: =SUM(J13:L13)-M13 -> 2575.25 | O13: =ROUND(N13*O$8,2) -> 16.8 | R13: =SUM(N13:P13)-Q13 -> 2592.05 | S13: =D13+H13+L13+P13 -> 0 | T13: =E13+I13+M13+Q13 -> 1275.48 | U13: =C13+G13+K13+O13 -> 43.12
A14: South Porch Fund | B14: 0 | C14: =ROUND(B14*C$8,2) -> 0 | F14: =SUM(B14:D14)-E14 -> 0 | G14: =ROUND(F14*G$8,2) -> 0 | J14: =SUM(F14:H14)-I14 -> 0 | N14: =SUM(J14:L14)-M14 -> 0 | O14: =ROUND(N14*O$8,2) -> 0 | P14: =158.07+175.6 -> 333.67 | R14: =SUM(N14:P14)-Q14 -> 333.67 | S14: =D14+H14+L14+P14 -> 333.67 | T14: =E14+I14+M14+Q14 -> 0 | U14: =C14+G14+K14+O14 -> 0
A15: Churchyard Maintenance Fund | B15: 3369.33 | C15: =ROUND(B15*C$8,2) -> 2.95 | F15: =SUM(B15:D15)-E15 -> 3372.28 | G15: =ROUND(F15*G$8,2) -> 6.72 | J15: =SUM(F15:H15)-I15 -> 3379 | K15: =ROUND(J15*K$8,2) -> 13.52 | M15: 580 | N15: =SUM(J15:L15)-M15 -> 2812.52 | O15: =ROUND(N15*O$8,2) -> 18.35 | R15: =SUM(N15:P15)-Q15 -> 2830.87 | S15: =D15+H15+L15+P15 -> 0 | T15: =E15+I15+M15+Q15 -> 580 | U15: =C15+G15+K15+O15 -> 41.54
A16: General Fund deposit (derived) | B16: =B17-B21 -> 26834.04 | C16: =ROUND(B16*C$8,2) -> 23.48 | F16: =F17-F21 -> 21858.44 | G16: =ROUND(F16*G$8,2) -> 43.55 | J16: =J17-J21 -> 21438.77 | K16: =ROUND(J16*K$8,2) -> 85.76 | N16: =N17-N21 -> 40695.28 | O16: =ROUND(N16*O$8,2) -> 265.54 | R16: =R17-R21 -> 38290.43 | S16: =D16+H16+L16+P16 -> 0 | T16: =E16+I16+M16+Q16 -> 0 | U16: =C16+G16+K16+O16 -> 418.33 | V16: =U24-U21 -> 419
A17: Totals | B17: =B24 -> 38785.53 | C17: =SUM(C9:C16) -> 33.95 | F17: =F24 -> 38819.48 | G17: =SUM(G9:G16) -> 77.34 | J17: =J24 -> 38896.64 | K17: =SUM(K9:K16) -> 155.6 | N17: =N24 -> 79052.47 | O17: =SUM(O9:O16) -> 515.82 | R17: =R24 -> 79568.91 | S17: =SUM(S9:S16) -> 31486.12 | T17: =SUM(T9:T16) -> 2523.51 | U17: =SUM(U9:U16) -> 782.71
A19: Total: restricted funds | B19: =SUM(B9:B13) -> 8582.16 | F19: =SUM(F9:F13) -> 13588.76 | J19: =SUM(J9:J13) -> 14078.87 | N19: =SUM(N9:N13) -> 35544.67 | R19: =SUM(R9:R13) -> 38113.94 | S19: =SUM(S9:S13) -> 31152.45 | T19: =SUM(T9:T13) -> 1943.51 | U19: =SUM(U9:U13) -> 322.84
A20: Total: designated funds | B20: =SUM(B14:B15) -> 3369.33 | F20: =SUM(F14:F15) -> 3372.28 | J20: =SUM(J14:J15) -> 3379 | N20: =SUM(N14:N15) -> 2812.52 | R20: =SUM(R14:R15) -> 3164.54 | S20: =SUM(S14:S15) -> 333.67 | T20: =SUM(T14:T15) -> 580 | U20: =SUM(U14:U15) -> 41.54
A21: Total: restricted + designated | B21: =B20+B19 -> 11951.49 | F21: =F20+F19 -> 16961.04 | J21: =J20+J19 -> 17457.87 | N21: =N20+N19 -> 38357.19 | R21: =R20+R19 -> 41278.48 | S21: =S20+S19 -> 31486.12 | T21: =T20+T19 -> 2523.51 | U21: =U20+U19 -> 364.38
A23: ENTER CCLA BALANCE IN ROW BELOW! (Or add transfers plus calculated interest to previous balance) | U23: Actual interest
A24: CCLA balance (may add calc int) | B24: 38785.53 | F24: =B24+C17 -> 38819.48 | J24: 38896.64 | N24: 79052.47 | R24: 79568.91 | U24: ='Bank balances'!G51 -> 783.38
A25: ENTER CURRENT ACCOUNT BALANCE IN ROW BELOW!
A26: CA balance | B26: 14881.16 | F26: 14963.97 | J26: 19491.46 | N26: 8666.7 | R26: 12796.55
A28: General Fund total | B28: =B16+B26 -> 41715.2 | F28: =F16+F26 -> 36822.41 | J28: =J16+J26 -> 40930.23 | N28: =N16+N26 -> 49361.98 | R28: =R16+R26 -> 51086.98
A30: Current account | B30: =B26 -> 14881.16 | F30: =F26 -> 14963.97 | J30: =J26 -> 19491.46 | N30: =N26 -> 8666.7 | R30: =R26 -> 12796.55
A31: Deposit account | B31: =B24 -> 38785.53 | F31: =F24 -> 38819.48 | J31: =J24 -> 38896.64 | N31: =N24 -> 79052.47 | R31: =R24 -> 79568.91
A32: Total | B32: =SUM(B30:B31) -> 53666.69 | F32: =SUM(F30:F31) -> 53783.45 | J32: =SUM(J30:J31) -> 58388.1 | N32: =SUM(N30:N31) -> 87719.17 | R32: =SUM(R30:R31) -> 92365.46
A33: Available | B33: =B32-B21 -> 41715.2 | F33: =F32-F21 -> 36822.41 | J33: =J32-J21 -> 40930.23 | N33: =N32-N21 -> 49361.98 | R33: =R32-R21 -> 51086.98
A35: Change in nett assets | B35: =R32-B32 -> 38698.77
A37: Total expenditure in 2020 on Servery/QI work
A38: NB: R&P figures, from "ServeryQI project accounts.xlsx", include VAT
A39: Servery/QI Fund | B39: 42120.16 | C39: =ROUND(B39*C$8,2) -> 36.86 | F39: =SUM(B39:D39)-E39 -> 42157.02 | G39: =ROUND(F39*G$8,2) -> 84 | I39: 300 | J39: =SUM(F39:H39)-I39 -> 41941.02 | K39: =ROUND(J39*K$8,2) -> 167.76 | L39: 20000 | M39: =1000+29105.05 -> 30105.05 | N39: =SUM(J39:L39)-M39 -> 32003.73 | O39: 1.98 | P39: =10025+9788.37 -> 19813.37 | Q39: =29625.18+8800+720+37000+459.9 -> 76605.08 | R39: =SUM(N39:P39)-Q39 -> -24786 | S39: =D39+H39+L39+P39 -> 39813.37 | T39: =E39+I39+M39+Q39 -> 107010.13 | U39: =C39+G39+K39+O39 -> 290.6
A40: Servery/QI Fund 2021 | B40: -25055.83 | C40: 0 | D40: =39007+6138.05+9409.11+40993+1520.6+1000 -> 98067.76 | E40: =829.2+30000+19000+6019.18+146.4+2137.86+6814+20000+214.8 -> 85161.44 | F40: =SUM(B40:D40)-E40 -> -12149.51 | J40: =SUM(F40:H40)-I40 -> -12149.51 | M40: =3920.18+570 -> 4490.18 | N40: =SUM(J40:L40)-M40 -> -16639.69 | P40: =784.16 -> 784.16 | R40: =SUM(N40:P40)-Q40 -> -15855.53 | S40: =D40+H40+L40+P40 -> 98851.92 | T40: =E40+I40+M40+Q40 -> 89651.62

Sheet Bank balances
A1: PARISH OF ALL SAINTS', LANDBEACH. | E1: ="Opening and closing balances, "&'R&PforReport'!C5 -> Opening and closing balances, 2022
E5: Current Account
E6: Opening balance, 1 January | G6: 14397.03
E7: Credits not yet shown
E8: December cheques | F8: 0
E9: December cash | F9: 171.21
E10: VAT rebate - LPOW scheme | F10: 866.12
E11: GoodBox | F11: 37
G12: =SUM(F8:F11) -> 1074.33
E13: Debits not yet shown
E14: Friends of All Saints | F14: 313.1
E15: Ely DBF - fees | F15: 178
E16: Cheque 200007 | F16: 19.1
E17: Norman Hall & Sons | F17: 80
G18: =-SUM(F14:F17) -> -590.2
E21: Effective o.b. | G21: =SUM(G6:G20) -> 14881.16
E25: Closing balance, 31 December | G25: 12425.74
E26: Credits not yet shown
E27: December monies | F27: 255.84
E28: FOALS - Pudding evening | F28: 175.6
E29: FOALS - St Augustine's concert | F29: 22.5
E30: FOALS - St Augustine's concert | F30: 186.62
E31: GA donation - Ray Gambell | F31: 30
E32: GA donation - John Buckley | F32: 112.2
G33: =SUM(F27:F32) -> 782.76
E34: Debits not yet shown
E35: Ray Gambell | F35: 30
E36: Ely DBF - fees | F36: 127
E37: Print-Out Histon | F37: 112.2
E38: Children's Society | F38: 74
E39: Crisis at Christmas | F39: 68.75
G40: =-SUM(F35:F39) -> -411.95
E42: Effective c.b. | G42: =SUM(G25:G40) -> 12796.55
E44: CCLA Deposit Account
E45: O.b. | G45: ='Deposit Account'!B24 -> 38785.53
E46: Interest
F47: 33.79
F48: 77.32
F49: 155.83
F50: 516.44
...

Sheet Budget 2022
C1: Budget 2022 | E1: Budget 2021 | G1: Outturn 2021 | I1: Outturn 2019 | K1: End June 2021 | L1: % of budget | N1: End June 2020 | O1: % of budget
A3: Receipts: | C3: £ | E3: £ | G3: £ | I3: £ | K3: £ | N3: £ | R3: Sundry | T3: 274.3
A4: Collections - gift aid | C4: 300 | E4: 300 | G4: 210 | I4: 565 | K4: =T12 -> 75 | L4: =ROUND(100*K4/E4,0) -> 25 | N4: 120 | O4: 21 | R4: Donata - Gift aid | T4: 521.27 | U4: y
A5: Collections - other | C5: 1700 | E5: 1700 | G5: 1363 | I5: 2481 | K5: =T11 -> 1182.62 | L5: =ROUND(100*K5/E5,0) -> 70 | N5: 435.61 | O5: 21 | R5: Donata - Other | T5: 290 | U5: y
A6: Gift aided regular giving | C6: 7850 | E6: 7500 | G6: 7811 | I6: 6052 | K6: =T17 -> 5489.16 | L6: =ROUND(100*K6/E6,0) -> 73 | N6: 3103.5 | O6: 52 | R6: Church hire | T6: 0 | U6: y
A7: Donations - gift aid | C7: 1600 | E7: 1600 | G7: 2344 | I7: 352 | K7: =T4 -> 521.27 | L7: =ROUND(100*K7/E7,0) -> 33 | N7: 322 | O7: 161 | R7: Community lunches | T7: 915.22
A8: Donations - other | C8: 300 | E8: 300 | G8: 238 | I8: 110 | K8: =T5 -> 290 | L8: =ROUND(100*K8/E8,0) -> 97 | N8: 75 | O8: 75 | R8: Events - General | T8: 222.5
A9: Income tax recovered | C9: 2860 | E9: 2800 | G9: 2796 | I9: 2416 | K9: =T18 -> 3096.46 | L9: =ROUND(100*K9/E9,0) -> 111 | N9: 1569.39 | O9: 70 | R9: Events - Restrict'd | T9: 719.82
A10: Church fees (nett) | C10: 1300 | E10: 1300 | G10: =2663-879 -> 1784 | I10: =2321-990 -> 1331 | K10: =T13-T27 -> 213 | L10: =ROUND(100*K10/E10,0) -> 16 | N10: 847 | O10: 47 | R10: Wall safe | T10: 78.53 | U10: y
A11: Dividends | C11: 2830 | E11: 3400 | G11: 3003 | I11: 4454 | K11: =T19 -> 2125.95 | L11: =ROUND(100*K11/E11,0) -> 63 | N11: 1990.98 | O11: 45 | R11: Collection - not GA | T11: 1182.62 | U11: y
A12: CCLA and Bank Interest | C12: 5 | E12: 50 | G12: 3 | I12: 48 | K12: 10 | L12: =ROUND(100*K12/E12,0) -> 20 | N12: 183 | O12: 366 | R12: Collection - Gift Aid | T12: 75 | U12: y
A13: Wall safe | C13: 100 | E13: 100 | G13: 99 | I13: 160 | K13: =T9 -> 719.82 | L13: =ROUND(100*K13/E13,0) -> 720 | N13: 17.6 | O13: 12 | R13: PCC Fees | T13: 251
A14: Church hire | C14: 100 | E14: 100 | G14: 0 | I14: 200 | K14: =T6 -> 0 | L14: =ROUND(100*K14/E14,0) -> 0 | N14: 0 | O14: 0 | R14: Other Fund NGA | T14: 675.27
A15: Coffee mornings/Lunches | C15: 1000 | E15: 130 | G15: 440 | I15: =748-179 -> 569 | K15: 0 | L15: =ROUND(100*K15/E15,0) -> 0 | N15: 136 | O15: 25 | R15: Other Fund GA | T15: 5440.5
A16: Fund raising events | C16: 400 | E16: 400 | G16: 126 | I16: 179 | K16: =K16-K15 -> 0 | L16: =ROUND(100*K16/E16,0) -> 0 | N16: 255.67 | O16: 64 | R16: Fund
R17: GA Planned Giving | T17: 5489.16 | U17: y
B18: Total Receipts | C18: =SUM(C4:C17) -> 20345 | E18: =SUM(E4:E17) -> 19680 | G18: =SUM(G4:G17) -> 20217 | I18: =SUM(I4:I17) -> 18917 | K18: =SUM(K4:K17) -> 13723.28 | L18: =ROUND(100*K18/E18,0) -> 70 | N18: 9055.75 | O18: 48 | R18: Tax on GA Amounts | T18: 3096.46 | U18: y
R19: Dividends and Interest | T19: 2125.95
A20: Yellow b/g = manual entry or check formula | R20: Bells / Verger / Organist | T20: 30
A21: NB: Charitable Receipts excluded from "Collections - other" and "Charitable Giving"
A22: Fund raising events 2020 - assumes not diverted to resticted funds | T22: 21387.6
A24: Payments: | C24: £ | E24: £ | G24: £ | I24: £ | K24: £ | N24: £ | R24: Sundry | T24: 240.8
A25: Parish Share | C25: 11710 | E25: 11530 | G25: 11532 | I25: 11466 | K25: =T26 -> 8196.79 | L25: =ROUND(100*K25/E25,0) -> 71 | N25: 5767.15 | O25: 49 | R25: Priest's expenses | T25: 50 | V25: 37.5
A26: Insurance | C26: 4200 | E26: 4150 | G26: 4163 | I26: 4303 | K26: =T32 -> 2801.28 | L26: =ROUND(100*K26/E26,0) -> 68 | N26: 2184.42 | O26: 50 | R26: Parish Share | T26: 8196.79 | V26: 5766.3
A27: Light, Heating & Water | C27: 2000 | E27: 1900 | G27: 2164 | I27: 2139 | K27: =T29 -> 1680.7 | L27: =ROUND(100*K27/E27,0) -> 88 | N27: 1454.48 | O27: 61 | R27: Stip. Fees | T27: 38 | V27: 283
A28: Maintenance | C28: 1750 | E28: 2000 | G28: 1068 | I28: 1192 | K28: =T30 -> 1340.62 | L28: =ROUND(100*K28/E28,0) -> 67 | N28: 1652.62 | O28: 83 | R28: Charitable Giving | T28: 0 | V28: 0
A29: Priest's expenses | C29: 75 | E29: 75 | G29: 75 | I29: 75 | K29: 37.5 | L29: =ROUND(100*K29/E29,0) -> 50 | N29: 37.5 | O29: 50 | R29: Heating, Lighting, Water | T29: 1680.7 | V29: 1432.49
A30: Charitable Giving | C30: 500 | E30: 500 | G30: 519 | I30: 1102 | K30: =T28 -> 0 | L30: =ROUND(100*K30/E30,0) -> 0 | N30: 150 | O30: 30 | R30: Maintenance | T30: 1340.62 | V30: 677.34
A31: Other | C31: 120 | E31: 120 | G31: =281+139 -> 420 | I31: 176 | K31: 38 | L31: =ROUND(100*K31/E31,0) -> 32 | N31: 38 | O31: 25 | R31: Verger/ Organist/Ringers | T31: 20 | V31: 0
R32: Insurance | T32: 2801.28 | V32: 2075.22
B33: Total Payments | C33: =SUM(C25:C32) -> 20355 | E33: 20275 | G33: =SUM(G25:G32) -> 19941 | I33: =SUM(I25:I32) -> 20453 | K33: =SUM(K25:K32) -> 14094.89 | L33: =ROUND(100*K33/E33,0) -> 70 | N33: 11284.17 | O33: 53 | R33: Other Fund | T33: 2118.6 | V33: 85161.44
A35: Excess of Receipts over Payments | C35: =C18-C33 -> -10 | E35: =E18-E33 -> -595 | G35: =G18-G33 -> 276 | I35: =I18-I33 -> -1536 | K35: =K18-K33 -> -371.61
T36: 16448.79 | V36: 95538.29
A37: NB: Maintenance budget reduced by £250 in expectation of VAT rebates.

Sheet Budget 2021
C1: Budget 2021 | E1: Budget 2021 | G1: Outturn 2020 | I1: Outturn 2019 | K1: End June 2021 | L1: % of budget | N1: End June 2020 | O1: % of budget
A3: Receipts: | C3: £ | E3: £ | G3: £ | I3: £ | K3: £ | N3: £ | R3: Sundry | T3: 306.64
A4: Collections - gift aid | C4: 300 | E4: 300 | G4: 160 | I4: 565 | K4: =T11 -> 50 | L4: =ROUND(100*K4/E4,0) -> 17 | N4: 120 | O4: 21 | R4: Donata - Gift aid | T4: 1417 | U4: y
A5: Collections - other | C5: 1700 | E5: 1700 | G5: 990 | I5: 2481 | K5: =T10 -> 387.46 | L5: =ROUND(100*K5/E5,0) -> 23 | N5: 435.61 | O5: 21 | R5: Donata - Other | T5: 206.29 | U5: y
A6: Gift aided regular giving | C6: 7500 | E6: 7500 | G6: 6550 | I6: 6052 | K6: =T16 -> 3790.1 | L6: =ROUND(100*K6/E6,0) -> 51 | N6: 3103.5 | O6: 52 | R6: Church hire | T6: 0 | U6: y
A7: Donations - gift aid | C7: 1600 | E7: 1600 | G7: 420 | I7: 352 | K7: =T4 -> 1417 | L7: =ROUND(100*K7/E7,0) -> 89 | N7: 322 | O7: 161 | R7: Events - General | T7: 0
A8: Donations - other | C8: 300 | E8: 300 | G8: 75 | I8: 110 | K8: =T5 -> 206.29 | L8: =ROUND(100*K8/E8,0) -> 69 | N8: 75 | O8: 75 | R8: Events - Restrict'd | T8: 0
A9: Income tax recovered | C9: 2800 | E9: 2800 | G9: 2470 | I9: 2416 | K9: =T17 -> 1427.39 | L9: =ROUND(100*K9/E9,0) -> 51 | N9: 1569.39 | O9: 70 | R9: Wall safe | T9: 0 | U9: y
A10: Church fees (nett) | C10: 1300 | E10: 1300 | G10: 1200 | I10: =2321-990 -> 1331 | K10: =T12-T27 -> 762 | L10: =ROUND(100*K10/E10,0) -> 59 | N10: 847 | O10: 47 | R10: Collection - not GA | T10: 387.46 | U10: y
A11: Dividends | C11: 3400 | E11: 3400 | G11: 3745 | I11: 4454 | K11: =T18 -> 1586.03 | L11: =ROUND(100*K11/E11,0) -> 47 | N11: 1990.98 | O11: 45 | R11: Collection - Gift Aid | T11: 50 | U11: y
A12: CCLA and Bank Interest | C12: 50 | E12: 50 | G12: 25 | I12: 48 | K12: 10 | L12: =ROUND(100*K12/E12,0) -> 20 | N12: 183 | O12: 366 | R12: PCC Fees | T12: 1045
A13: Wall safe | C13: 100 | E13: 100 | G13: 35 | I13: 160 | K13: =T9 -> 0 | L13: =ROUND(100*K13/E13,0) -> 0 | N13: 17.6 | O13: 12 | R13: Other Fund NGA | T13: 98067.76
A14: Church hire | C14: 100 | E14: 100 | G14: 0 | I14: 200 | K14: =T6 -> 0 | L14: =ROUND(100*K14/E14,0) -> 0 | N14: 0 | O14: 0 | R14: Other Fund GA | T14: 610
A15: Coffee mornings | C15: 130 | E15: 130 | G15: 140 | I15: =748-179 -> 569 | K15: 0 | L15: =ROUND(100*K15/E15,0) -> 0 | N15: 136 | O15: 25 | R15: Fund
A16: Fund raising events | C16: 400 | E16: 400 | G16: 250 | I16: 179 | K16: =K16-K15 -> 0 | L16: =ROUND(100*K16/E16,0) -> 0 | N16: 255.67 | O16: 64 | R16: GA Planned Giving | T16: 3790.1 | U16: y
R17: Tax on GA Amounts | T17: 1427.39 | U17: y
B18: Total Receipts | C18: =SUM(C4:C17) -> 19680 | E18: =SUM(E4:E17) -> 19680 | G18: =SUM(G4:G17) -> 16060 | I18: =SUM(I4:I17) -> 18917 | K18: =SUM(K4:K17) -> 9636.27 | L18: =ROUND(100*K18/E18,0) -> 49 | N18: 9055.75 | O18: 48 | R18: Dividends and Interest | T18: 1586.03
R19: Bells / Verger / Organist | T19: 0
A20: Yellow b/g = manual entry or check formula
A21: NB: For 2020, Charitable Receipts excluded from "Collections - other" and "Charitable Giving" | T21: 108893.67
A22: Fund raising events 2020 - assumes not diverted to resticted funds
A24: Payments: | C24: £ | E24: £ | G24: £ | I24: £ | K24: £ | N24: £ | R24: Sundry | T24: 105 | V24: 105
A25: Parish Share | C25: =3459*10/3 -> 11530 | E25: 11530 | G25: 11534 | I25: 11466 | K25: =T26 -> 5766.3 | L25: =ROUND(100*K25/E25,0) -> 50 | N25: 5767.15 | O25: 49 | R25: Priest's expenses | T25: 37.5 | V25: 37.5
A26: Insurance | C26: 4150 | E26: 4150 | G26: 4314 | I26: 4303 | K26: =T32 -> 2075.22 | L26: =ROUND(100*K26/E26,0) -> 50 | N26: 2184.42 | O26: 50 | R26: Parish Share | T26: 5766.3 | V26: 5766.3
A27: Light, Heating & Water | C27: 1900 | E27: 1900 | G27: 1820 | I27: 2139 | K27: =T29 -> 1432.49 | L27: =ROUND(100*K27/E27,0) -> 75 | N27: 1454.48 | O27: 61 | R27: Stip. Fees | T27: 283 | V27: 283
A28: Maintenance | C28: 2000 | E28: 2000 | G28: 2410 | I28: 1192 | K28: =T30 -> 677.34 | L28: =ROUND(100*K28/E28,0) -> 34 | N28: 1652.62 | O28: 83 | R28: Charitable Giving | T28: 0 | V28: 0
A29: Priest's expenses | C29: 75 | E29: 75 | G29: 75 | I29: 75 | K29: 37.5 | L29: =ROUND(100*K29/E29,0) -> 50 | N29: 37.5 | O29: 50 | R29: Heating, Lighting, Water | T29: 1432.49 | V29: 1432.49
A30: Charitable Giving | C30: 500 | E30: 500 | G30: 650 | I30: 1102 | K30: =T28 -> 0 | L30: =ROUND(100*K30/E30,0) -> 0 | N30: 150 | O30: 30 | R30: Maintenance | T30: 677.34 | V30: 677.34
A31: Other | C31: 120 | E31: 120 | G31: 120 | I31: 176 | K31: 38 | L31: =ROUND(100*K31/E31,0) -> 32 | N31: 38 | O31: 25 | R31: Verger/ Organist/Ringers | T31: 0 | V31: 0
R32: Insurance | T32: 2075.22 | V32: 2075.22
B33: Total Payments | C33: =SUM(C25:C32) -> 20275 | E33: 20275 | G33: =SUM(G25:G32) -> 20923 | I33: =SUM(I25:I32) -> 20453 | K33: =SUM(K25:K32) -> 10026.85 | L33: =ROUND(100*K33/E33,0) -> 49 | N33: 11284.17 | O33: 53 | R33: Other Fund | T33: 85161.44 | V33: 85161.44
A35: Excess of Receipts over Payments | C35: =C18-C33 -> -595 | E35: =E18-E33 -> -595 | G35: =G18-G33 -> -4863 | I35: =I18-I33 -> -1536 | K35: =K18-K33 -> -390.58
T36: 95538.29 | V36: 95538.29

Sheet Year so far
C1: Budget 2022 | E1: End Dec 2022 | F1: % of budget | H1: Outturn 2021 | J1: Outturn 2019 | O1: End xxx 2020 | P1: % of budget
A3: Receipts: | C3: £ | E3: £ | H3: £ | J3: £ | O3: £ | S3: Sundry | T3: =CELL("address",E17) -> $E$17 | U3: 12497.91 | V3: * | W3: =U3-1167-10000 -> 1330.91 | X3: Less adjustments
A4: Collections - gift aid | C4: 300 | E4: =U12 -> 189.45 | F4: =ROUND(100*E4/C4,0) -> 63 | H4: 210 | J4: 565 | O4: 120 | P4: 21 | S4: Donata - Gift aid | T4: =CELL("address",E7) -> $E$7 | U4: 693.47
A5: Collections - other | C5: 1700 | E5: =U11 -> 2042.57 | F5: =ROUND(100*E5/C5,0) -> 120 | H5: 1363 | J5: 2481 | O5: 435.61 | P5: 21 | S5: Donata - Other | T5: =CELL("address",E8) -> $E$8 | U5: 275
A6: Gift aided regular giving | C6: 7850 | E6: =U17 -> 8318.64 | F6: =ROUND(100*E6/C6,0) -> 106 | H6: 7811 | J6: 6052 | O6: 3103.5 | P6: 52 | S6: Church hire | T6: =CELL("address",E14) -> $E$14 | U6: 0
A7: Donations - gift aid | C7: 1600 | E7: =U4 -> 693.47 | F7: =ROUND(100*E7/C7,0) -> 43 | H7: 2344 | J7: 352 | O7: 322 | P7: 161 | S7: Community lunches | T7: =CELL("address",E15) -> $E$15 | U7: 1507.6
A8: Donations - other | C8: 300 | E8: =U5 -> 275 | F8: =ROUND(100*E8/C8,0) -> 92 | H8: 238 | J8: 110 | O8: 75 | P8: 75 | S8: Events - General | T8: =CELL("address",E16) -> $E$16 | U8: 222.5
A9: Income tax recovered | C9: 2860 | E9: =W18 -> 2642.685 | F9: =ROUND(100*E9/C9,0) -> 92 | H9: 2796 | J9: 2416 | O9: 1569.39 | P9: 70 | S9: Events - Restrict'd | U9: 1790.46
A10: Church fees (nett) | C10: 1300 | E10: =U13-U31 -> 534 | F10: =ROUND(100*E10/C10,0) -> 41 | H10: 1784 | J10: =2321-990 -> 1331 | O10: 847 | P10: 47 | S10: Wall safe | T10: =CELL("address",E13) -> $E$13 | U10: 87.44
A11: Dividends | C11: 2830 | E11: =U19 -> 2659.12 | F11: =ROUND(100*E11/C11,0) -> 94 | H11: 3003 | J11: 4454 | O11: 1990.98 | P11: 45 | S11: Collection - not GA | T11: =CELL("address",E5) -> $E$5 | U11: 2042.57
A12: CCLA and Bank Interest | C12: 5 | E12: 423 | F12: =ROUND(100*E12/C12,0) -> 8460 | H12: 3 | J12: 48 | O12: 183 | P12: 366 | S12: Collection - Gift Aid | T12: =CELL("address",E4) -> $E$4 | U12: 189.45
A13: Wall safe | C13: 100 | E13: =U10 -> 87.44 | F13: =ROUND(100*E13/C13,0) -> 87 | H13: 99 | J13: 160 | O13: 17.6 | P13: 12 | S13: PCC Fees | T13: =CELL("address",E10) -> $E$10 | U13: 1009
A14: Church hire | C14: 100 | E14: =U6 -> 0 | F14: =ROUND(100*E14/C14,0) -> 0 | H14: 0 | J14: 200 | O14: 0 | P14: 0 | S14: Other Fund NGA | U14: 21819.73
A15: Community Lunches | C15: 1000 | E15: =U7 -> 1507.6 | F15: =ROUND(100*E15/C15,0) -> 151 | H15: 440 | J15: =748-179 -> 569 | O15: 136 | P15: 25 | S15: Other Fund GA | U15: 6316.5
A16: Fund raising events | C16: 400 | E16: =U8 -> 222.5 | F16: =ROUND(100*E16/C16,0) -> 56 | H16: 126 | J16: 179 | O16: 255.67 | P16: 64 | S16: Fund
A17: Sundry | C17: 100 | E17: =W3 -> 1330.91 | F17: =ROUND(100*E17/C17,0) -> 1331 | H17: 274 | J17: 307 | S17: GA Planned Giving | T17: =CELL("address",E6) -> $E$6 | U17: 8318.64
O18: 9055.75 | P18: 48 | S18: Tax on GA Amounts | T18: =CELL("address",E9) -> $E$9 | U18: 4221.81 | V18: * | W18: =U18-U15/4 -> 2642.685 | X18: Excluding restricted funds (ow some may be o/s)
B19: Total Receipts | C19: =SUM(C4:C18) -> 20445 | E19: =SUM(E4:E18) -> 20926.385 | F19: =ROUND(100*E19/C19,0) -> 102 | H19: =SUM(H4:H18) -> 20491 | J19: =SUM(J4:J18) -> 19224 | S19: Dividends and Interest | T19: =CELL("address",E11) -> $E$11 | U19: 2659.12
S20: Bells / Verger / Organist | U20: 90
A21: Yellow b/g = manual entry or check formula
A22: NB: For 2020, Charitable Receipts excluded from "Collections - other" and "Charitable Giving" | S22: Total (wo CCLA interest) | U22: =SUM(U3:U21) -> 63741.2 | V22: * | W22: =U22-U9-U14-U15*5/4-U3+W3-U20-U31 -> 20503.385 | X22: Excluding restricted funds, SFs and adjustments
A23: Fund raising events 2020 - assumes not diverted to resticted funds
A25: Payments: | C25: £ | E25: £ | H25: £ | J25: £ | O25: £ | S25: Sundry | T25: =CELL("address",E35) -> $E$35 | U25: 1407.8 | V25: * | W25: =U25-1167 -> 240.8 | X25: Less adjustments
A26: Parish Share | C26: 11710 | E26: =U30 -> 11709.68 | F26: =ROUND(100*E26/C26,0) -> 100 | H26: 11532 | J26: 11466 | O26: 5767.15 | P26: 49 | S26: Telecoms | T26: =CELL("address",E27) -> $E$27 | U26: 148.52
A27: Telecoms | E27: =U26 -> 148.52 | S27: Maint. of Services | T27: =CELL("address",E28) -> $E$28 | U27: 336.43
A28: Maintenance of Services | E28: =U27 -> 336.43 | S28: Comm. Lunches | T28: =CELL("address",E29) -> $E$29 | U28: 28.18
A29: Community Lunches | E29: =U28 -> 28.18 | S29: Priest's expenses | T29: =CELL("address",E33) -> $E$33 | U29: 75
A30: Insurance | C30: 4200 | E30: =U36 -> 4280.74 | F30: =ROUND(100*E30/C30,0) -> 102 | H30: 4163 | J30: 4303 | O30: 2184.42 | P30: 50 | S30: Parish Share | T30: =CELL("address",E26) -> $E$26 | U30: 11709.68
A31: Light, Heating & Water | C31: 2000 | E31: =U33 -> 2079.19 | F31: =ROUND(100*E31/C31,0) -> 104 | H31: 2164 | J31: 2139 | O31: 1454.48 | P31: 61 | S31: Stip. Fees | U31: 475
A32: Maintenance | C32: 1750 | E32: =U34 -> 1556.62 | F32: =ROUND(100*E32/C32,0) -> 89 | H32: 1068 | J32: 1192 | O32: 1652.62 | P32: 83 | S32: Charitable Giving | T32: =CELL("address",E34) -> $E$34 | U32: 827.55
A33: Priest's expenses | C33: 75 | E33: =U29 -> 75 | F33: =ROUND(100*E33/C33,0) -> 100 | H33: 75 | J33: 75 | O33: 37.5 | P33: 50 | S33: Heating, Lighting, Water | T33: =CELL("address",E31) -> $E$31 | U33: 2079.19
A34: Charitable Giving | C34: 500 | E34: =U32 -> 827.55 | F34: =ROUND(100*E34/C34,0) -> 166 | H34: 519 | J34: 1102 | O34: 150 | P34: 30 | S34: Maintenance | T34: =CELL("address",E32) -> $E$32 | U34: 1556.62
A35: Sundry | C35: 120 | E35: =W25 -> 240.8 | F35: =ROUND(100*E35/C35,0) -> 201 | H35: 420 | J35: 176 | O35: 38 | P35: 25 | S35: Verger/ Organist/Ringers | U35: 110
S36: Insurance | T36: =CELL("address",E30) -> $E$30 | U36: 4280.74
B37: Total Payments | C37: =SUM(C26:C36) -> 20355 | E37: =SUM(E26:E36) -> 21282.71 | F37: =ROUND(100*E37/C37,0) -> 105 | H37: =SUM(H26:H36) -> 19941 | J37: =SUM(J26:J36) -> 20453 | O37: 11284.17 | P37: 53 | S37: Other Fund | U37: 2778.6 | X37: Includes 580 from CYMF and telecoms from MPF
A39: Excess of Receipts over Payments | C39: =C19-C37 -> 90 | E39: =E19-E37 -> -356.325 | H39: =H19-H37 -> 550 | J39: =J19-J37 -> -1229
U40: =SUM(U25:U39) -> 25813.31 | V40: * | W40: =U40-U25+W25-U31-U35-U37 -> 21282.71 | X40: Excluding restricted funds, SFs and adjustments

Sheet Half-year
C1: Budget 2020 | E1: Budget 2019 | G1: Outturn 2019 | I1: End June 2020 | J1: % of budget | K1: % of budget
A2: Receipts: | G2: £ | I2: £
A3: Collections - gift aid | C3: 580 | E3: 580 | G3: 565 | I3: 120 | J3: 21 | K3: 41
A4: Collections - other | C4: 2100 | E4: 2200 | G4: 2481 | I4: 435.61 | J4: 21 | K4: 52
A5: Gift aided regular giving | C5: 6000 | E5: 6000 | G5: 6052 | I5: 3103.5 | J5: 52 | K5: 50
A6: Donations - gift aid | C6: 200 | E6: 100 | G6: 352 | I6: 322 | J6: 161 | K6: 86
A7: Donations - other | C7: 100 | E7: 100 | G7: 110 | I7: 75 | J7: 75 | K7: 94
A8: Income tax recovered | C8: 2250 | E8: 2257.5 | G8: 2416 | I8: 1569.39 | J8: 70 | K8: 75
A9: Church fees (nett) | C9: 1800 | E9: 1800 | G9: 1331 | I9: 847 | J9: 47 | K9: 29
A10: Dividends | C10: 4450 | E10: 4450 | G10: 4454 | I10: 1990.98 | J10: 45 | K10: 50
A11: CCLA and Bank Interest | C11: 50 | E11: 75 | G11: 48 | I11: 183 | J11: 366 | K11: 271
A12: Wall safe | C12: 150 | E12: 150 | G12: 160 | I12: 17.6 | J12: 12 | K12: 44
A13: Church hire | C13: 200 | E13: 300 | G13: 200 | I13: 0 | J13: 0 | K13: 53
A14: Coffee mornings | C14: 550 | E14: 400 | G14: 569 | I14: 136 | J14: 25 | K14: 64
... A17: Total Receipts | C17: 18830 | E17: 18412.5 | G17: 18917 | I17: 9055.75 | J17: 48 | K17: 53
A19: Payments: | E19: £ | G19: £ | I19: £
A20: Parish Share | C20: 11821 | E20: 11466 | G20: 11466 | I20: 5767.15 | J20: 49 | K20: 50
A21: Insurance | C21: 4400 | E21: 4300 | G21: 4303 | I21: 2184.42 | J21: 50 | K21: 50
A22: Light, Heating & Water | C22: 2400 | E22: 2400 | G22: 2139 | I22: 1454.48 | J22: 61 | K22: 69
A23: Maintenance | C23: 2000 | E23: 1500 | G23: 1192 | I23: 1652.62 | J23: 83 | K23: 75
A24: Priest's expenses | C24: 75 | E24: 75 | G24: 75 | I24: 37.5 | J24: 50 | K24: 50
A25: Charitable Giving | C25: 500 | E25: 820 | G25: 1102 | I25: 150 | J25: 30 | K25: 0
A26: Other | C26: 150 | E26: 150 | G26: 176 | I26: 38 | J26: 25 | K26: 25
A28: Total Payments | C28: =SUM(C20:C27) -> 21346 | E28: =SUM(E20:E27) -> 20711 | G28: =SUM(G20:G27) -> 20453 | I28: 11284.17 | J28: 53 | K28: 51
A30: Excess of Receipts over Payments | C30: -2516 | E30: -2298.5 | G30: -1536 | I30: -2228.42

Sheet Year end
C1: Budget 2021 | E1: Outturn 2020 | G1: Outturn 2019 | I1: End Dec 2021 | J1: % of budget | L1: End xxx 2020 | M1: % of budget
A3: Receipts: | C3: £ | E3: £ | G3: £ | I3: £ | L3: £ | P3: Sundry | R3: =18987.03-313.1 -> 18673.93
A4: Collections - gift aid | C4: 300 | E4: =R11 -> 230 | F4: =ROUND(100*E4/C4,0) -> 77 | G4: 565 | I4: =R11 -> 230 | J4: =ROUND(100*I4/C4,0) -> 77 | L4: 120 | M4: 21 | P4: Donata - Gift aid | R4: 2344.5 | S4: y
A5: Collections - other | C5: 1700 | E5: =R10 -> 1343.54 | F5: =ROUND(100*E5/C5,0) -> 79 | G5: 2481 | I5: =R10 -> 1343.54 | J5: =ROUND(100*I5/C5,0) -> 79 | L5: 435.61 | M5: 21 | P5: Donata - Other | R5: 238.09 | S5: y
A6: Gift aided regular giving | C6: 7500 | E6: =R16 -> 7811.92 | F6: =ROUND(100*E6/C6,0) -> 104 | G6: 6052 | I6: =R16 -> 7811.92 | J6: =ROUND(100*I6/C6,0) -> 104 | L6: 3103.5 | M6: 52 | P6: Church hire | R6: 0 | S6: y
A7: Donations - gift aid | C7: 1600 | E7: =R4 -> 2344.5 | F7: =ROUND(100*E7/C7,0) -> 147 | G7: 352 | I7: =R4 -> 2344.5 | J7: =ROUND(100*I7/C7,0) -> 147 | L7: 322 | M7: 161 | P7: Events - General | R7: 567.06
A8: Donations - other | C8: 300 | E8: =R5 -> 238.09 | F8: =ROUND(100*E8/C8,0) -> 79 | G8: 110 | I8: =R5 -> 238.09 | J8: =ROUND(100*I8/C8,0) -> 79 | L8: 75 | M8: 75 | P8: Events - Restrict'd | R8: 0
A9: Income tax recovered | C9: 2800 | E9: =R17 -> 2968.01 | F9: =ROUND(100*E9/C9,0) -> 106 | G9: 2416 | I9: =R17 -> 2968.01 | J9: =ROUND(100*I9/C9,0) -> 106 | L9: 1569.39 | M9: 70 | P9: Wall safe | R9: 99.01 | S9: y
A10: Church fees (nett) | C10: 1300 | E10: =R12-R31 -> 1784 | F10: =ROUND(100*E10/C10,0) -> 137 | G10: =2321-990 -> 1331 | I10: =R12-R31 -> 1784 | J10: =ROUND(100*I10/C10,0) -> 137 | L10: 847 | M10: 47 | P10: Collection - not GA | R10: 1343.54 | S10: y
A11: Dividends | C11: 3400 | E11: =R18 -> 3003.33 | F11: =ROUND(100*E11/C11,0) -> 88 | G11: 4454 | I11: =R18 -> 3003.33 | J11: =ROUND(100*I11/C11,0) -> 88 | L11: 1990.98 | M11: 45 | P11: Collection - Gift Aid | R11: 230 | S11: y
A12: CCLA and Bank Interest | C12: 50 | E12: 25 | F12: =ROUND(100*E12/C12,0) -> 50 | G12: 48 | I12: 8 | J12: =ROUND(100*I12/C12,0) -> 16 | L12: 183 | M12: 366 | P12: PCC Fees | R12: 2663
A13: Wall safe | C13: 100 | E13: =N13 -> 0 | F13: =ROUND(100*E13/C13,0) -> 0 | G13: 160 | I13: =N13 -> 0 | J13: =ROUND(100*I13/C13,0) -> 0 | L13: 17.6 | M13: 12 | P13: Other Fund NGA | R13: 98951.92
A14: Church hire | C14: 100 | E14: =R6 -> 0 | F14: =ROUND(100*E14/C14,0) -> 0 | G14: 200 | I14: =R6 -> 0 | J14: =ROUND(100*I14/C14,0) -> 0 | L14: 0 | M14: 0 | P14: Other Fund GA | R14: 687
A15: Coffee mornings+Lunches | C15: 130 | E15: 140 | F15: =ROUND(100*E15/C15,0) -> 108 | G15: =748-179 -> 569 | I15: 440 | J15: =ROUND(100*I15/C15,0) -> 338 | L15: 136 | M15: 25 | P15: Fund
A16: Fund raising events | C16: 400 | E16: =K14-E15 -> -140 | F16: =ROUND(100*E16/C16,0) -> -35 | G16: 179 | I16: =K14-I15 -> -440 | J16: =ROUND(100*I16/C16,0) -> -110 | L16: 255.67 | M16: 64 | P16: GA Planned Giving | R16: 7811.92 | S16: y
A17: Rebates (VAT, Parish Share) | I17: 389 | P17: Tax on GA Amounts | R17: 2968.01 | S17: y
B18: Total Receipts | C18: =SUM(C4:C17) -> 19680 | E18: =SUM(E4:E17) -> 19748.39 | G18: =SUM(G4:G17) -> 18917 | I18: =SUM(I4:I17) -> 20120.39 | J18: =ROUND(100*I18/C18,0) -> 102 | L18: 9055.75 | M18: 48 | P18: Dividends and Interest | R18: 3003.33
P19: Bells / Verger / Organist | R19: 80
A20: Yellow b/g = manual entry or check formula
A21: NB: For 2020, Charitable Receipts excluded from "Collections - other" and "Charitable Giving" | R21: 139661.31
A22: Fund raising events 2020 - assumes not diverted to resticted funds
A28: Payments: | C28: £ | E28: £ | G28: £ | I28: £ | L28: £ | P28: Sundry | R28: 420.17
A29: Parish Share | C29: 11530 | E29: 11534 | G29: 11466 | I29: =R30 -> 11532.64 | J29: =ROUND(100*I29/C29,0) -> 100 | L29: 5767.15 | M29: 49 | P29: Priest's expenses | R29: 75
A30: Insurance | C30: 4150 | E30: 4314 | G30: 4303 | I30: =R36 -> 4163.48 | J30: =ROUND(100*I30/C30,0) -> 100 | L30: 2184.42 | M30: 50 | P30: Parish Share | R30: 11532.64
A31: Light, Heating & Water | C31: 1900 | E31: 1820 | G31: 2139 | I31: =R33 -> 2164.81 | J31: =ROUND(100*I31/C31,0) -> 114 | L31: 1454.48 | M31: 61 | P31: Stip. Fees | R31: 879
A32: Maintenance | C32: 2000 | E32: 2410 | G32: 1192 | I32: =R34 -> 1068.05 | J32: =ROUND(100*I32/C32,0) -> 53 | L32: 1652.62 | M32: 83 | P32: Charitable Giving | R32: 519.1
A33: Priest's expenses | C33: 75 | E33: 75 | G33: 75 | I33: =R29 -> 75 | J33: =ROUND(100*I33/C33,0) -> 100 | L33: 37.5 | M33: 50 | P33: Heating, Lighting, Water | R33: 2164.81
A34: Charitable Giving | C34: 500 | E34: 650 | G34: 1102 | I34: =R32 -> 519.1 | J34: =ROUND(100*I34/C34,0) -> 104 | L34: 150 | M34: 30 | P34: Maintenance | R34: 1068.05
A35: Other | C35: 120 | E35: 120 | G35: 176 | I35: =R28 -> 420.17 | J35: =ROUND(100*I35/C35,0) -> 350 | L35: 38 | M35: 25 | P35: Verger/ Organist/Ringers | R35: 60
P36: Insurance | R36: 4163.48
B37: Total Payments | C37: 20275 | E37: =SUM(E29:E36) -> 20923 | G37: =SUM(G29:G36) -> 20453 | I37: =SUM(I29:I36) -> 19943.25 | J37: =ROUND(100*I37/C37,0) -> 98 | L37: 11284.17 | M37: 53 | P37: Other Fund | R37: 90633.49
A39: Excess of Receipts over Payments | C39: =C18-C37 -> -595 | E39: =E18-E37 -> -1174.61 | G39: =G18-G37 -> -1536 | I39: =I18-I37 -> 177.14
R40: 111515.74
