Workbook

Sheet Lista
A1: Skriv här: | B1: orre | C1: =LEN(B1)&" tecken" -> 4 tecken | D1: Obs! Max 9 tecken
A4: antal anagram: | B4: =COUNTA(_xlfn.ANCHORARRAY(A6)) -> 24 | D4: varav unika: | E4: =COUNTA(_xlfn.ANCHORARRAY(D6)) -> 12
A6: {=_xlfn._xlws.SORT(CONCATENATE(_xlfn.ANCHORARRAY(tecken!A4),_xlfn.ANCHORARRAY(tecken!B4),_xlfn.ANCHORARRAY(tecken!C4),_xlfn.ANCHORARRAY(tecken!D4),_xlfn.ANCHORARRAY(tecken!E4),_xlfn.ANCHORARRAY(tecken!F4),_xlfn.ANCHORARRAY(tecken!G4),_xlfn.ANCHORARRAY(tecken!H4),_xlfn.ANCHORARRAY(tecken!I4)))} -> EORR | D6: {=_xlfn._xlws.SORT(_xlfn.UNIQUE(_xlfn.ANCHORARRAY(A6)))} -> EORR
A7: EORR | D7: EROR
A8: EROR | D8: ERRO
A9: EROR | D9: OERR
A10: ERRO | D10: ORER
A11: ERRO | D11: ORRE
A12: OERR | D12: REOR
A13: OERR | D13: RERO
A14: ORER | D14: ROER
A15: ORER | D15: RORE
A16: ORRE | D16: RREO
A17: ORRE | D17: RROE
A18: REOR
A19: REOR
A20: RERO
A21: RERO
A22: ROER
A23: ROER
A24: RORE
A25: RORE
A26: RREO
A27: RREO
A28: RROE
A29: RROE

Sheet Teckenpos
B1: Tabell med positioner (bland återstående siffror)
A2: Fakultet | B2: {=FACT(LEN(Lista!$B$1)-TRANSPOSE(_xlfn.SEQUENCE(LEN(Lista!B1),,0,)))} -> 24 | C2: 6 | D2: 2 | E2: 1
A3: Fakultet-1 | B3: {=FACT(LEN(Lista!$B$1)-1-TRANSPOSE(_xlfn.SEQUENCE(LEN(Lista!B1),,0,)))} -> 6 | C3: 2 | D3: 1 | E3: 1
B4: {=IFERROR(QUOTIENT(MOD(_xlfn.SEQUENCE(FACT(LEN(Lista!$B$1)),,0),B$2),B$3)+1,"")} -> 1 | C4: {=IFERROR(QUOTIENT(MOD(_xlfn.SEQUENCE(FACT(LEN(Lista!$B$1)),,0),C$2),C$3)+1,"")} -> 1 | D4: {=IFERROR(QUOTIENT(MOD(_xlfn.SEQUENCE(FACT(LEN(Lista!$B$1)),,0),D$2),D$3)+1,"")} -> 1 | E4: {=IFERROR(QUOTIENT(MOD(_xlfn.SEQUENCE(FACT(LEN(Lista!$B$1)),,0),E$2),E$3)+1,"")} -> 1 | F4: {=IFERROR(QUOTIENT(MOD(_xlfn.SEQUENCE(FACT(LEN(Lista!$B$1)),,0),F$2),F$3)+1,"")} | G4: {=IFERROR(QUOTIENT(MOD(_xlfn.SEQUENCE(FACT(LEN(Lista!$B$1)),,0),G$2),G$3)+1,"")} | H4: {=IFERROR(QUOTIENT(MOD(_xlfn.SEQUENCE(FACT(LEN(Lista!$B$1)),,0),H$2),H$3)+1,"")} | I4: {=IFERROR(QUOTIENT(MOD(_xlfn.SEQUENCE(FACT(LEN(Lista!$B$1)),,0),I$2),I$3)+1,"")} | J4: {=IFERROR(QUOTIENT(MOD(_xlfn.SEQUENCE(FACT(LEN(Lista!$B$1)),,0),J$2),J$3)+1,"")}
B5: 1 | C5: 1 | D5: 2 | E5: 1
B6: 1 | C6: 2 | D6: 1 | E6: 1
B7: 1 | C7: 2 | D7: 2 | E7: 1
B8: 1 | C8: 3 | D8: 1 | E8: 1
B9: 1 | C9: 3 | D9: 2 | E9: 1
B10: 2 | C10: 1 | D10: 1 | E10: 1
B11: 2 | C11: 1 | D11: 2 | E11: 1
B12: 2 | C12: 2 | D12: 1 | E12: 1
B13: 2 | C13: 2 | D13: 2 | E13: 1
B14: 2 | C14: 3 | D14: 1 | E14: 1
B15: 2 | C15: 3 | D15: 2 | E15: 1
B16: 3 | C16: 1 | D16: 1 | E16: 1
... B27: 4 | C27: 3 | D27: 2 | E27: 1

Sheet Oanvända
A1: tabell med återstående tecken
A2: 1 | B2: 2 | C2: 3 | D2: 4 | E2: 5 | F2: 6 | G2: 7 | H2: 8 | I2: 9
A4: {=INDEX(Lista!$B$1,_xlfn.SEQUENCE(FACT(LEN(Lista!$B$1)),,0,0),1)} -> orre | B4: {=IFERROR(REPLACE(_xlfn.ANCHORARRAY(A4),_xlfn.ANCHORARRAY(Teckenpos!B4),1,""),"")} -> rre | C4: {=IFERROR(REPLACE(_xlfn.ANCHORARRAY(B4),_xlfn.ANCHORARRAY(Teckenpos!C4),1,""),"")} -> re | D4: {=IFERROR(REPLACE(_xlfn.ANCHORARRAY(C4),_xlfn.ANCHORARRAY(Teckenpos!D4),1,""),"")} -> e | E4: {=IFERROR(REPLACE(_xlfn.ANCHORARRAY(D4),_xlfn.ANCHORARRAY(Teckenpos!E4),1,""),"")} | F4: {=IFERROR(REPLACE(_xlfn.ANCHORARRAY(E4),_xlfn.ANCHORARRAY(Teckenpos!F4),1,""),"")} | G4: {=IFERROR(REPLACE(_xlfn.ANCHORARRAY(F4),_xlfn.ANCHORARRAY(Teckenpos!G4),1,""),"")} | H4: {=IFERROR(REPLACE(_xlfn.ANCHORARRAY(G4),_xlfn.ANCHORARRAY(Teckenpos!H4),1,""),"")} | I4: {=IFERROR(REPLACE(_xlfn.ANCHORARRAY(H4),_xlfn.ANCHORARRAY(Teckenpos!I4),1,""),"")}
A5: orre | B5: rre | C5: re | D5: r
A6: orre | B6: rre | C6: re | D6: e
A7: orre | B7: rre | C7: re | D7: r
A8: orre | B8: rre | C8: rr | D8: r
A9: orre | B9: rre | C9: rr | D9: r
A10: orre | B10: ore | C10: re | D10: e
A11: orre | B11: ore | C11: re | D11: r
A12: orre | B12: ore | C12: oe | D12: e
A13: orre | B13: ore | C13: oe | D13: o
A14: orre | B14: ore | C14: or | D14: r
A15: orre | B15: ore | C15: or | D15: o
A16: orre | B16: ore | C16: re | D16: e
... A27: orre | B27: orr | C27: or | D27: o

Sheet tecken
A1: tabell med tecken som skall sammanfogas
A2: 1 | B2: 2 | C2: 3 | D2: 4 | E2: 5 | F2: 6 | G2: 7 | H2: 8 | I2: 9
A4: {=UPPER(IFERROR(MID(_xlfn.ANCHORARRAY(Oanvända!A4),_xlfn.ANCHORARRAY(Teckenpos!B4),1),""))} -> O | B4: {=UPPER(IFERROR(MID(_xlfn.ANCHORARRAY(Oanvända!B4),_xlfn.ANCHORARRAY(Teckenpos!C4),1),""))} -> R | C4: {=UPPER(IFERROR(MID(_xlfn.ANCHORARRAY(Oanvända!C4),_xlfn.ANCHORARRAY(Teckenpos!D4),1),""))} -> R | D4: {=UPPER(IFERROR(MID(_xlfn.ANCHORARRAY(Oanvända!D4),_xlfn.ANCHORARRAY(Teckenpos!E4),1),""))} -> E | E4: {=UPPER(IFERROR(MID(_xlfn.ANCHORARRAY(Oanvända!E4),_xlfn.ANCHORARRAY(Teckenpos!F4),1),""))} | F4: {=UPPER(IFERROR(MID(_xlfn.ANCHORARRAY(Oanvända!F4),_xlfn.ANCHORARRAY(Teckenpos!G4),1),""))} | G4: {=UPPER(IFERROR(MID(_xlfn.ANCHORARRAY(Oanvända!G4),_xlfn.ANCHORARRAY(Teckenpos!H4),1),""))} | H4: {=UPPER(IFERROR(MID(_xlfn.ANCHORARRAY(Oanvända!H4),_xlfn.ANCHORARRAY(Teckenpos!I4),1),""))} | I4: {=UPPER(IFERROR(MID(_xlfn.ANCHORARRAY(Oanvända!I4),_xlfn.ANCHORARRAY(Teckenpos!J4),1),""))}
A5: O | B5: R | C5: E | D5: R
A6: O | B6: R | C6: R | D6: E
A7: O | B7: R | C7: E | D7: R
A8: O | B8: E | C8: R | D8: R
A9: O | B9: E | C9: R | D9: R
A10: R | B10: O | C10: R | D10: E
A11: R | B11: O | C11: E | D11: R
A12: R | B12: R | C12: O | D12: E
A13: R | B13: R | C13: E | D13: O
A14: R | B14: E | C14: O | D14: R
A15: R | B15: E | C15: R | D15: O
A16: R | B16: O | C16: R | D16: E
... A27: E | B27: R | C27: R | D27: O
