Workbook
Name Items: 'Lookup Lists'!$B$1:$B$23
Name LAP: 'Lookup Lists'!$A$1:$A$12

Sheet Chart
A1: Select data type | B1: =Data!A2 & " Library Access Point - " & A2 & " 2019-20" -> Waterbeach Library Access Point - Total Issues 2019-20
A2: Total Issues | C2: Apr | D2: May | E2: Jun | F2: Jul | G2: Aug | H2: Sep | I2: Oct | J2: Nov | K2: Dec | L2: Jan | M2: Feb | N2: Mar
A3: Use drop-down menu to select data | B3: 2019-20 | C3: =VLOOKUP($A$2,Data!$A$4:$Q$32,3,FALSE) -> 1305 | D3: =VLOOKUP($A$2,Data!$A$4:$Q$32,4,FALSE) -> 1465 | E3: =VLOOKUP($A$2,Data!$A$4:$Q$32,5,FALSE) -> 1414 | F3: =VLOOKUP($A$2,Data!$A$4:$Q$32,7,FALSE) -> 2000 | G3: =VLOOKUP($A$2,Data!$A$4:$Q$32,8,FALSE) -> 1938 | H3: =VLOOKUP($A$2,Data!$A$4:$Q$32,9,FALSE) -> 1776 | I3: =VLOOKUP($A$2,Data!$A$4:$Q$32,11,FALSE) -> 1493 | J3: =VLOOKUP($A$2,Data!$A$4:$Q$32,12,FALSE) -> 1675 | K3: =VLOOKUP($A$2,Data!$A$4:$Q$32,13,FALSE) -> 1009

Sheet Data
A1: =A2 & " Library Access Point Performance 2019-20" -> Waterbeach Library Access Point Performance 2019-20
A2: Waterbeach | C2: Apr | D2: May | E2: Jun | F2: Qtr 1 | G2: Jul | H2: Aug | I2: Sep | J2: Qtr 2 | K2: Oct | L2: Nov | M2: Dec | N2: Qtr 3 | O2: Jan | P2: Feb | Q2: Mar | R2: Qtr 4 | S2: Total (YTD)
A4: Total Issues | C4: =SUM(C11,C17,C21,C22,C23) -> 1305 | D4: =SUM(D11,D17,D21,D22,D23) -> 1465 | E4: =SUM(E11,E17,E21,E22,E23) -> 1414 | F4: =SUM(F11,F17,F21,F22,F23) -> 4184 | G4: =SUM(G11,G17,G21,G22,G23) -> 2000 | H4: =SUM(H11,H17,H21,H22,H23) -> 1938 | I4: =SUM(I11,I17,I21,I22,I23) -> 1776 | J4: =SUM(J11,J17,J21,J22,J23) -> 5714 | ... S4: =SUM(S11,S17,S21,S22,S23) -> 14075
A6: Adult Fiction Hardback | B6: C | C6: =VLOOKUP($A$2&"*",[1]April!$A$5:$BP$52,COLUMN($C:$C),FALSE) -> 28 | D6: =VLOOKUP($A$2&"*",[1]May!$A$5:$BP$52,COLUMN($C:$C),FALSE) -> 19 | E6: =VLOOKUP($A$2&"*",[1]June!$A$5:$BP$52,COLUMN($C:$C),FALSE) -> 25 | F6: =SUM(C6:E6) -> 72 | G6: =VLOOKUP($A$2&"*",[1]July!$A$5:$BP$52,COLUMN($C:$C),FALSE) -> 21 | H6: =VLOOKUP($A$2&"*",[1]August!$A$5:$BP$52,COLUMN($C:$C),FALSE) -> 21 | I6: =VLOOKUP($A$2&"*",[1]September!$A$5:$BP$52,COLUMN($C:$C),FALSE) -> 22 | J6: =SUM(G6:I6) -> 64 | K6: =VLOOKUP($A$2&"*",[1]October!$A$5:$BP$52,COLUMN($C:$C),FALSE) -> 17 | L6: =VLOOKUP($A$2&"*",[1]November!$A$5:$BP$52,COLUMN($C:$C),FALSE) -> 16 | M6: =VLOOKUP($A$2&"*",[1]December!$A$5:$BP$52,COLUMN($C:$C),FALSE) -> 19 | N6: =SUM(K6:M6) -> 52 | O6: 0 | P6: 0 | Q6: 0 | R6: =SUM(O6:Q6) -> 0 | S6: =IF(ISERROR(SUM(F6,J6,N6,R6)),0,SUM(F6,J6,N6,R6)) -> 188
A7: Adult Fiction Paperback | B7: D | C7: =VLOOKUP($A$2&"*",[1]April!$A$5:$BP$52,COLUMN($D:$D),FALSE) -> 262 | D7: =VLOOKUP($A$2&"*",[1]May!$A$5:$BP$52,COLUMN($D:$D),FALSE) -> 257 | E7: =VLOOKUP($A$2&"*",[1]June!$A$5:$BP$52,COLUMN($D:$D),FALSE) -> 240 | F7: =SUM(C7:E7) -> 759 | G7: =VLOOKUP($A$2&"*",[1]July!$A$5:$BP$52,COLUMN($D:$D),FALSE) -> 317 | H7: =VLOOKUP($A$2&"*",[1]August!$A$5:$BP$52,COLUMN($D:$D),FALSE) -> 299 | I7: =VLOOKUP($A$2&"*",[1]September!$A$5:$BP$52,COLUMN($D:$D),FALSE) -> 246 | J7: =SUM(G7:I7) -> 862 | K7: =VLOOKUP($A$2&"*",[1]October!$A$5:$BP$52,COLUMN($D:$D),FALSE) -> 216 | L7: =VLOOKUP($A$2&"*",[1]November!$A$5:$BP$52,COLUMN($D:$D),FALSE) -> 258 | M7: =VLOOKUP($A$2&"*",[1]December!$A$5:$BP$52,COLUMN($D:$D),FALSE) -> 192 | N7: =SUM(K7:M7) -> 666 | O7: 0 | P7: 0 | Q7: 0 | R7: =SUM(O7:Q7) -> 0 | S7: =IF(ISERROR(SUM(F7,J7,N7,R7)),0,SUM(F7,J7,N7,R7)) -> 2287
A8: Adult Non-Fiction Hardback | B8: G | C8: =VLOOKUP($A$2&"*",[1]April!$A$5:$BP$52,COLUMN($G:$G),FALSE) -> 31 | D8: =VLOOKUP($A$2&"*",[1]May!$A$5:$BP$52,COLUMN($G:$G),FALSE) -> 28 | E8: =VLOOKUP($A$2&"*",[1]June!$A$5:$BP$52,COLUMN($G:$G),FALSE) -> 20 | F8: =SUM(C8:E8) -> 79 | G8: =VLOOKUP($A$2&"*",[1]July!$A$5:$BP$52,COLUMN($G:$G),FALSE) -> 27 | H8: =VLOOKUP($A$2&"*",[1]August!$A$5:$BP$52,COLUMN($G:$G),FALSE) -> 24 | I8: =VLOOKUP($A$2&"*",[1]September!$A$5:$BP$52,COLUMN($G:$G),FALSE) -> 32 | J8: =SUM(G8:I8) -> 83 | K8: =VLOOKUP($A$2&"*",[1]October!$A$5:$BP$52,COLUMN($G:$G),FALSE) -> 26 | L8: =VLOOKUP($A$2&"*",[1]November!$A$5:$BP$52,COLUMN($G:$G),FALSE) -> 31 | M8: =VLOOKUP($A$2&"*",[1]December!$A$5:$BP$52,COLUMN($G:$G),FALSE) -> 25 | N8: =SUM(K8:M8) -> 82 | O8: 0 | P8: 0 | Q8: 0 | R8: =SUM(O8:Q8) -> 0 | S8: =IF(ISERROR(SUM(F8,J8,N8,R8)),0,SUM(F8,J8,N8,R8)) -> 244
A9: Adult Non-Fiction Paperback | B9: H | C9: =VLOOKUP($A$2&"*",[1]April!$A$5:$BP$52,COLUMN($H:$H),FALSE) -> 41 | D9: =VLOOKUP($A$2&"*",[1]May!$A$5:$BP$52,COLUMN($H:$H),FALSE) -> 37 | E9: =VLOOKUP($A$2&"*",[1]June!$A$5:$BP$52,COLUMN($H:$H),FALSE) -> 34 | F9: =SUM(C9:E9) -> 112 | G9: =VLOOKUP($A$2&"*",[1]July!$A$5:$BP$52,COLUMN($H:$H),FALSE) -> 47 | H9: =VLOOKUP($A$2&"*",[1]August!$A$5:$BP$52,COLUMN($H:$H),FALSE) -> 47 | I9: =VLOOKUP($A$2&"*",[1]September!$A$5:$BP$52,COLUMN($H:$H),FALSE) -> 49 | J9: =SUM(G9:I9) -> 143 | K9: =VLOOKUP($A$2&"*",[1]October!$A$5:$BP$52,COLUMN($H:$H),FALSE) -> 46 | L9: =VLOOKUP($A$2&"*",[1]November!$A$5:$BP$52,COLUMN($H:$H),FALSE) -> 50 | M9: =VLOOKUP($A$2&"*",[1]December!$A$5:$BP$52,COLUMN($H:$H),FALSE) -> 30 | N9: =SUM(K9:M9) -> 126 | O9: 0 | P9: 0 | Q9: 0 | R9: =SUM(O9:Q9) -> 0 | S9: =IF(ISERROR(SUM(F9,J9,N9,R9)),0,SUM(F9,J9,N9,R9)) -> 381
A10: Adult Large Print | B10: T | C10: =VLOOKUP($A$2&"*",[1]April!$A$5:$BP$52,COLUMN(T:T),FALSE) -> 5 | D10: =VLOOKUP($A$2&"*",[1]May!$A$5:$BP$52,COLUMN(T:T),FALSE) -> 1 | E10: =VLOOKUP($A$2&"*",[1]June!$A$5:$BP$52,COLUMN(T:T),FALSE) -> 10 | F10: =SUM(C10:E10) -> 16 | G10: =VLOOKUP($A$2&"*",[1]July!$A$5:$BP$52,COLUMN($T:$T),FALSE) -> 6 | H10: =VLOOKUP($A$2&"*",[1]August!$A$5:$BP$52,COLUMN($T:$T),FALSE) -> 7 | I10: =VLOOKUP($A$2&"*",[1]September!$A$5:$BP$52,COLUMN($T:$T),FALSE) -> 4 | J10: =SUM(G10:I10) -> 17 | K10: =VLOOKUP($A$2&"*",[1]October!$A$5:$BP$52,COLUMN($T:$T),FALSE) -> 4 | L10: =VLOOKUP($A$2&"*",[1]November!$A$5:$BP$52,COLUMN($T:$T),FALSE) -> 2 | M10: =VLOOKUP($A$2&"*",[1]December!$A$5:$BP$52,COLUMN($T:$T),FALSE) -> 5 | N10: =SUM(K10:M10) -> 11 | O10: 0 | P10: 0 | Q10: 0 | R10: =SUM(O10:Q10) -> 0 | S10: =IF(ISERROR(SUM(F10,J10,N10,R10)),0,SUM(F10,J10,N10,R10)) -> 44
A11: Total Adult Books | C11: =SUM(C6:C10) -> 367 | D11: =SUM(D6:D10) -> 342 | E11: =SUM(E6:E10) -> 329 | F11: =SUM(F6:F10) -> 1038 | G11: =SUM(G6:G10) -> 418 | H11: =SUM(H6:H10) -> 398 | I11: =SUM(I6:I10) -> 353 | J11: =SUM(J6:J10) -> 1169 | ... R11: =SUM(R6:R10) -> 0 | S11: =IF(ISERROR(SUM(F11,J11,N11,R11)),0,SUM(F11,J11,N11,R11)) -> 3144
A13: Junior Fiction | B13: V | C13: =VLOOKUP($A$2&"*",[1]April!$A$5:$BP$52,COLUMN($V:$V),FALSE) -> 760 | D13: =VLOOKUP($A$2&"*",[1]May!$A$5:$BP$52,COLUMN($V:$V),FALSE) -> 921 | E13: =VLOOKUP($A$2&"*",[1]June!$A$5:$BP$52,COLUMN($V:$V),FALSE) -> 861 | F13: =SUM(C13:E13) -> 2542 | G13: =VLOOKUP($A$2&"*",[1]July!$A$5:$BP$52,COLUMN($V:$V),FALSE) -> 1278 | H13: =VLOOKUP($A$2&"*",[1]August!$A$5:$BP$52,COLUMN($V:$V),FALSE) -> 1203 | I13: =VLOOKUP($A$2&"*",[1]September!$A$5:$BP$52,COLUMN($V:$V),FALSE) -> 1120 | J13: =SUM(G13:I13) -> 3601 | K13: =VLOOKUP($A$2&"*",[1]October!$A$5:$BP$52,COLUMN($V:$V),FALSE) -> 948 | L13: =VLOOKUP($A$2&"*",[1]November!$A$5:$BP$52,COLUMN($V:$V),FALSE) -> 1102 | M13: =VLOOKUP($A$2&"*",[1]December!$A$5:$BP$52,COLUMN($V:$V),FALSE) -> 608 | N13: =SUM(K13:M13) -> 2658 | O13: 0 | P13: 0 | Q13: 0 | R13: =SUM(O13:Q13) -> 0 | S13: =IF(ISERROR(SUM(F13,J13,N13,R13)),0,SUM(F13,J13,N13,R13)) -> 8801
A14: Junior Large Print | B14: W | C14: =VLOOKUP($A$2&"*",[1]April!$A$5:$BP$52,COLUMN($W:$W),FALSE) -> 4 | D14: =VLOOKUP($A$2&"*",[1]May!$A$5:$BP$52,COLUMN($W:$W),FALSE) -> 8 | E14: =VLOOKUP($A$2&"*",[1]June!$A$5:$BP$52,COLUMN($W:$W),FALSE) -> 12 | F14: =SUM(C14:E14) -> 24 | G14: =VLOOKUP($A$2&"*",[1]July!$A$5:$BP$52,COLUMN($W:$W),FALSE) -> 11 | H14: =VLOOKUP($A$2&"*",[1]August!$A$5:$BP$52,COLUMN($W:$W),FALSE) -> 15 | I14: =VLOOKUP($A$2&"*",[1]September!$A$5:$BP$52,COLUMN($W:$W),FALSE) -> 11 | J14: =SUM(G14:I14) -> 37 | K14: =VLOOKUP($A$2&"*",[1]October!$A$5:$BP$52,COLUMN($W:$W),FALSE) -> 12 | L14: =VLOOKUP($A$2&"*",[1]November!$A$5:$BP$52,COLUMN($W:$W),FALSE) -> 11 | M14: =VLOOKUP($A$2&"*",[1]December!$A$5:$BP$52,COLUMN($W:$W),FALSE) -> 3 | N14: =SUM(K14:M14) -> 26 | O14: 0 | P14: 0 | Q14: 0 | R14: =SUM(O14:Q14) -> 0 | S14: =IF(ISERROR(SUM(F14,J14,N14,R14)),0,SUM(F14,J14,N14,R14)) -> 87
A15: Junior Non-Fiction | B15: X | C15: =VLOOKUP($A$2&"*",[1]April!$A$5:$BP$52,COLUMN($X:$X),FALSE) -> 118 | D15: =VLOOKUP($A$2&"*",[1]May!$A$5:$BP$52,COLUMN($X:$X),FALSE) -> 125 | E15: =VLOOKUP($A$2&"*",[1]June!$A$5:$BP$52,COLUMN($X:$X),FALSE) -> 149 | F15: =SUM(C15:E15) -> 392 | G15: =VLOOKUP($A$2&"*",[1]July!$A$5:$BP$52,COLUMN($X:$X),FALSE) -> 229 | H15: =VLOOKUP($A$2&"*",[1]August!$A$5:$BP$52,COLUMN($X:$X),FALSE) -> 226 | I15: =VLOOKUP($A$2&"*",[1]September!$A$5:$BP$52,COLUMN($X:$X),FALSE) -> 194 | J15: =SUM(G15:I15) -> 649 | K15: =VLOOKUP($A$2&"*",[1]October!$A$5:$BP$52,COLUMN($X:$X),FALSE) -> 166 | L15: =VLOOKUP($A$2&"*",[1]November!$A$5:$BP$52,COLUMN($X:$X),FALSE) -> 151 | M15: =VLOOKUP($A$2&"*",[1]December!$A$5:$BP$52,COLUMN($X:$X),FALSE) -> 75 | N15: =SUM(K15:M15) -> 392 | O15: 0 | P15: 0 | Q15: 0 | R15: =SUM(O15:Q15) -> 0 | S15: =IF(ISERROR(SUM(F15,J15,N15,R15)),0,SUM(F15,J15,N15,R15)) -> 1433
A16: Young Adult | B16: AB | C16: =VLOOKUP($A$2&"*",[1]April!$A$5:$BP$52,COLUMN($AD:$AD),FALSE) -> 53 | D16: =VLOOKUP($A$2&"*",[1]May!$A$5:$BP$52,COLUMN($AD:$AD),FALSE) -> 61 | E16: =VLOOKUP($A$2&"*",[1]June!$A$5:$BP$52,COLUMN($AD:$AD),FALSE) -> 51 | F16: =SUM(C16:E16) -> 165 | G16: =VLOOKUP($A$2&"*",[1]July!$A$5:$BP$52,COLUMN($AD:$AD),FALSE) -> 58 | H16: =VLOOKUP($A$2&"*",[1]August!$A$5:$BP$52,COLUMN($AD:$AD),FALSE) -> 96 | I16: =VLOOKUP($A$2&"*",[1]September!$A$5:$BP$52,COLUMN($AD:$AD),FALSE) -> 97 | J16: =SUM(G16:I16) -> 251 | K16: =VLOOKUP($A$2&"*",[1]October!$A$5:$BP$52,COLUMN($AD:$AD),FALSE) -> 54 | L16: =VLOOKUP($A$2&"*",[1]November!$A$5:$BP$52,COLUMN($AD:$AD),FALSE) -> 46 | M16: =VLOOKUP($A$2&"*",[1]December!$A$5:$BP$52,COLUMN($AD:$AD),FALSE) -> 42 | N16: =SUM(K16:M16) -> 142 | O16: 0 | P16: 0 | Q16: 0 | R16: =SUM(O16:Q16) -> 0 | S16: =IF(ISERROR(SUM(F16,J16,N16,R16)),0,SUM(F16,J16,N16,R16)) -> 558
A17: Total Junior Books | C17: =SUM(C13:C16) -> 935 | D17: =SUM(D13:D16) -> 1115 | E17: =SUM(E13:E16) -> 1073 | F17: =SUM(F13:F16) -> 3123 | G17: =SUM(G13:G16) -> 1576 | H17: =SUM(H13:H16) -> 1540 | I17: =SUM(I13:I16) -> 1422 | J17: =SUM(J13:J16) -> 4538 | ... R17: =SUM(R13:R16) -> 0 | S17: =IF(ISERROR(SUM(F17,J17,N17,R17)),0,SUM(F17,J17,N17,R17)) -> 10879
A19: Total Book Issues | C19: =SUM(C11,C17) -> 1302 | D19: =SUM(D11,D17) -> 1457 | E19: =SUM(E11,E17) -> 1402 | F19: =SUM(F11,F17) -> 4161 | G19: =SUM(G11,G17) -> 1994 | H19: =SUM(H11,H17) -> 1938 | I19: =SUM(I11,I17) -> 1775 | J19: =SUM(J11,J17) -> 5707 | ... S19: =SUM(S11,S17) -> 14023
A21: Adult Spoken Word | B21: AK | C21: =VLOOKUP($A$2&"*",[1]April!$A$5:$BP$52,COLUMN($AM:$AM),FALSE) -> 1 | D21: =VLOOKUP($A$2&"*",[1]May!$A$5:$BP$52,COLUMN($AM:$AM),FALSE) -> 0 | E21: =VLOOKUP($A$2&"*",[1]June!$A$5:$BP$52,COLUMN($AM:$AM),FALSE) -> 6 | F21: =SUM(C21:E21) -> 7 | G21: =VLOOKUP($A$2&"*",[1]July!$A$5:$BP$52,COLUMN($AM:$AM),FALSE) -> 2 | H21: =VLOOKUP($A$2&"*",[1]August!$A$5:$BP$52,COLUMN($AM:$AM),FALSE) -> 0 | I21: =VLOOKUP($A$2&"*",[1]September!$A$5:$BP$52,COLUMN($AM:$AM),FALSE) -> 0 | J21: =SUM(G21:I21) -> 2 | K21: =VLOOKUP($A$2&"*",[1]October!$A$5:$BP$52,COLUMN($AM:$AM),FALSE) -> 0 | L21: =VLOOKUP($A$2&"*",[1]November!$A$5:$BP$52,COLUMN($AM:$AM),FALSE) -> 3 | M21: =VLOOKUP($A$2&"*",[1]December!$A$5:$BP$52,COLUMN($AM:$AM),FALSE) -> 7 | N21: =SUM(K21:M21) -> 10 | O21: 0 | P21: 0 | Q21: 0 | R21: =SUM(O21:Q21) -> 0 | S21: =IF(ISERROR(SUM(F21,J21,N21,R21)),0,SUM(F21,J21,N21,R21)) -> 19
A22: Junior Spoken Word | B22: AN | C22: =VLOOKUP($A$2&"*",[1]April!$A$5:$BP$52,COLUMN($AP:$AP),FALSE) -> 2 | D22: =VLOOKUP($A$2&"*",[1]May!$A$5:$BP$52,COLUMN($AP:$AP),FALSE) -> 4 | E22: =VLOOKUP($A$2&"*",[1]June!$A$5:$BP$52,COLUMN($AP:$AP),FALSE) -> 3 | F22: =SUM(C22:E22) -> 9 | G22: =VLOOKUP($A$2&"*",[1]July!$A$5:$BP$52,COLUMN($AP:$AP),FALSE) -> 2 | H22: =VLOOKUP($A$2&"*",[1]August!$A$5:$BP$52,COLUMN($AP:$AP),FALSE) -> 0 | I22: =VLOOKUP($A$2&"*",[1]September!$A$5:$BP$52,COLUMN($AP:$AP),FALSE) -> 1 | J22: =SUM(G22:I22) -> 3 | K22: =VLOOKUP($A$2&"*",[1]October!$A$5:$BP$52,COLUMN($AP:$AP),FALSE) -> 0 | L22: =VLOOKUP($A$2&"*",[1]November!$A$5:$BP$52,COLUMN($AP:$AP),FALSE) -> 2 | M22: =VLOOKUP($A$2&"*",[1]December!$A$5:$BP$52,COLUMN($AP:$AP),FALSE) -> 2 | N22: =SUM(K22:M22) -> 4 | O22: 0 | P22: 0 | Q22: 0 | R22: =SUM(O22:Q22) -> 0 | S22: =IF(ISERROR(SUM(F22,J22,N22,R22)),0,SUM(F22,J22,N22,R22)) -> 16
A23: DVD & Blu Ray | B23: BI | C23: =VLOOKUP($A$2&"*",[1]April!$A$5:$BP$52,COLUMN($BK:$BK),FALSE) -> 0 | D23: =VLOOKUP($A$2&"*",[1]May!$A$5:$BP$52,COLUMN($BK:$BK),FALSE) -> 4 | E23: =VLOOKUP($A$2&"*",[1]June!$A$5:$BP$52,COLUMN($BK:$BK),FALSE) -> 3 | F23: =SUM(C23:E23) -> 7 | G23: =VLOOKUP($A$2&"*",[1]July!$A$5:$BP$52,COLUMN($BK:$BK),FALSE) -> 2 | H23: =VLOOKUP($A$2&"*",[1]August!$A$5:$BP$52,COLUMN($BK:$BK),FALSE) -> 0 | I23: =VLOOKUP($A$2&"*",[1]September!$A$5:$BP$52,COLUMN($BK:$BK),FALSE) -> 0 | J23: =SUM(G23:I23) -> 2 | K23: =VLOOKUP($A$2&"*",[1]October!$A$5:$BP$52,COLUMN($BK:$BK),FALSE) -> 4 | L23: =VLOOKUP($A$2&"*",[1]November!$A$5:$BP$52,COLUMN($BK:$BK),FALSE) -> 3 | M23: =VLOOKUP($A$2&"*",[1]December!$A$5:$BP$52,COLUMN($BK:$BK),FALSE) -> 1 | N23: =SUM(K23:M23) -> 8 | O23: 0 | P23: 0 | Q23: 0 | R23: =SUM(O23:Q23) -> 0 | S23: =IF(ISERROR(SUM(F23,J23,N23,R23)),0,SUM(F23,J23,N23,R23)) -> 17
A26: Reservations | C26: =VLOOKUP($A$2&"*",[2]Sheet1!$A$4:$B$51,2,FALSE) -> 41 | D26: =VLOOKUP($A$2&"*",[3]Sheet1!$A$4:$C$51,3,FALSE) -> 66 | E26: =VLOOKUP($A$2&"*",[4]Sheet1!$A$4:$D$51,4,FALSE) -> 80 | F26: =SUM(C26:E26) -> 187 | G26: =VLOOKUP($A$2&"*",[5]Sheet1!$A$4:$B$51,2,FALSE) -> 65 | H26: =VLOOKUP($A$2&"*",[6]Sheet1!$A$4:$B$51,2,FALSE) -> 60 | I26: =VLOOKUP($A$2&"*",[7]Sheet1!$A$4:$B$51,2,FALSE) -> 91 | J26: =SUM(G26:I26) -> 216 | K26: =IFERROR(VLOOKUP($A$2&"*",[19]Sheet1!$A$3:$B$51,2,FALSE),0) -> 47 | L26: =VLOOKUP($A$2&"*",[21]Sheet1!$A$4:$B$51,2,FALSE) -> 56 | M26: =VLOOKUP($A$2&"*"& "*",[26]Sheet1!$A$4:$B$51,2,FALSE) -> 32 | N26: =SUM(K26:M26) -> 135 | O26: 0 | P26: 0 | Q26: 0 | R26: =SUM(O26:Q26) -> 0 | S26: =IF(ISERROR(SUM(F26,J26,N26,R26)),0,SUM(F26,J26,N26,R26)) -> 538
A27: Total New Members | C27: =SUM(C28:C29) -> 5 | D27: =SUM(D28:D29) -> 3 | E27: =SUM(E28:E29) -> 7 | F27: =SUM(C27:E27) -> 15 | G27: =SUM(G28:G29) -> 18 | H27: =SUM(H28:H29) -> 5 | I27: =SUM(I28:I29) -> 3 | J27: =SUM(G27:I27) -> 26 | K27: =SUM(K28:K29) -> 16 | L27: =SUM(L28:L29) -> 6 | M27: =SUM(M28:M29) -> 2 | N27: =SUM(K27:M27) -> 24 | O27: 0 | P27: 0 | Q27: 0 | R27: =SUM(O27:Q27) -> 0 | S27: =IF(ISERROR(SUM(F27,J27,N27,R27)),0,SUM(F27,J27,N27,R27)) -> 65
A28: Adult new members | C28: =IFERROR(VLOOKUP($A$2&"*",[8]Sheet1!$A$5:$D$46,3,FALSE),0) -> 2 | D28: =IFERROR(VLOOKUP($A$2&"*",[9]Sheet1!$A$5:$D$46,3,FALSE),0) -> 1 | E28: =IFERROR(VLOOKUP($A$2&"*",[10]Sheet1!$A$4:$D$47,3,FALSE),0) -> 4 | F28: =SUM(C28:E28) -> 7 | G28: =VLOOKUP($A$2&"*",[11]Sheet1!$A$5:$M$49,3,FALSE) -> 2 | H28: =VLOOKUP($A$2&"*",[12]Sheet1!$A$4:$E$48,3,FALSE) -> 1 | I28: =VLOOKUP($A$2&"*",[22]Sheet1!$A$6:$M$50,3,FALSE) -> 1 | J28: =SUM(G28:I28) -> 4 | K28: =IFERROR(VLOOKUP($A$2&"*"&"*",[23]Sheet1!$A$3:$M$51,3,FALSE),0) -> 7 | L28: =IFERROR(VLOOKUP($A$2&"*"&"*",[24]Sheet1!$A$6:$M$50,3,FALSE),0) -> 4 | M28: =IFERROR(VLOOKUP($A$2&"*"&"*",[27]Sheet1!$A$6:$M$50,3,FALSE),0) -> 2 | N28: =SUM(K28:M28) -> 13 | O28: 0 | P28: 0 | Q28: 0 | R28: =SUM(O28:Q28) -> 0 | S28: =IF(ISERROR(SUM(F28,J28,N28,R28)),0,SUM(F28,J28,N28,R28)) -> 24
A29: Junior New Members | C29: =IFERROR(VLOOKUP($A$2&"*",[8]Sheet1!$A$5:$D$46,4,FALSE),0) -> 3 | D29: =IFERROR(VLOOKUP($A$2&"*",[9]Sheet1!$A$5:$D$46,4,FALSE),0) -> 2 | E29: =IFERROR(VLOOKUP($A$2&"*",[10]Sheet1!$A$4:$D$47,4,FALSE),0) -> 3 | F29: =SUM(C29:E29) -> 8 | G29: =VLOOKUP($A$2&"*",[11]Sheet1!$A$5:$M$49,4,FALSE) -> 16 | H29: =VLOOKUP($A$2&"*",[12]Sheet1!$A$4:$E$48,4,FALSE) -> 4 | I29: =VLOOKUP($A$2&"*"&"*",[22]Sheet1!$A$6:$M$50,4,FALSE) -> 2 | J29: =SUM(G29:I29) -> 22 | K29: =IFERROR(VLOOKUP($A$2&"*"&"*"&"*",[23]Sheet1!$A$3:$M$51,4,FALSE),0) -> 9 | L29: =IFERROR(VLOOKUP($A$2&"*"&"*",[24]Sheet1!$A$3:$M$50,4,FALSE),0) -> 2 | M29: =IFERROR(VLOOKUP($A$2&"*"&"*",[27]Sheet1!$A$6:$M$50,4,FALSE),0) -> 0 | N29: =SUM(K29:M29) -> 11 | O29: 0 | P29: 0 | Q29: 0 | R29: =SUM(O29:Q29) -> 0 | S29: =IF(ISERROR(SUM(F29,J29,N29,R29)),0,SUM(F29,J29,N29,R29)) -> 41
A30: Total Active Borrowers | C30: =SUM(C31:C32) -> 670 | D30: =SUM(D31:D32) -> 668 | E30: =SUM(E31:E32) -> 656 | F30: n/a | G30: =SUM(G31:G32) -> 665 | H30: =SUM(H31:H32) -> 654 | I30: =SUM(I31:I32) -> 623 | J30: n/a | K30: =SUM(K31:K32) -> 630 | L30: =SUM(L31:L32) -> 622 | M30: =SUM(M31:M32) -> 620 | N30: n/a | O30: =SUM(O31:O32) -> 0 | P30: =SUM(P31:P32) -> 0 | Q30: =SUM(Q31:Q32) -> 0 | R30: n/a | S30: n/a
A31: Adult Active Borrowers | C31: =VLOOKUP($A$2&"*",[13]Sheet1!$A$3:$D$48,3,FALSE) -> 301 | D31: =VLOOKUP($A$2&"*",[14]Sheet1!$A$3:$D$48,3,FALSE) -> 302 | E31: =VLOOKUP($A$2&"*",[15]Sheet1!$A$3:$D$48,3,FALSE) -> 294 | F31: n/a | G31: =VLOOKUP($A$2&"*",[16]Sheet1!$A$3:$D$48,3,FALSE) -> 290 | H31: =VLOOKUP($A$2&"*",[17]Sheet1!$A$3:$D$48,3,FALSE) -> 282 | I31: =VLOOKUP($A$2&"*",[18]Sheet1!$A$3:$D$48,3,FALSE) -> 276 | J31: n/a | K31: =VLOOKUP($A$2&"*"&"*",[20]Sheet1!$A$4:$D$50,3,FALSE) -> 283 | L31: =VLOOKUP($A$2&"*"&"*"&"*",[25]Sheet1!$A$3:$D$48,3,FALSE) -> 278 | M31: =VLOOKUP($A$2&"*"&"*",[28]Sheet1!$A$3:$D$48,3,FALSE) -> 281 | N31: n/a | O31: 0 | P31: 0 | Q31: 0 | R31: n/a | S31: n/a
A32: Junior Active Borrowers | C32: =VLOOKUP($A$2&"*",[13]Sheet1!$A$3:$D$48,4,FALSE) -> 369 | D32: =VLOOKUP($A$2&"*",[14]Sheet1!$A$3:$D$48,4,FALSE) -> 366 | E32: =VLOOKUP($A$2&"*",[15]Sheet1!$A$3:$D$48,4,FALSE) -> 362 | F32: n/a | G32: =VLOOKUP($A$2&"*",[16]Sheet1!$A$3:$D$48,4,FALSE) -> 375 | H32: =VLOOKUP($A$2&"*",[17]Sheet1!$A$3:$D$48,4,FALSE) -> 372 | I32: =VLOOKUP($A$2&"*",[18]Sheet1!$A$3:$D$48,4,FALSE) -> 347 | J32: n/a | K32: =VLOOKUP($A$2&"*"&"*",[20]Sheet1!$A$4:$D$50,4,FALSE) -> 347 | L32: =VLOOKUP($A$2&"*"&"*"&"*",[25]Sheet1!$A$3:$D$48,4,FALSE) -> 344 | M32: =VLOOKUP($A$2&"*"&"*",[28]Sheet1!$A$3:$D$48,4,FALSE) -> 339 | N32: n/a | O32: 0 | P32: 0 | Q32: 0 | R32: n/a | S32: n/a

Sheet Lookup Lists
A1: Bassingbourn | B1: Total Issues
A2: Bottisham | B2: Total Adult Books
A3: Brampton | B3: Total Junior Books
A4: Clay Farm | B4: Total Book Issues
A5: Fulbourn | B5: Adult Fiction Hardback
A6: Gamlingay | B6: Adult Fiction Paperback
A7: Haddenham | B7: Adult Large Print
A8: Little Downham | B8: Adult Non-Fiction Hardback
A9: Melbourn | B9: Adult Non-Fiction Paperback
A10: Somersham | B10: Junior Fiction
A11: Swavesey | B11: Junior Large Print
A12: Waterbeach | B12: Junior Non-Fiction
B13: Young Adult
B14: Adult Spoken Word
B15: Junior Spoken Word
B16: DVD & Blu Ray
B17: Total Active Borrowers
B18: Adult Active Borrowers
B19: Junior Active Borrowers
B20: Total New Members
B21: Adult New Members
B22: Junior New Members
B23: Reservations
