Workbook
Name Valid_Lottery_Types: Lottery_Types!$A$1:$A$3
Name Valid_Players: Players!$A$2:$A$12
Name Valid_Players_1: Player_Position!$A$6:$A$16

Sheet Player_Position
D1: Player Position
D2: As At
D3: =TODAY() -> 43093
A5: Player | B5: Takeon Balance As At 10/08/2014 | C5: Player Payments Since 10/08/2014 | D5: Paid Back | E5: Sum Of Payments | F5: Apportioned Tickets | G5: Apportioned Winnings | H5: Current Player Kitty
A6: xx | B6: =SUMIF(Players!A$1:A$50000,A6,Players!C$1:C$50000) -> 185.13 | C6: =SUMIF(Payments_In!A$1:A$50003,A6,Payments_In!C$1:C$50003) -> 0 | D6: =SUMIF(Payments_Out!A$1:A$50000,A6,Payments_Out!C$1:C$50000) -> 0 | E6: =B6+C6-D6 -> 185.13 | F6: =SUM(Tickets_Bought!D$2:D$2254)/11 -> 0 | G6: =SUM(Tickets_Bought!E$2:E$50000)/11 -> 0 | H6: =E6-F6+G6 -> 185.13
A7: xx | B7: =SUMIF(Players!A$1:A$50000,A7,Players!C$1:C$50000) -> 185.13 | C7: =SUMIF(Payments_In!A$1:A$50003,A7,Payments_In!C$1:C$50003) -> 0 | D7: =SUMIF(Payments_Out!A$1:A$50000,A7,Payments_Out!C$1:C$50000) -> 0 | E7: =B7+C7-D7 -> 185.13 | F7: =SUM(Tickets_Bought!D$2:D$50000)/11 -> 0 | G7: =SUM(Tickets_Bought!E$2:E$50000)/11 -> 0 | H7: =E7-F7+G7 -> 185.13
A8: xx | B8: =SUMIF(Players!A$1:A$50000,A8,Players!C$1:C$50000) -> 185.13 | C8: =SUMIF(Payments_In!A$1:A$50003,A8,Payments_In!C$1:C$50003) -> 0 | D8: =SUMIF(Payments_Out!A$1:A$50000,A8,Payments_Out!C$1:C$50000) -> 0 | E8: =B8+C8-D8 -> 185.13 | F8: =SUM(Tickets_Bought!D$2:D$50000)/11 -> 0 | G8: =SUM(Tickets_Bought!E$2:E$50000)/11 -> 0 | H8: =E8-F8+G8 -> 185.13
A9: xx | B9: =SUMIF(Players!A$1:A$50000,A9,Players!C$1:C$50000) -> 185.13 | C9: =SUMIF(Payments_In!A$1:A$50003,A9,Payments_In!C$1:C$50003) -> 0 | D9: =SUMIF(Payments_Out!A$1:A$50000,A9,Payments_Out!C$1:C$50000) -> 0 | E9: =B9+C9-D9 -> 185.13 | F9: =SUM(Tickets_Bought!D$2:D$50000)/11 -> 0 | G9: =SUM(Tickets_Bought!E$2:E$50000)/11 -> 0 | H9: =E9-F9+G9 -> 185.13
A10: xx | B10: =SUMIF(Players!A$1:A$50000,A10,Players!C$1:C$50000) -> 185.13 | C10: =SUMIF(Payments_In!A$1:A$50003,A10,Payments_In!C$1:C$50003) -> 0 | D10: =SUMIF(Payments_Out!A$1:A$50000,A10,Payments_Out!C$1:C$50000) -> 0 | E10: =B10+C10-D10 -> 185.13 | F10: =SUM(Tickets_Bought!D$2:D$50000)/11 -> 0 | G10: =SUM(Tickets_Bought!E$2:E$50000)/11 -> 0 | H10: =E10-F10+G10 -> 185.13
A11: xx | B11: =SUMIF(Players!A$1:A$50000,A11,Players!C$1:C$50000) -> 185.13 | C11: =SUMIF(Payments_In!A$1:A$50003,A11,Payments_In!C$1:C$50003) -> 0 | D11: =SUMIF(Payments_Out!A$1:A$50000,A11,Payments_Out!C$1:C$50000) -> 0 | E11: =B11+C11-D11 -> 185.13 | F11: =SUM(Tickets_Bought!D$2:D$50000)/11 -> 0 | G11: =SUM(Tickets_Bought!E$2:E$50000)/11 -> 0 | H11: =E11-F11+G11 -> 185.13
A12: xx | B12: =SUMIF(Players!A$1:A$50000,A12,Players!C$1:C$50000) -> 185.13 | C12: =SUMIF(Payments_In!A$1:A$50003,A12,Payments_In!C$1:C$50003) -> 0 | D12: =SUMIF(Payments_Out!A$1:A$50000,A12,Payments_Out!C$1:C$50000) -> 0 | E12: =B12+C12-D12 -> 185.13 | F12: =SUM(Tickets_Bought!D$2:D$50000)/11 -> 0 | G12: =SUM(Tickets_Bought!E$2:E$50000)/11 -> 0 | H12: =E12-F12+G12 -> 185.13
A13: xx | B13: =SUMIF(Players!A$1:A$50000,A13,Players!C$1:C$50000) -> 185.13 | C13: =SUMIF(Payments_In!A$1:A$50003,A13,Payments_In!C$1:C$50003) -> 0 | D13: =SUMIF(Payments_Out!A$1:A$50000,A13,Payments_Out!C$1:C$50000) -> 0 | E13: =B13+C13-D13 -> 185.13 | F13: =SUM(Tickets_Bought!D$2:D$50000)/11 -> 0 | G13: =SUM(Tickets_Bought!E$2:E$50000)/11 -> 0 | H13: =E13-F13+G13 -> 185.13
A14: xx | B14: =SUMIF(Players!A$1:A$50000,A14,Players!C$1:C$50000) -> 185.13 | C14: =SUMIF(Payments_In!A$1:A$50003,A14,Payments_In!C$1:C$50003) -> 0 | D14: =SUMIF(Payments_Out!A$1:A$50000,A14,Payments_Out!C$1:C$50000) -> 0 | E14: =B14+C14-D14 -> 185.13 | F14: =SUM(Tickets_Bought!D$2:D$50000)/11 -> 0 | G14: =SUM(Tickets_Bought!E$2:E$50000)/11 -> 0 | H14: =E14-F14+G14 -> 185.13
A15: xx | B15: =SUMIF(Players!A$1:A$50000,A15,Players!C$1:C$50000) -> 185.13 | C15: =SUMIF(Payments_In!A$1:A$50003,A15,Payments_In!C$1:C$50003) -> 0 | D15: =SUMIF(Payments_Out!A$1:A$50000,A15,Payments_Out!C$1:C$50000) -> 0 | E15: =B15+C15-D15 -> 185.13 | F15: =SUM(Tickets_Bought!D$2:D$50000)/11 -> 0 | G15: =SUM(Tickets_Bought!E$2:E$50000)/11 -> 0 | H15: =E15-F15+G15 -> 185.13
A16: xx | B16: =SUMIF(Players!A$1:A$50000,A16,Players!C$1:C$50000) -> 185.13 | C16: =SUMIF(Payments_In!A$1:A$50003,A16,Payments_In!C$1:C$50003) -> 0 | D16: =SUMIF(Payments_Out!A$1:A$50000,A16,Payments_Out!C$1:C$50000) -> 0 | E16: =B16+C16-D16 -> 185.13 | F16: =SUM(Tickets_Bought!D$2:D$50000)/11 -> 0 | G16: =SUM(Tickets_Bought!E$2:E$50000)/11 -> 0 | H16: =E16-F16+G16 -> 185.13
G20: Total Kitty | H20: =SUM(H6:H16) -> 2036.43
G21: Kitty less mine | H21: =SUM(H7:H16) -> 1851.3
G22: Win % | H22: =(G6/F6)*100 -> #DIV/0!

Sheet Players
A1: who | B1: payment_type | C1: takeon_balance
A2: xx | B2: E | C2: 87.62
A3: xx | B3: E | C3: 23.09
A4: xx | B4: E | C4: 17.13
A5: xx | B5: E | C5: 24.09
A6: xx | B6: E | C6: 15.08
A7: xx | B7: E | C7: 18.12
A8: xxx | B8: E | C8: 33.12
A9: xxx | B9: E | C9: 15.25
A10: xxx | B10: E | C10: 38.56
A11: xxx | B11: E | C11: 23.12
A12: xxx | B12: E | C12: 9.12

Sheet Payments_In

Sheet Payments_Out
A1: who | B1: date_paid | C1: amount

Sheet Tickets_Bought

Sheet Lottery_Types
A1: W | B1: Wednesday Lotto | C1: 3 | D1: 3
A2: E | B2: EuroMillions | C2: 3 | D2: 6
A3: S | B3: Saturday Lotto | C3: 3 | D3: 3
